BEGIN:VCALENDAR
VERSION:2.0
PRODID:-//Parkinson Skåne - ECPv6.15.20//NONSGML v1.0//EN
CALSCALE:GREGORIAN
METHOD:PUBLISH
X-WR-CALNAME:Parkinson Skåne
X-ORIGINAL-URL:https://parkinsonskane.se
X-WR-CALDESC:Händelser för Parkinson Skåne
REFRESH-INTERVAL;VALUE=DURATION:PT1H
X-Robots-Tag:noindex
X-PUBLISHED-TTL:PT1H
BEGIN:VTIMEZONE
TZID:Europe/Stockholm
BEGIN:DAYLIGHT
TZOFFSETFROM:+0100
TZOFFSETTO:+0200
TZNAME:CEST
DTSTART:20250330T010000
END:DAYLIGHT
BEGIN:STANDARD
TZOFFSETFROM:+0200
TZOFFSETTO:+0100
TZNAME:CET
DTSTART:20251026T010000
END:STANDARD
BEGIN:DAYLIGHT
TZOFFSETFROM:+0100
TZOFFSETTO:+0200
TZNAME:CEST
DTSTART:20260329T010000
END:DAYLIGHT
BEGIN:STANDARD
TZOFFSETFROM:+0200
TZOFFSETTO:+0100
TZNAME:CET
DTSTART:20261025T010000
END:STANDARD
BEGIN:DAYLIGHT
TZOFFSETFROM:+0100
TZOFFSETTO:+0200
TZNAME:CEST
DTSTART:20270328T010000
END:DAYLIGHT
BEGIN:STANDARD
TZOFFSETFROM:+0200
TZOFFSETTO:+0100
TZNAME:CET
DTSTART:20271031T010000
END:STANDARD
END:VTIMEZONE
BEGIN:VEVENT
DTSTART;TZID=Europe/Stockholm:20260622T123000
DTEND;TZID=Europe/Stockholm:20260622T133000
DTSTAMP:20260424T221909
CREATED:20260317T175500Z
LAST-MODIFIED:20260317T175500Z
UID:10012954-1782131400-1782135000@parkinsonskane.se
SUMMARY:Helsingborg har Tryggare Vardag
DESCRIPTION:Träning för att förebygga fall. Fokus ligger på balans\, fallteknik och uppresningsträning. Efter träningen erbjuds fika och gemenskap. \nMåndagar kl. 12.30–13.30\nRingstorpsgården\, Kurirgatan 1\, Helsingborg \nPågår nu och avslutas 25 maj.
URL:https://parkinsonskane.se/evenemang/helsingborg-har-tryggare-vardag-3-2-2-2/2026-06-22/
LOCATION:Ringstorpsgården\, Kurirgatan 1\, Helsingborg\, Skåne\, 254 53\, Sverige
CATEGORIES:Tryggare vardag
ATTACH;FMTTYPE=image/jpeg:https://parkinsonskane.se/wp-content/uploads/2024/03/Hoganas-trygg.jpg
END:VEVENT
END:VCALENDAR