BEGIN:VCALENDAR
VERSION:2.0
PRODID:-//Parkinson Skåne - ECPv6.15.20//NONSGML v1.0//EN
CALSCALE:GREGORIAN
METHOD:PUBLISH
X-ORIGINAL-URL:https://parkinsonskane.se
X-WR-CALDESC:Händelser för Parkinson Skåne
REFRESH-INTERVAL;VALUE=DURATION:PT1H
X-Robots-Tag:noindex
X-PUBLISHED-TTL:PT1H
BEGIN:VTIMEZONE
TZID:Europe/Stockholm
BEGIN:DAYLIGHT
TZOFFSETFROM:+0100
TZOFFSETTO:+0200
TZNAME:CEST
DTSTART:20250330T010000
END:DAYLIGHT
BEGIN:STANDARD
TZOFFSETFROM:+0200
TZOFFSETTO:+0100
TZNAME:CET
DTSTART:20251026T010000
END:STANDARD
BEGIN:DAYLIGHT
TZOFFSETFROM:+0100
TZOFFSETTO:+0200
TZNAME:CEST
DTSTART:20260329T010000
END:DAYLIGHT
BEGIN:STANDARD
TZOFFSETFROM:+0200
TZOFFSETTO:+0100
TZNAME:CET
DTSTART:20261025T010000
END:STANDARD
BEGIN:DAYLIGHT
TZOFFSETFROM:+0100
TZOFFSETTO:+0200
TZNAME:CEST
DTSTART:20270328T010000
END:DAYLIGHT
BEGIN:STANDARD
TZOFFSETFROM:+0200
TZOFFSETTO:+0100
TZNAME:CET
DTSTART:20271031T010000
END:STANDARD
END:VTIMEZONE
BEGIN:VEVENT
DTSTART;TZID=Europe/Stockholm:20260615T180000
DTEND;TZID=Europe/Stockholm:20260615T193000
DTSTAMP:20260425T043919
CREATED:20260114T103557Z
LAST-MODIFIED:20260327T152024Z
UID:10012589-1781546400-1781551800@parkinsonskane.se
SUMMARY:Malmö spelar boule i Pildammsparken
DESCRIPTION:Vårens och sommarens boulespel pågår från den 4 maj till den 28 september. Vi spelar varje måndag kl. 18.00–19.30 i Pildammsparken\, vid hörnet Carl Gustafs väg och Roskildevägen.Välkommen att vara med! \nVid dåligt väder ställer vi in. Ta med egna klot! \n  \n 
URL:https://parkinsonskane.se/evenemang/malmo-spelar-boule-i-pildammsparken-2-2-2-2/2026-06-15/
LOCATION:Pildamsparken boule\, Carl Gustafs väg 23\, Malmö\, Skåne\, 214 21\, Sverige
CATEGORIES:Boule
ATTACH;FMTTYPE=image/jpeg:https://parkinsonskane.se/wp-content/uploads/2023/09/boule-malmo-pild.jpg
END:VEVENT
BEGIN:VEVENT
DTSTART;TZID=Europe/Stockholm:20260617T110000
DTEND;TZID=Europe/Stockholm:20260617T120000
DTSTAMP:20260425T043919
CREATED:20260313T124858Z
LAST-MODIFIED:20260313T124858Z
UID:10012760-1781694000-1781697600@parkinsonskane.se
SUMMARY:Lund har Mera liv och Tryggare vardag
DESCRIPTION:Mera liv anordnar funktionell träning där vi rör oss och har roligt tillsammans. Träningen varvar lugna och stillsamma övningar med sköna rörelser till musik samt balans- och fallteknik. Övningarna anpassas så att de fungerar både sittande och stående. \nTid: Onsdagar kl. 11.00–12.00\, varje vecka från 4 februari till 17 juni\nPlats: Annegården\, Skansvägen 5\, Lund \nAnmälan: Ingen anmälan behövs. \nKostnad: 25 kr per gång och person. Betalas kontant eller via Swish till instruktören. \nKontakt: Vid frågor eller för mer information\, kontakta Ulf Brandt via e-post uffe64@hotmail.com\neller SMS 070-436 94 24.
URL:https://parkinsonskane.se/evenemang/lund-har-mera-liv-och-tryggare-vardag-2-2/2026-06-17/
LOCATION:Annegården\, Skansvägen 5\, Lund\, Skåne
CATEGORIES:Mera LIV
ATTACH;FMTTYPE=image/jpeg:https://parkinsonskane.se/wp-content/uploads/2024/08/dans.jpg
GEO:55.7295159;13.1942677
X-APPLE-STRUCTURED-LOCATION;VALUE=URI;X-ADDRESS=Annegården Skansvägen 5 Lund Skåne;X-APPLE-RADIUS=500;X-TITLE=Skansvägen 5:geo:13.1942677,55.7295159
END:VEVENT
BEGIN:VEVENT
DTSTART;TZID=Europe/Stockholm:20260617T180000
DTEND;TZID=Europe/Stockholm:20260617T184500
DTSTAMP:20260425T043919
CREATED:20260418T114122Z
LAST-MODIFIED:20260418T114123Z
UID:10012442-1781719200-1781721900@parkinsonskane.se
SUMMARY:Malmö har boxning
DESCRIPTION:Boxningen hålls på 360 Functional Fitness på Lundavägen 60 i Malmö. Vi tränar onsdagar kl. 18.00–18.45\, med start 7 januari 2026 och sista tillfället 24 juni 2026. \nPlats: 360 Functional Fitness\, Lundavägen 60\, Malmö\nTid: Onsdagar kl. 18.00–18.45 (7 januari–24 juni 2026) \nAvgift: Egenavgiften för boxningen är 150 kr. Den betalas till Parkinson Malmö när du bestämt dig för att delta.\nBankgiro: 655-6930\nSwish: 123 623 86 46 \nAvgiften inkluderar även alla föreningens övriga aktiviteter. \nAnmälan/intresse: mejla malmo@parkinsonskane.se\nom du vill vara med. Du kan prova på vid första tillfället innan du bestämmer dig.
URL:https://parkinsonskane.se/evenemang/malmo-har-boxning-4-2-2-2-2-2/2026-06-17/
LOCATION:360 Functional Fitness\, Lundavägen 60\, Malmö\, 212 25
CATEGORIES:Boxträning
ATTACH;FMTTYPE=image/jpeg:https://parkinsonskane.se/wp-content/uploads/2025/09/malmo-box.jpg
END:VEVENT
BEGIN:VEVENT
DTSTART;TZID=Europe/Stockholm:20260618T110000
DTEND;TZID=Europe/Stockholm:20260618T120000
DTSTAMP:20260425T043919
CREATED:20260317T175608Z
LAST-MODIFIED:20260317T175608Z
UID:10012934-1781780400-1781784000@parkinsonskane.se
SUMMARY:Helsingborg har boxning på torsdagar
DESCRIPTION:Boxningsträning anpassad för personer med Parkinson. Träningen hålls i Idrottens Hus – följ skyltar med “Boxning”. Efter passet finns möjlighet till gemensam fika. \nMåndagar och torsdagar kl. 11.00–12.00\, t o m 25/6\nIdrottens Hus\, Mellersta Stenbocksgatan 10\, Helsingborg \nKlädsel: gympakläder och gympaskor.\nUtrustning finns att låna på plats. \nVälkomna!
URL:https://parkinsonskane.se/evenemang/helsingborg-har-boxning-pa-torsdagar-4-2-2-2/2026-06-18/
LOCATION:Idrottens hus Helsingborg\, Mellersta Stenbocksgatan 10\, Helsingborg\, 254 37
CATEGORIES:Boxträning
ATTACH;FMTTYPE=image/jpeg:https://parkinsonskane.se/wp-content/uploads/2022/11/boxning_helsingborg.jpg
END:VEVENT
BEGIN:VEVENT
DTSTART;TZID=Europe/Stockholm:20260622T110000
DTEND;TZID=Europe/Stockholm:20260622T120000
DTSTAMP:20260425T043919
CREATED:20260317T175541Z
LAST-MODIFIED:20260317T175541Z
UID:10012897-1782126000-1782129600@parkinsonskane.se
SUMMARY:Helsingborg har boxning på måndagar
DESCRIPTION:Boxningsträning anpassad för personer med Parkinson. Träningen hålls i Idrottens Hus – följ skyltar med “Boxning”. Efter passet finns möjlighet till gemensam fika. \nMåndagar och torsdagar kl. 11.00–12.00\, t o m 25/6\nIdrottens Hus\, Mellersta Stenbocksgatan 10\, Helsingborg \nKlädsel: gympakläder och gympaskor.\nUtrustning finns att låna på plats. \nVälkomna!
URL:https://parkinsonskane.se/evenemang/helsingborg-har-boxning-pa-mandagar-3-2-2-2-2/2026-06-22/
LOCATION:Idrottens hus Helsingborg\, Mellersta Stenbocksgatan 10\, Helsingborg\, 254 37
CATEGORIES:Boxträning
ATTACH;FMTTYPE=image/jpeg:https://parkinsonskane.se/wp-content/uploads/2022/11/boxning_helsingborg.jpg
END:VEVENT
BEGIN:VEVENT
DTSTART;TZID=Europe/Stockholm:20260622T123000
DTEND;TZID=Europe/Stockholm:20260622T133000
DTSTAMP:20260425T043919
CREATED:20260317T175500Z
LAST-MODIFIED:20260317T175500Z
UID:10012954-1782131400-1782135000@parkinsonskane.se
SUMMARY:Helsingborg har Tryggare Vardag
DESCRIPTION:Träning för att förebygga fall. Fokus ligger på balans\, fallteknik och uppresningsträning. Efter träningen erbjuds fika och gemenskap. \nMåndagar kl. 12.30–13.30\nRingstorpsgården\, Kurirgatan 1\, Helsingborg \nPågår nu och avslutas 25 maj.
URL:https://parkinsonskane.se/evenemang/helsingborg-har-tryggare-vardag-3-2-2-2/2026-06-22/
LOCATION:Ringstorpsgården\, Kurirgatan 1\, Helsingborg\, Skåne\, 254 53\, Sverige
CATEGORIES:Tryggare vardag
ATTACH;FMTTYPE=image/jpeg:https://parkinsonskane.se/wp-content/uploads/2024/03/Hoganas-trygg.jpg
END:VEVENT
BEGIN:VEVENT
DTSTART;TZID=Europe/Stockholm:20260622T180000
DTEND;TZID=Europe/Stockholm:20260622T193000
DTSTAMP:20260425T043919
CREATED:20260114T103557Z
LAST-MODIFIED:20260327T152024Z
UID:10012590-1782151200-1782156600@parkinsonskane.se
SUMMARY:Malmö spelar boule i Pildammsparken
DESCRIPTION:Vårens och sommarens boulespel pågår från den 4 maj till den 28 september. Vi spelar varje måndag kl. 18.00–19.30 i Pildammsparken\, vid hörnet Carl Gustafs väg och Roskildevägen.Välkommen att vara med! \nVid dåligt väder ställer vi in. Ta med egna klot! \n  \n 
URL:https://parkinsonskane.se/evenemang/malmo-spelar-boule-i-pildammsparken-2-2-2-2/2026-06-22/
LOCATION:Pildamsparken boule\, Carl Gustafs väg 23\, Malmö\, Skåne\, 214 21\, Sverige
CATEGORIES:Boule
ATTACH;FMTTYPE=image/jpeg:https://parkinsonskane.se/wp-content/uploads/2023/09/boule-malmo-pild.jpg
END:VEVENT
BEGIN:VEVENT
DTSTART;TZID=Europe/Stockholm:20260624T180000
DTEND;TZID=Europe/Stockholm:20260624T184500
DTSTAMP:20260425T043919
CREATED:20260418T114122Z
LAST-MODIFIED:20260418T114123Z
UID:10012443-1782324000-1782326700@parkinsonskane.se
SUMMARY:Malmö har boxning
DESCRIPTION:Boxningen hålls på 360 Functional Fitness på Lundavägen 60 i Malmö. Vi tränar onsdagar kl. 18.00–18.45\, med start 7 januari 2026 och sista tillfället 24 juni 2026. \nPlats: 360 Functional Fitness\, Lundavägen 60\, Malmö\nTid: Onsdagar kl. 18.00–18.45 (7 januari–24 juni 2026) \nAvgift: Egenavgiften för boxningen är 150 kr. Den betalas till Parkinson Malmö när du bestämt dig för att delta.\nBankgiro: 655-6930\nSwish: 123 623 86 46 \nAvgiften inkluderar även alla föreningens övriga aktiviteter. \nAnmälan/intresse: mejla malmo@parkinsonskane.se\nom du vill vara med. Du kan prova på vid första tillfället innan du bestämmer dig.
URL:https://parkinsonskane.se/evenemang/malmo-har-boxning-4-2-2-2-2-2/2026-06-24/
LOCATION:360 Functional Fitness\, Lundavägen 60\, Malmö\, 212 25
CATEGORIES:Boxträning
ATTACH;FMTTYPE=image/jpeg:https://parkinsonskane.se/wp-content/uploads/2025/09/malmo-box.jpg
END:VEVENT
BEGIN:VEVENT
DTSTART;TZID=Europe/Stockholm:20260625T110000
DTEND;TZID=Europe/Stockholm:20260625T120000
DTSTAMP:20260425T043919
CREATED:20260317T175608Z
LAST-MODIFIED:20260317T175608Z
UID:10012935-1782385200-1782388800@parkinsonskane.se
SUMMARY:Helsingborg har boxning på torsdagar
DESCRIPTION:Boxningsträning anpassad för personer med Parkinson. Träningen hålls i Idrottens Hus – följ skyltar med “Boxning”. Efter passet finns möjlighet till gemensam fika. \nMåndagar och torsdagar kl. 11.00–12.00\, t o m 25/6\nIdrottens Hus\, Mellersta Stenbocksgatan 10\, Helsingborg \nKlädsel: gympakläder och gympaskor.\nUtrustning finns att låna på plats. \nVälkomna!
URL:https://parkinsonskane.se/evenemang/helsingborg-har-boxning-pa-torsdagar-4-2-2-2/2026-06-25/
LOCATION:Idrottens hus Helsingborg\, Mellersta Stenbocksgatan 10\, Helsingborg\, 254 37
CATEGORIES:Boxträning
ATTACH;FMTTYPE=image/jpeg:https://parkinsonskane.se/wp-content/uploads/2022/11/boxning_helsingborg.jpg
END:VEVENT
BEGIN:VEVENT
DTSTART;TZID=Europe/Stockholm:20260629T180000
DTEND;TZID=Europe/Stockholm:20260629T193000
DTSTAMP:20260425T043919
CREATED:20260114T103557Z
LAST-MODIFIED:20260327T152024Z
UID:10012591-1782756000-1782761400@parkinsonskane.se
SUMMARY:Malmö spelar boule i Pildammsparken
DESCRIPTION:Vårens och sommarens boulespel pågår från den 4 maj till den 28 september. Vi spelar varje måndag kl. 18.00–19.30 i Pildammsparken\, vid hörnet Carl Gustafs väg och Roskildevägen.Välkommen att vara med! \nVid dåligt väder ställer vi in. Ta med egna klot! \n  \n 
URL:https://parkinsonskane.se/evenemang/malmo-spelar-boule-i-pildammsparken-2-2-2-2/2026-06-29/
LOCATION:Pildamsparken boule\, Carl Gustafs väg 23\, Malmö\, Skåne\, 214 21\, Sverige
CATEGORIES:Boule
ATTACH;FMTTYPE=image/jpeg:https://parkinsonskane.se/wp-content/uploads/2023/09/boule-malmo-pild.jpg
END:VEVENT
BEGIN:VEVENT
DTSTART;TZID=Europe/Stockholm:20260630T120000
DTEND;TZID=Europe/Stockholm:20260630T140000
DTSTAMP:20260425T043919
CREATED:20260317T180934Z
LAST-MODIFIED:20260317T180934Z
UID:10012992-1782820800-1782828000@parkinsonskane.se
SUMMARY:Helsingborg har samtalsgrupper – Parkinson och anhöriga
DESCRIPTION:Välkommen till våra samtalsgrupper för både Parkinsonsjuka och anhöriga. Nya deltagare är varmt välkomna. \nDatum och tid:\n17 mars kl. 15 – Kurirgatan 1\n14 april kl. 15 – Kurirgatan 1\n27 maj kl. 15 – Kurirgatan 1\n30 juni kl. 12 – utomhus (plats meddelas senare) \nVi fikar efter varje träff\, utom den 30 juni då vi avslutar med gemensam lunch. \n 
URL:https://parkinsonskane.se/evenemang/helsingborg-har-samtalsgrupper-parkinson-och-anhoriga/2026-06-30/
LOCATION:Kurirgatan 1\, Kurirgatan 1\, Helsingborg\, Skåne\, 254 53\, Sverige
CATEGORIES:Samtalsgrupper
ATTACH;FMTTYPE=image/jpeg:https://parkinsonskane.se/wp-content/uploads/2023/01/samtal-moln.jpg
END:VEVENT
BEGIN:VEVENT
DTSTART;TZID=Europe/Stockholm:20260706T180000
DTEND;TZID=Europe/Stockholm:20260706T193000
DTSTAMP:20260425T043919
CREATED:20260114T103557Z
LAST-MODIFIED:20260327T152024Z
UID:10012592-1783360800-1783366200@parkinsonskane.se
SUMMARY:Malmö spelar boule i Pildammsparken
DESCRIPTION:Vårens och sommarens boulespel pågår från den 4 maj till den 28 september. Vi spelar varje måndag kl. 18.00–19.30 i Pildammsparken\, vid hörnet Carl Gustafs väg och Roskildevägen.Välkommen att vara med! \nVid dåligt väder ställer vi in. Ta med egna klot! \n  \n 
URL:https://parkinsonskane.se/evenemang/malmo-spelar-boule-i-pildammsparken-2-2-2-2/2026-07-06/
LOCATION:Pildamsparken boule\, Carl Gustafs väg 23\, Malmö\, Skåne\, 214 21\, Sverige
CATEGORIES:Boule
ATTACH;FMTTYPE=image/jpeg:https://parkinsonskane.se/wp-content/uploads/2023/09/boule-malmo-pild.jpg
END:VEVENT
BEGIN:VEVENT
DTSTART;TZID=Europe/Stockholm:20260713T180000
DTEND;TZID=Europe/Stockholm:20260713T193000
DTSTAMP:20260425T043919
CREATED:20260114T103557Z
LAST-MODIFIED:20260327T152024Z
UID:10012593-1783965600-1783971000@parkinsonskane.se
SUMMARY:Malmö spelar boule i Pildammsparken
DESCRIPTION:Vårens och sommarens boulespel pågår från den 4 maj till den 28 september. Vi spelar varje måndag kl. 18.00–19.30 i Pildammsparken\, vid hörnet Carl Gustafs väg och Roskildevägen.Välkommen att vara med! \nVid dåligt väder ställer vi in. Ta med egna klot! \n  \n 
URL:https://parkinsonskane.se/evenemang/malmo-spelar-boule-i-pildammsparken-2-2-2-2/2026-07-13/
LOCATION:Pildamsparken boule\, Carl Gustafs väg 23\, Malmö\, Skåne\, 214 21\, Sverige
CATEGORIES:Boule
ATTACH;FMTTYPE=image/jpeg:https://parkinsonskane.se/wp-content/uploads/2023/09/boule-malmo-pild.jpg
END:VEVENT
BEGIN:VEVENT
DTSTART;TZID=Europe/Stockholm:20260720T180000
DTEND;TZID=Europe/Stockholm:20260720T193000
DTSTAMP:20260425T043919
CREATED:20260114T103557Z
LAST-MODIFIED:20260327T152024Z
UID:10012594-1784570400-1784575800@parkinsonskane.se
SUMMARY:Malmö spelar boule i Pildammsparken
DESCRIPTION:Vårens och sommarens boulespel pågår från den 4 maj till den 28 september. Vi spelar varje måndag kl. 18.00–19.30 i Pildammsparken\, vid hörnet Carl Gustafs väg och Roskildevägen.Välkommen att vara med! \nVid dåligt väder ställer vi in. Ta med egna klot! \n  \n 
URL:https://parkinsonskane.se/evenemang/malmo-spelar-boule-i-pildammsparken-2-2-2-2/2026-07-20/
LOCATION:Pildamsparken boule\, Carl Gustafs väg 23\, Malmö\, Skåne\, 214 21\, Sverige
CATEGORIES:Boule
ATTACH;FMTTYPE=image/jpeg:https://parkinsonskane.se/wp-content/uploads/2023/09/boule-malmo-pild.jpg
END:VEVENT
BEGIN:VEVENT
DTSTART;TZID=Europe/Stockholm:20260727T180000
DTEND;TZID=Europe/Stockholm:20260727T193000
DTSTAMP:20260425T043919
CREATED:20260114T103557Z
LAST-MODIFIED:20260327T152024Z
UID:10012595-1785175200-1785180600@parkinsonskane.se
SUMMARY:Malmö spelar boule i Pildammsparken
DESCRIPTION:Vårens och sommarens boulespel pågår från den 4 maj till den 28 september. Vi spelar varje måndag kl. 18.00–19.30 i Pildammsparken\, vid hörnet Carl Gustafs väg och Roskildevägen.Välkommen att vara med! \nVid dåligt väder ställer vi in. Ta med egna klot! \n  \n 
URL:https://parkinsonskane.se/evenemang/malmo-spelar-boule-i-pildammsparken-2-2-2-2/2026-07-27/
LOCATION:Pildamsparken boule\, Carl Gustafs väg 23\, Malmö\, Skåne\, 214 21\, Sverige
CATEGORIES:Boule
ATTACH;FMTTYPE=image/jpeg:https://parkinsonskane.se/wp-content/uploads/2023/09/boule-malmo-pild.jpg
END:VEVENT
BEGIN:VEVENT
DTSTART;TZID=Europe/Stockholm:20260803T180000
DTEND;TZID=Europe/Stockholm:20260803T193000
DTSTAMP:20260425T043919
CREATED:20260114T103557Z
LAST-MODIFIED:20260327T152024Z
UID:10012596-1785780000-1785785400@parkinsonskane.se
SUMMARY:Malmö spelar boule i Pildammsparken
DESCRIPTION:Vårens och sommarens boulespel pågår från den 4 maj till den 28 september. Vi spelar varje måndag kl. 18.00–19.30 i Pildammsparken\, vid hörnet Carl Gustafs väg och Roskildevägen.Välkommen att vara med! \nVid dåligt väder ställer vi in. Ta med egna klot! \n  \n 
URL:https://parkinsonskane.se/evenemang/malmo-spelar-boule-i-pildammsparken-2-2-2-2/2026-08-03/
LOCATION:Pildamsparken boule\, Carl Gustafs väg 23\, Malmö\, Skåne\, 214 21\, Sverige
CATEGORIES:Boule
ATTACH;FMTTYPE=image/jpeg:https://parkinsonskane.se/wp-content/uploads/2023/09/boule-malmo-pild.jpg
END:VEVENT
BEGIN:VEVENT
DTSTART;TZID=Europe/Stockholm:20260810T180000
DTEND;TZID=Europe/Stockholm:20260810T193000
DTSTAMP:20260425T043919
CREATED:20260114T103557Z
LAST-MODIFIED:20260327T152024Z
UID:10012597-1786384800-1786390200@parkinsonskane.se
SUMMARY:Malmö spelar boule i Pildammsparken
DESCRIPTION:Vårens och sommarens boulespel pågår från den 4 maj till den 28 september. Vi spelar varje måndag kl. 18.00–19.30 i Pildammsparken\, vid hörnet Carl Gustafs väg och Roskildevägen.Välkommen att vara med! \nVid dåligt väder ställer vi in. Ta med egna klot! \n  \n 
URL:https://parkinsonskane.se/evenemang/malmo-spelar-boule-i-pildammsparken-2-2-2-2/2026-08-10/
LOCATION:Pildamsparken boule\, Carl Gustafs väg 23\, Malmö\, Skåne\, 214 21\, Sverige
CATEGORIES:Boule
ATTACH;FMTTYPE=image/jpeg:https://parkinsonskane.se/wp-content/uploads/2023/09/boule-malmo-pild.jpg
END:VEVENT
BEGIN:VEVENT
DTSTART;TZID=Europe/Stockholm:20260817T180000
DTEND;TZID=Europe/Stockholm:20260817T193000
DTSTAMP:20260425T043919
CREATED:20260114T103557Z
LAST-MODIFIED:20260327T152024Z
UID:10012598-1786989600-1786995000@parkinsonskane.se
SUMMARY:Malmö spelar boule i Pildammsparken
DESCRIPTION:Vårens och sommarens boulespel pågår från den 4 maj till den 28 september. Vi spelar varje måndag kl. 18.00–19.30 i Pildammsparken\, vid hörnet Carl Gustafs väg och Roskildevägen.Välkommen att vara med! \nVid dåligt väder ställer vi in. Ta med egna klot! \n  \n 
URL:https://parkinsonskane.se/evenemang/malmo-spelar-boule-i-pildammsparken-2-2-2-2/2026-08-17/
LOCATION:Pildamsparken boule\, Carl Gustafs väg 23\, Malmö\, Skåne\, 214 21\, Sverige
CATEGORIES:Boule
ATTACH;FMTTYPE=image/jpeg:https://parkinsonskane.se/wp-content/uploads/2023/09/boule-malmo-pild.jpg
END:VEVENT
BEGIN:VEVENT
DTSTART;TZID=Europe/Stockholm:20260824T180000
DTEND;TZID=Europe/Stockholm:20260824T193000
DTSTAMP:20260425T043919
CREATED:20260114T103557Z
LAST-MODIFIED:20260327T152024Z
UID:10012599-1787594400-1787599800@parkinsonskane.se
SUMMARY:Malmö spelar boule i Pildammsparken
DESCRIPTION:Vårens och sommarens boulespel pågår från den 4 maj till den 28 september. Vi spelar varje måndag kl. 18.00–19.30 i Pildammsparken\, vid hörnet Carl Gustafs väg och Roskildevägen.Välkommen att vara med! \nVid dåligt väder ställer vi in. Ta med egna klot! \n  \n 
URL:https://parkinsonskane.se/evenemang/malmo-spelar-boule-i-pildammsparken-2-2-2-2/2026-08-24/
LOCATION:Pildamsparken boule\, Carl Gustafs väg 23\, Malmö\, Skåne\, 214 21\, Sverige
CATEGORIES:Boule
ATTACH;FMTTYPE=image/jpeg:https://parkinsonskane.se/wp-content/uploads/2023/09/boule-malmo-pild.jpg
END:VEVENT
BEGIN:VEVENT
DTSTART;TZID=Europe/Stockholm:20260831T180000
DTEND;TZID=Europe/Stockholm:20260831T193000
DTSTAMP:20260425T043919
CREATED:20260114T103557Z
LAST-MODIFIED:20260327T152024Z
UID:10012600-1788199200-1788204600@parkinsonskane.se
SUMMARY:Malmö spelar boule i Pildammsparken
DESCRIPTION:Vårens och sommarens boulespel pågår från den 4 maj till den 28 september. Vi spelar varje måndag kl. 18.00–19.30 i Pildammsparken\, vid hörnet Carl Gustafs väg och Roskildevägen.Välkommen att vara med! \nVid dåligt väder ställer vi in. Ta med egna klot! \n  \n 
URL:https://parkinsonskane.se/evenemang/malmo-spelar-boule-i-pildammsparken-2-2-2-2/2026-08-31/
LOCATION:Pildamsparken boule\, Carl Gustafs väg 23\, Malmö\, Skåne\, 214 21\, Sverige
CATEGORIES:Boule
ATTACH;FMTTYPE=image/jpeg:https://parkinsonskane.se/wp-content/uploads/2023/09/boule-malmo-pild.jpg
END:VEVENT
BEGIN:VEVENT
DTSTART;TZID=Europe/Stockholm:20260907T180000
DTEND;TZID=Europe/Stockholm:20260907T193000
DTSTAMP:20260425T043919
CREATED:20260114T103557Z
LAST-MODIFIED:20260327T152024Z
UID:10012601-1788804000-1788809400@parkinsonskane.se
SUMMARY:Malmö spelar boule i Pildammsparken
DESCRIPTION:Vårens och sommarens boulespel pågår från den 4 maj till den 28 september. Vi spelar varje måndag kl. 18.00–19.30 i Pildammsparken\, vid hörnet Carl Gustafs väg och Roskildevägen.Välkommen att vara med! \nVid dåligt väder ställer vi in. Ta med egna klot! \n  \n 
URL:https://parkinsonskane.se/evenemang/malmo-spelar-boule-i-pildammsparken-2-2-2-2/2026-09-07/
LOCATION:Pildamsparken boule\, Carl Gustafs väg 23\, Malmö\, Skåne\, 214 21\, Sverige
CATEGORIES:Boule
ATTACH;FMTTYPE=image/jpeg:https://parkinsonskane.se/wp-content/uploads/2023/09/boule-malmo-pild.jpg
END:VEVENT
BEGIN:VEVENT
DTSTART;TZID=Europe/Stockholm:20260914T130000
DTEND;TZID=Europe/Stockholm:20260914T140000
DTSTAMP:20260425T043919
CREATED:20260327T151119Z
LAST-MODIFIED:20260327T151432Z
UID:10012835-1789390800-1789394400@parkinsonskane.se
SUMMARY:Hässleholm har samtalsgrupper
DESCRIPTION:Föreningen erbjuder samtalsgrupper som ger möjlighet till gemenskap\, erfarenhetsutbyte och samtal i en trygg miljö. Det finns en grupp för personer med Parkinsons sjukdom och en separat grupp för anhöriga. Efter samtalet fikar vi tillsammans. \nLedare:\n– Samtalsgrupp för Parkinsonsjuka: Anne Fagerqvist\n– Samtalsgrupp för anhöriga: Birgitta och Eva P. \nTill anhöriggruppen den 23/4 kommer kommunens anhörigkonsulent. \nPlats: Senioren\nTid: Måndagar kl. 13.00–14.30\nDatum: 23/2\, 23/3\, 23/4\, 14/9\, 19/10 och 16/11 \nAnmälan:\nIngen föranmälan behövs.
URL:https://parkinsonskane.se/evenemang/hassleholm-har-samtalsgrupper-5-2-2/2026-09-14/
LOCATION:Senioren Hässleholm\, Tingshusgatan 2\, Hässleholm\, Skåne\, 281 31\, Sverige
CATEGORIES:Samtalsgrupper
ATTACH;FMTTYPE=image/jpeg:https://parkinsonskane.se/wp-content/uploads/2024/05/balloons-tal1.jpg
END:VEVENT
BEGIN:VEVENT
DTSTART;TZID=Europe/Stockholm:20260914T180000
DTEND;TZID=Europe/Stockholm:20260914T193000
DTSTAMP:20260425T043919
CREATED:20260114T103557Z
LAST-MODIFIED:20260327T152024Z
UID:10012602-1789408800-1789414200@parkinsonskane.se
SUMMARY:Malmö spelar boule i Pildammsparken
DESCRIPTION:Vårens och sommarens boulespel pågår från den 4 maj till den 28 september. Vi spelar varje måndag kl. 18.00–19.30 i Pildammsparken\, vid hörnet Carl Gustafs väg och Roskildevägen.Välkommen att vara med! \nVid dåligt väder ställer vi in. Ta med egna klot! \n  \n 
URL:https://parkinsonskane.se/evenemang/malmo-spelar-boule-i-pildammsparken-2-2-2-2/2026-09-14/
LOCATION:Pildamsparken boule\, Carl Gustafs väg 23\, Malmö\, Skåne\, 214 21\, Sverige
CATEGORIES:Boule
ATTACH;FMTTYPE=image/jpeg:https://parkinsonskane.se/wp-content/uploads/2023/09/boule-malmo-pild.jpg
END:VEVENT
BEGIN:VEVENT
DTSTART;TZID=Europe/Stockholm:20260921T180000
DTEND;TZID=Europe/Stockholm:20260921T193000
DTSTAMP:20260425T043919
CREATED:20260114T103557Z
LAST-MODIFIED:20260327T152024Z
UID:10012603-1790013600-1790019000@parkinsonskane.se
SUMMARY:Malmö spelar boule i Pildammsparken
DESCRIPTION:Vårens och sommarens boulespel pågår från den 4 maj till den 28 september. Vi spelar varje måndag kl. 18.00–19.30 i Pildammsparken\, vid hörnet Carl Gustafs väg och Roskildevägen.Välkommen att vara med! \nVid dåligt väder ställer vi in. Ta med egna klot! \n  \n 
URL:https://parkinsonskane.se/evenemang/malmo-spelar-boule-i-pildammsparken-2-2-2-2/2026-09-21/
LOCATION:Pildamsparken boule\, Carl Gustafs väg 23\, Malmö\, Skåne\, 214 21\, Sverige
CATEGORIES:Boule
ATTACH;FMTTYPE=image/jpeg:https://parkinsonskane.se/wp-content/uploads/2023/09/boule-malmo-pild.jpg
END:VEVENT
BEGIN:VEVENT
DTSTART;TZID=Europe/Stockholm:20260928T180000
DTEND;TZID=Europe/Stockholm:20260928T193000
DTSTAMP:20260425T043919
CREATED:20260114T103557Z
LAST-MODIFIED:20260327T152024Z
UID:10012604-1790618400-1790623800@parkinsonskane.se
SUMMARY:Malmö spelar boule i Pildammsparken
DESCRIPTION:Vårens och sommarens boulespel pågår från den 4 maj till den 28 september. Vi spelar varje måndag kl. 18.00–19.30 i Pildammsparken\, vid hörnet Carl Gustafs väg och Roskildevägen.Välkommen att vara med! \nVid dåligt väder ställer vi in. Ta med egna klot! \n  \n 
URL:https://parkinsonskane.se/evenemang/malmo-spelar-boule-i-pildammsparken-2-2-2-2/2026-09-28/
LOCATION:Pildamsparken boule\, Carl Gustafs väg 23\, Malmö\, Skåne\, 214 21\, Sverige
CATEGORIES:Boule
ATTACH;FMTTYPE=image/jpeg:https://parkinsonskane.se/wp-content/uploads/2023/09/boule-malmo-pild.jpg
END:VEVENT
BEGIN:VEVENT
DTSTART;TZID=Europe/Stockholm:20261016T130000
DTEND;TZID=Europe/Stockholm:20261016T140000
DTSTAMP:20260425T043919
CREATED:20260327T151119Z
LAST-MODIFIED:20260327T151432Z
UID:10012836-1792155600-1792159200@parkinsonskane.se
SUMMARY:Hässleholm har samtalsgrupper
DESCRIPTION:Föreningen erbjuder samtalsgrupper som ger möjlighet till gemenskap\, erfarenhetsutbyte och samtal i en trygg miljö. Det finns en grupp för personer med Parkinsons sjukdom och en separat grupp för anhöriga. Efter samtalet fikar vi tillsammans. \nLedare:\n– Samtalsgrupp för Parkinsonsjuka: Anne Fagerqvist\n– Samtalsgrupp för anhöriga: Birgitta och Eva P. \nTill anhöriggruppen den 23/4 kommer kommunens anhörigkonsulent. \nPlats: Senioren\nTid: Måndagar kl. 13.00–14.30\nDatum: 23/2\, 23/3\, 23/4\, 14/9\, 19/10 och 16/11 \nAnmälan:\nIngen föranmälan behövs.
URL:https://parkinsonskane.se/evenemang/hassleholm-har-samtalsgrupper-5-2-2/2026-10-16/
LOCATION:Senioren Hässleholm\, Tingshusgatan 2\, Hässleholm\, Skåne\, 281 31\, Sverige
CATEGORIES:Samtalsgrupper
ATTACH;FMTTYPE=image/jpeg:https://parkinsonskane.se/wp-content/uploads/2024/05/balloons-tal1.jpg
END:VEVENT
BEGIN:VEVENT
DTSTART;TZID=Europe/Stockholm:20261116T130000
DTEND;TZID=Europe/Stockholm:20261116T140000
DTSTAMP:20260425T043919
CREATED:20260327T151119Z
LAST-MODIFIED:20260327T151432Z
UID:10012837-1794834000-1794837600@parkinsonskane.se
SUMMARY:Hässleholm har samtalsgrupper
DESCRIPTION:Föreningen erbjuder samtalsgrupper som ger möjlighet till gemenskap\, erfarenhetsutbyte och samtal i en trygg miljö. Det finns en grupp för personer med Parkinsons sjukdom och en separat grupp för anhöriga. Efter samtalet fikar vi tillsammans. \nLedare:\n– Samtalsgrupp för Parkinsonsjuka: Anne Fagerqvist\n– Samtalsgrupp för anhöriga: Birgitta och Eva P. \nTill anhöriggruppen den 23/4 kommer kommunens anhörigkonsulent. \nPlats: Senioren\nTid: Måndagar kl. 13.00–14.30\nDatum: 23/2\, 23/3\, 23/4\, 14/9\, 19/10 och 16/11 \nAnmälan:\nIngen föranmälan behövs.
URL:https://parkinsonskane.se/evenemang/hassleholm-har-samtalsgrupper-5-2-2/2026-11-16/
LOCATION:Senioren Hässleholm\, Tingshusgatan 2\, Hässleholm\, Skåne\, 281 31\, Sverige
CATEGORIES:Samtalsgrupper
ATTACH;FMTTYPE=image/jpeg:https://parkinsonskane.se/wp-content/uploads/2024/05/balloons-tal1.jpg
END:VEVENT
END:VCALENDAR