BEGIN:VCALENDAR
VERSION:2.0
PRODID:-//Parkinson Skåne - ECPv6.15.20//NONSGML v1.0//EN
CALSCALE:GREGORIAN
METHOD:PUBLISH
X-WR-CALNAME:Parkinson Skåne
X-ORIGINAL-URL:https://parkinsonskane.se
X-WR-CALDESC:Händelser för Parkinson Skåne
REFRESH-INTERVAL;VALUE=DURATION:PT1H
X-Robots-Tag:noindex
X-PUBLISHED-TTL:PT1H
BEGIN:VTIMEZONE
TZID:Europe/Stockholm
BEGIN:DAYLIGHT
TZOFFSETFROM:+0100
TZOFFSETTO:+0200
TZNAME:CEST
DTSTART:20250330T010000
END:DAYLIGHT
BEGIN:STANDARD
TZOFFSETFROM:+0200
TZOFFSETTO:+0100
TZNAME:CET
DTSTART:20251026T010000
END:STANDARD
BEGIN:DAYLIGHT
TZOFFSETFROM:+0100
TZOFFSETTO:+0200
TZNAME:CEST
DTSTART:20260329T010000
END:DAYLIGHT
BEGIN:STANDARD
TZOFFSETFROM:+0200
TZOFFSETTO:+0100
TZNAME:CET
DTSTART:20261025T010000
END:STANDARD
BEGIN:DAYLIGHT
TZOFFSETFROM:+0100
TZOFFSETTO:+0200
TZNAME:CEST
DTSTART:20270328T010000
END:DAYLIGHT
BEGIN:STANDARD
TZOFFSETFROM:+0200
TZOFFSETTO:+0100
TZNAME:CET
DTSTART:20271031T010000
END:STANDARD
END:VTIMEZONE
BEGIN:VEVENT
DTSTART;TZID=Europe/Stockholm:20260429T143000
DTEND;TZID=Europe/Stockholm:20260429T153000
DTSTAMP:20260424T184655
CREATED:20260413T143526Z
LAST-MODIFIED:20260413T143526Z
UID:10012998-1777473000-1777476600@parkinsonskane.se
SUMMARY:Malmö har Dropp in balans i tango – öppen senioraktivitet
DESCRIPTION:En lågtröskelaktivitet där tango används för att stärka balans\, koordination och närvaro. Drop in och öppet för alla Malmöbor över 65. \nPlats: Tuppens motionshall Tid: Onsdagar kl. 14.30–15.30Period: 11/3 – 20/5Inställt: 1/4Ingen föranmälan krävs
URL:https://parkinsonskane.se/evenemang/malmo-har-balans-i-tango-oppen-senioraktivitet-2-2-2-2-2-2/2026-04-29/
LOCATION:Mötesplats Tuppen\, Tessins väg 10\, Malmö\, Skåne\, 217 58\, Sverige
CATEGORIES:Dans
ATTACH;FMTTYPE=image/jpeg:https://parkinsonskane.se/wp-content/uploads/2025/03/tango-hbg.jpg
END:VEVENT
BEGIN:VEVENT
DTSTART;TZID=Europe/Stockholm:20260506T143000
DTEND;TZID=Europe/Stockholm:20260506T153000
DTSTAMP:20260424T184655
CREATED:20260413T143526Z
LAST-MODIFIED:20260413T143526Z
UID:10012999-1778077800-1778081400@parkinsonskane.se
SUMMARY:Malmö har Dropp in balans i tango – öppen senioraktivitet
DESCRIPTION:En lågtröskelaktivitet där tango används för att stärka balans\, koordination och närvaro. Drop in och öppet för alla Malmöbor över 65. \nPlats: Tuppens motionshall Tid: Onsdagar kl. 14.30–15.30Period: 11/3 – 20/5Inställt: 1/4Ingen föranmälan krävs
URL:https://parkinsonskane.se/evenemang/malmo-har-balans-i-tango-oppen-senioraktivitet-2-2-2-2-2-2/2026-05-06/
LOCATION:Mötesplats Tuppen\, Tessins väg 10\, Malmö\, Skåne\, 217 58\, Sverige
CATEGORIES:Dans
ATTACH;FMTTYPE=image/jpeg:https://parkinsonskane.se/wp-content/uploads/2025/03/tango-hbg.jpg
END:VEVENT
BEGIN:VEVENT
DTSTART;TZID=Europe/Stockholm:20260513T143000
DTEND;TZID=Europe/Stockholm:20260513T153000
DTSTAMP:20260424T184655
CREATED:20260413T143526Z
LAST-MODIFIED:20260413T143526Z
UID:10013000-1778682600-1778686200@parkinsonskane.se
SUMMARY:Malmö har Dropp in balans i tango – öppen senioraktivitet
DESCRIPTION:En lågtröskelaktivitet där tango används för att stärka balans\, koordination och närvaro. Drop in och öppet för alla Malmöbor över 65. \nPlats: Tuppens motionshall Tid: Onsdagar kl. 14.30–15.30Period: 11/3 – 20/5Inställt: 1/4Ingen föranmälan krävs
URL:https://parkinsonskane.se/evenemang/malmo-har-balans-i-tango-oppen-senioraktivitet-2-2-2-2-2-2/2026-05-13/
LOCATION:Mötesplats Tuppen\, Tessins väg 10\, Malmö\, Skåne\, 217 58\, Sverige
CATEGORIES:Dans
ATTACH;FMTTYPE=image/jpeg:https://parkinsonskane.se/wp-content/uploads/2025/03/tango-hbg.jpg
END:VEVENT
BEGIN:VEVENT
DTSTART;TZID=Europe/Stockholm:20260520T143000
DTEND;TZID=Europe/Stockholm:20260520T153000
DTSTAMP:20260424T184655
CREATED:20260413T143526Z
LAST-MODIFIED:20260413T143526Z
UID:10013001-1779287400-1779291000@parkinsonskane.se
SUMMARY:Malmö har Dropp in balans i tango – öppen senioraktivitet
DESCRIPTION:En lågtröskelaktivitet där tango används för att stärka balans\, koordination och närvaro. Drop in och öppet för alla Malmöbor över 65. \nPlats: Tuppens motionshall Tid: Onsdagar kl. 14.30–15.30Period: 11/3 – 20/5Inställt: 1/4Ingen föranmälan krävs
URL:https://parkinsonskane.se/evenemang/malmo-har-balans-i-tango-oppen-senioraktivitet-2-2-2-2-2-2/2026-05-20/
LOCATION:Mötesplats Tuppen\, Tessins väg 10\, Malmö\, Skåne\, 217 58\, Sverige
CATEGORIES:Dans
ATTACH;FMTTYPE=image/jpeg:https://parkinsonskane.se/wp-content/uploads/2025/03/tango-hbg.jpg
END:VEVENT
END:VCALENDAR