BEGIN:VCALENDAR
VERSION:2.0
PRODID:-//Parkinson Skåne - ECPv6.15.20//NONSGML v1.0//EN
CALSCALE:GREGORIAN
METHOD:PUBLISH
X-WR-CALNAME:Parkinson Skåne
X-ORIGINAL-URL:https://parkinsonskane.se
X-WR-CALDESC:Händelser för Parkinson Skåne
REFRESH-INTERVAL;VALUE=DURATION:PT1H
X-Robots-Tag:noindex
X-PUBLISHED-TTL:PT1H
BEGIN:VTIMEZONE
TZID:Europe/Stockholm
BEGIN:DAYLIGHT
TZOFFSETFROM:+0100
TZOFFSETTO:+0200
TZNAME:CEST
DTSTART:20250330T010000
END:DAYLIGHT
BEGIN:STANDARD
TZOFFSETFROM:+0200
TZOFFSETTO:+0100
TZNAME:CET
DTSTART:20251026T010000
END:STANDARD
BEGIN:DAYLIGHT
TZOFFSETFROM:+0100
TZOFFSETTO:+0200
TZNAME:CEST
DTSTART:20260329T010000
END:DAYLIGHT
BEGIN:STANDARD
TZOFFSETFROM:+0200
TZOFFSETTO:+0100
TZNAME:CET
DTSTART:20261025T010000
END:STANDARD
BEGIN:DAYLIGHT
TZOFFSETFROM:+0100
TZOFFSETTO:+0200
TZNAME:CEST
DTSTART:20270328T010000
END:DAYLIGHT
BEGIN:STANDARD
TZOFFSETFROM:+0200
TZOFFSETTO:+0100
TZNAME:CET
DTSTART:20271031T010000
END:STANDARD
END:VTIMEZONE
BEGIN:VEVENT
DTSTART;TZID=Europe/Stockholm:20260430T183000
DTEND;TZID=Europe/Stockholm:20260430T200000
DTSTAMP:20260424T173056
CREATED:20260413T143212Z
LAST-MODIFIED:20260413T143212Z
UID:10013010-1777573800-1777579200@parkinsonskane.se
SUMMARY:Malmö har argentinsk tango för medlemmar
DESCRIPTION:Alla är välkomna – med eller utan partner. Vår instruktör anpassar övningarna efter gruppen.\nVi ses utanför entrén innan start. \nPlats: Tuppens motionshall Tid: Torsdagar kl. 18.30–20.00 (samling 18.20)Period: 19/2 – 28/5Inställt: 26/3\, 7/5 \n 
URL:https://parkinsonskane.se/evenemang/malmo-har-argentinsk-tango-for-medlemmar-2-2-2-2-2-2-2/2026-04-30/
LOCATION:Mötesplats Tuppen\, Tessins väg 10\, Malmö\, Skåne\, 217 58\, Sverige
CATEGORIES:Dans
ATTACH;FMTTYPE=image/jpeg:https://parkinsonskane.se/wp-content/uploads/2024/04/tango-6099452_1280.jpg
END:VEVENT
BEGIN:VEVENT
DTSTART;TZID=Europe/Stockholm:20260514T183000
DTEND;TZID=Europe/Stockholm:20260514T200000
DTSTAMP:20260424T173056
CREATED:20260413T143212Z
LAST-MODIFIED:20260413T143212Z
UID:10013011-1778783400-1778788800@parkinsonskane.se
SUMMARY:Malmö har argentinsk tango för medlemmar
DESCRIPTION:Alla är välkomna – med eller utan partner. Vår instruktör anpassar övningarna efter gruppen.\nVi ses utanför entrén innan start. \nPlats: Tuppens motionshall Tid: Torsdagar kl. 18.30–20.00 (samling 18.20)Period: 19/2 – 28/5Inställt: 26/3\, 7/5 \n 
URL:https://parkinsonskane.se/evenemang/malmo-har-argentinsk-tango-for-medlemmar-2-2-2-2-2-2-2/2026-05-14/
LOCATION:Mötesplats Tuppen\, Tessins väg 10\, Malmö\, Skåne\, 217 58\, Sverige
CATEGORIES:Dans
ATTACH;FMTTYPE=image/jpeg:https://parkinsonskane.se/wp-content/uploads/2024/04/tango-6099452_1280.jpg
END:VEVENT
BEGIN:VEVENT
DTSTART;TZID=Europe/Stockholm:20260521T183000
DTEND;TZID=Europe/Stockholm:20260521T200000
DTSTAMP:20260424T173056
CREATED:20260413T143212Z
LAST-MODIFIED:20260413T143212Z
UID:10013012-1779388200-1779393600@parkinsonskane.se
SUMMARY:Malmö har argentinsk tango för medlemmar
DESCRIPTION:Alla är välkomna – med eller utan partner. Vår instruktör anpassar övningarna efter gruppen.\nVi ses utanför entrén innan start. \nPlats: Tuppens motionshall Tid: Torsdagar kl. 18.30–20.00 (samling 18.20)Period: 19/2 – 28/5Inställt: 26/3\, 7/5 \n 
URL:https://parkinsonskane.se/evenemang/malmo-har-argentinsk-tango-for-medlemmar-2-2-2-2-2-2-2/2026-05-21/
LOCATION:Mötesplats Tuppen\, Tessins väg 10\, Malmö\, Skåne\, 217 58\, Sverige
CATEGORIES:Dans
ATTACH;FMTTYPE=image/jpeg:https://parkinsonskane.se/wp-content/uploads/2024/04/tango-6099452_1280.jpg
END:VEVENT
BEGIN:VEVENT
DTSTART;TZID=Europe/Stockholm:20260528T183000
DTEND;TZID=Europe/Stockholm:20260528T200000
DTSTAMP:20260424T173056
CREATED:20260413T143212Z
LAST-MODIFIED:20260413T143212Z
UID:10013013-1779993000-1779998400@parkinsonskane.se
SUMMARY:Malmö har argentinsk tango för medlemmar
DESCRIPTION:Alla är välkomna – med eller utan partner. Vår instruktör anpassar övningarna efter gruppen.\nVi ses utanför entrén innan start. \nPlats: Tuppens motionshall Tid: Torsdagar kl. 18.30–20.00 (samling 18.20)Period: 19/2 – 28/5Inställt: 26/3\, 7/5 \n 
URL:https://parkinsonskane.se/evenemang/malmo-har-argentinsk-tango-for-medlemmar-2-2-2-2-2-2-2/2026-05-28/
LOCATION:Mötesplats Tuppen\, Tessins väg 10\, Malmö\, Skåne\, 217 58\, Sverige
CATEGORIES:Dans
ATTACH;FMTTYPE=image/jpeg:https://parkinsonskane.se/wp-content/uploads/2024/04/tango-6099452_1280.jpg
END:VEVENT
END:VCALENDAR