BEGIN:VCALENDAR
VERSION:2.0
PRODID:-//Parkinson Skåne - ECPv6.15.20//NONSGML v1.0//EN
CALSCALE:GREGORIAN
METHOD:PUBLISH
X-WR-CALNAME:Parkinson Skåne
X-ORIGINAL-URL:https://parkinsonskane.se
X-WR-CALDESC:Händelser för Parkinson Skåne
REFRESH-INTERVAL;VALUE=DURATION:PT1H
X-Robots-Tag:noindex
X-PUBLISHED-TTL:PT1H
BEGIN:VTIMEZONE
TZID:Europe/Stockholm
BEGIN:DAYLIGHT
TZOFFSETFROM:+0100
TZOFFSETTO:+0200
TZNAME:CEST
DTSTART:20250330T010000
END:DAYLIGHT
BEGIN:STANDARD
TZOFFSETFROM:+0200
TZOFFSETTO:+0100
TZNAME:CET
DTSTART:20251026T010000
END:STANDARD
BEGIN:DAYLIGHT
TZOFFSETFROM:+0100
TZOFFSETTO:+0200
TZNAME:CEST
DTSTART:20260329T010000
END:DAYLIGHT
BEGIN:STANDARD
TZOFFSETFROM:+0200
TZOFFSETTO:+0100
TZNAME:CET
DTSTART:20261025T010000
END:STANDARD
BEGIN:DAYLIGHT
TZOFFSETFROM:+0100
TZOFFSETTO:+0200
TZNAME:CEST
DTSTART:20270328T010000
END:DAYLIGHT
BEGIN:STANDARD
TZOFFSETFROM:+0200
TZOFFSETTO:+0100
TZNAME:CET
DTSTART:20271031T010000
END:STANDARD
END:VTIMEZONE
BEGIN:VEVENT
DTSTART;TZID=Europe/Stockholm:20260429T110000
DTEND;TZID=Europe/Stockholm:20260429T120000
DTSTAMP:20260424T184100
CREATED:20260310T085230Z
LAST-MODIFIED:20260310T085230Z
UID:10012463-1777460400-1777464000@parkinsonskane.se
SUMMARY:Eslöv har box- och fysträning med Parkinsoninriktning
DESCRIPTION:Eslöv har box- och fysträning med särskild inriktning på Parkinson. Träningen hålls varje onsdag kl. 11.00–12.00 med start den 7 januari och avslutning den 20 maj. Kostnaden är 200 kr för 20 tillfällen\, och det är gratis att prova på några gånger. När vädret tillåter bedrivs träningen utomhus. \nPlats:\nStudio Aktiv 24\, Per Håkanssons väg 38\, Eslöv \nKontakt och anmälan:\nIngrid Pettersson\, 070-794 24 52 \nBetalning för de fasta aktiviteterna görs till föreningens bankgiro 551-3387 eller via Swish 123 171 3114. \nDu är alltid välkommen till våra aktiviteter även om du för tillfället inte kan delta aktivt – det är viktigt att träffas och prata en stund.
URL:https://parkinsonskane.se/evenemang/eslov-har-box-och-fystraning-med-parkinsoninriktning-2-2-2/2026-04-29/
LOCATION:Studio Aktiv 24\, Per Håkanssons väg 36\, Eslöv\, Skåne\, 241 38\, Sverige
CATEGORIES:Boxträning
ATTACH;FMTTYPE=image/jpeg:https://parkinsonskane.se/wp-content/uploads/2022/11/boxning_handskar.jpg
END:VEVENT
BEGIN:VEVENT
DTSTART;TZID=Europe/Stockholm:20260506T110000
DTEND;TZID=Europe/Stockholm:20260506T120000
DTSTAMP:20260424T184100
CREATED:20260310T085230Z
LAST-MODIFIED:20260310T085230Z
UID:10012464-1778065200-1778068800@parkinsonskane.se
SUMMARY:Eslöv har box- och fysträning med Parkinsoninriktning
DESCRIPTION:Eslöv har box- och fysträning med särskild inriktning på Parkinson. Träningen hålls varje onsdag kl. 11.00–12.00 med start den 7 januari och avslutning den 20 maj. Kostnaden är 200 kr för 20 tillfällen\, och det är gratis att prova på några gånger. När vädret tillåter bedrivs träningen utomhus. \nPlats:\nStudio Aktiv 24\, Per Håkanssons väg 38\, Eslöv \nKontakt och anmälan:\nIngrid Pettersson\, 070-794 24 52 \nBetalning för de fasta aktiviteterna görs till föreningens bankgiro 551-3387 eller via Swish 123 171 3114. \nDu är alltid välkommen till våra aktiviteter även om du för tillfället inte kan delta aktivt – det är viktigt att träffas och prata en stund.
URL:https://parkinsonskane.se/evenemang/eslov-har-box-och-fystraning-med-parkinsoninriktning-2-2-2/2026-05-06/
LOCATION:Studio Aktiv 24\, Per Håkanssons väg 36\, Eslöv\, Skåne\, 241 38\, Sverige
CATEGORIES:Boxträning
ATTACH;FMTTYPE=image/jpeg:https://parkinsonskane.se/wp-content/uploads/2022/11/boxning_handskar.jpg
END:VEVENT
BEGIN:VEVENT
DTSTART;TZID=Europe/Stockholm:20260513T110000
DTEND;TZID=Europe/Stockholm:20260513T120000
DTSTAMP:20260424T184100
CREATED:20260310T085230Z
LAST-MODIFIED:20260310T085230Z
UID:10012465-1778670000-1778673600@parkinsonskane.se
SUMMARY:Eslöv har box- och fysträning med Parkinsoninriktning
DESCRIPTION:Eslöv har box- och fysträning med särskild inriktning på Parkinson. Träningen hålls varje onsdag kl. 11.00–12.00 med start den 7 januari och avslutning den 20 maj. Kostnaden är 200 kr för 20 tillfällen\, och det är gratis att prova på några gånger. När vädret tillåter bedrivs träningen utomhus. \nPlats:\nStudio Aktiv 24\, Per Håkanssons väg 38\, Eslöv \nKontakt och anmälan:\nIngrid Pettersson\, 070-794 24 52 \nBetalning för de fasta aktiviteterna görs till föreningens bankgiro 551-3387 eller via Swish 123 171 3114. \nDu är alltid välkommen till våra aktiviteter även om du för tillfället inte kan delta aktivt – det är viktigt att träffas och prata en stund.
URL:https://parkinsonskane.se/evenemang/eslov-har-box-och-fystraning-med-parkinsoninriktning-2-2-2/2026-05-13/
LOCATION:Studio Aktiv 24\, Per Håkanssons väg 36\, Eslöv\, Skåne\, 241 38\, Sverige
CATEGORIES:Boxträning
ATTACH;FMTTYPE=image/jpeg:https://parkinsonskane.se/wp-content/uploads/2022/11/boxning_handskar.jpg
END:VEVENT
BEGIN:VEVENT
DTSTART;TZID=Europe/Stockholm:20260520T110000
DTEND;TZID=Europe/Stockholm:20260520T120000
DTSTAMP:20260424T184100
CREATED:20260310T085230Z
LAST-MODIFIED:20260310T085230Z
UID:10012466-1779274800-1779278400@parkinsonskane.se
SUMMARY:Eslöv har box- och fysträning med Parkinsoninriktning
DESCRIPTION:Eslöv har box- och fysträning med särskild inriktning på Parkinson. Träningen hålls varje onsdag kl. 11.00–12.00 med start den 7 januari och avslutning den 20 maj. Kostnaden är 200 kr för 20 tillfällen\, och det är gratis att prova på några gånger. När vädret tillåter bedrivs träningen utomhus. \nPlats:\nStudio Aktiv 24\, Per Håkanssons väg 38\, Eslöv \nKontakt och anmälan:\nIngrid Pettersson\, 070-794 24 52 \nBetalning för de fasta aktiviteterna görs till föreningens bankgiro 551-3387 eller via Swish 123 171 3114. \nDu är alltid välkommen till våra aktiviteter även om du för tillfället inte kan delta aktivt – det är viktigt att träffas och prata en stund.
URL:https://parkinsonskane.se/evenemang/eslov-har-box-och-fystraning-med-parkinsoninriktning-2-2-2/2026-05-20/
LOCATION:Studio Aktiv 24\, Per Håkanssons väg 36\, Eslöv\, Skåne\, 241 38\, Sverige
CATEGORIES:Boxträning
ATTACH;FMTTYPE=image/jpeg:https://parkinsonskane.se/wp-content/uploads/2022/11/boxning_handskar.jpg
END:VEVENT
END:VCALENDAR