BEGIN:VCALENDAR
VERSION:2.0
PRODID:-//Parkinson Skåne - ECPv6.15.20//NONSGML v1.0//EN
CALSCALE:GREGORIAN
METHOD:PUBLISH
X-WR-CALNAME:Parkinson Skåne
X-ORIGINAL-URL:https://parkinsonskane.se
X-WR-CALDESC:Händelser för Parkinson Skåne
REFRESH-INTERVAL;VALUE=DURATION:PT1H
X-Robots-Tag:noindex
X-PUBLISHED-TTL:PT1H
BEGIN:VTIMEZONE
TZID:Europe/Stockholm
BEGIN:DAYLIGHT
TZOFFSETFROM:+0100
TZOFFSETTO:+0200
TZNAME:CEST
DTSTART:20250330T010000
END:DAYLIGHT
BEGIN:STANDARD
TZOFFSETFROM:+0200
TZOFFSETTO:+0100
TZNAME:CET
DTSTART:20251026T010000
END:STANDARD
BEGIN:DAYLIGHT
TZOFFSETFROM:+0100
TZOFFSETTO:+0200
TZNAME:CEST
DTSTART:20260329T010000
END:DAYLIGHT
BEGIN:STANDARD
TZOFFSETFROM:+0200
TZOFFSETTO:+0100
TZNAME:CET
DTSTART:20261025T010000
END:STANDARD
BEGIN:DAYLIGHT
TZOFFSETFROM:+0100
TZOFFSETTO:+0200
TZNAME:CEST
DTSTART:20270328T010000
END:DAYLIGHT
BEGIN:STANDARD
TZOFFSETFROM:+0200
TZOFFSETTO:+0100
TZNAME:CET
DTSTART:20271031T010000
END:STANDARD
END:VTIMEZONE
BEGIN:VEVENT
DTSTART;TZID=Europe/Stockholm:20260427T130000
DTEND;TZID=Europe/Stockholm:20260427T143000
DTSTAMP:20260424T191737
CREATED:20260310T085145Z
LAST-MODIFIED:20260310T085145Z
UID:10012482-1777294800-1777300200@parkinsonskane.se
SUMMARY:Eslöv har bordtennis
DESCRIPTION:Eslöv har bordtennis som fast fysisk aktivitet under våren 2026. Träningen sker varje måndag kl. 13.00–ca 14.30 med start den 12 januari och avslutning den 18 maj. \nAktiviteten är kostnadsfri och passar även dig som aldrig har spelat pingis tidigare. Bordtennis är mycket bra träning vid Parkinson. Ta med gympaskor och gärna fika. Ungdomar från EAI visar och hjälper till med spelet. \nPlats:\nBlomsterbergshallen\, Bruksgatan 32\, Eslöv \nKontakt och anmälan:\nIngrid Pettersson\, 070-794 24 52
URL:https://parkinsonskane.se/evenemang/eslov-har-bordtennis-6-2-2/2026-04-27/
LOCATION:Blomsterbergshallen\, Bruksgatan 32\, Eslöv\, Skåne\, 241 38\, Sverige
CATEGORIES:Bordtennis
ATTACH;FMTTYPE=image/jpeg:https://parkinsonskane.se/wp-content/uploads/2026/01/bordt-1.jpg
GEO:55.8330037;13.3157643
X-APPLE-STRUCTURED-LOCATION;VALUE=URI;X-ADDRESS=Blomsterbergshallen Bruksgatan 32 Eslöv Skåne 241 38 Sverige;X-APPLE-RADIUS=500;X-TITLE=Bruksgatan 32:geo:13.3157643,55.8330037
END:VEVENT
BEGIN:VEVENT
DTSTART;TZID=Europe/Stockholm:20260504T130000
DTEND;TZID=Europe/Stockholm:20260504T143000
DTSTAMP:20260424T191737
CREATED:20260310T085145Z
LAST-MODIFIED:20260310T085145Z
UID:10012483-1777899600-1777905000@parkinsonskane.se
SUMMARY:Eslöv har bordtennis
DESCRIPTION:Eslöv har bordtennis som fast fysisk aktivitet under våren 2026. Träningen sker varje måndag kl. 13.00–ca 14.30 med start den 12 januari och avslutning den 18 maj. \nAktiviteten är kostnadsfri och passar även dig som aldrig har spelat pingis tidigare. Bordtennis är mycket bra träning vid Parkinson. Ta med gympaskor och gärna fika. Ungdomar från EAI visar och hjälper till med spelet. \nPlats:\nBlomsterbergshallen\, Bruksgatan 32\, Eslöv \nKontakt och anmälan:\nIngrid Pettersson\, 070-794 24 52
URL:https://parkinsonskane.se/evenemang/eslov-har-bordtennis-6-2-2/2026-05-04/
LOCATION:Blomsterbergshallen\, Bruksgatan 32\, Eslöv\, Skåne\, 241 38\, Sverige
CATEGORIES:Bordtennis
ATTACH;FMTTYPE=image/jpeg:https://parkinsonskane.se/wp-content/uploads/2026/01/bordt-1.jpg
GEO:55.8330037;13.3157643
X-APPLE-STRUCTURED-LOCATION;VALUE=URI;X-ADDRESS=Blomsterbergshallen Bruksgatan 32 Eslöv Skåne 241 38 Sverige;X-APPLE-RADIUS=500;X-TITLE=Bruksgatan 32:geo:13.3157643,55.8330037
END:VEVENT
BEGIN:VEVENT
DTSTART;TZID=Europe/Stockholm:20260511T130000
DTEND;TZID=Europe/Stockholm:20260511T143000
DTSTAMP:20260424T191737
CREATED:20260310T085145Z
LAST-MODIFIED:20260310T085145Z
UID:10012484-1778504400-1778509800@parkinsonskane.se
SUMMARY:Eslöv har bordtennis
DESCRIPTION:Eslöv har bordtennis som fast fysisk aktivitet under våren 2026. Träningen sker varje måndag kl. 13.00–ca 14.30 med start den 12 januari och avslutning den 18 maj. \nAktiviteten är kostnadsfri och passar även dig som aldrig har spelat pingis tidigare. Bordtennis är mycket bra träning vid Parkinson. Ta med gympaskor och gärna fika. Ungdomar från EAI visar och hjälper till med spelet. \nPlats:\nBlomsterbergshallen\, Bruksgatan 32\, Eslöv \nKontakt och anmälan:\nIngrid Pettersson\, 070-794 24 52
URL:https://parkinsonskane.se/evenemang/eslov-har-bordtennis-6-2-2/2026-05-11/
LOCATION:Blomsterbergshallen\, Bruksgatan 32\, Eslöv\, Skåne\, 241 38\, Sverige
CATEGORIES:Bordtennis
ATTACH;FMTTYPE=image/jpeg:https://parkinsonskane.se/wp-content/uploads/2026/01/bordt-1.jpg
GEO:55.8330037;13.3157643
X-APPLE-STRUCTURED-LOCATION;VALUE=URI;X-ADDRESS=Blomsterbergshallen Bruksgatan 32 Eslöv Skåne 241 38 Sverige;X-APPLE-RADIUS=500;X-TITLE=Bruksgatan 32:geo:13.3157643,55.8330037
END:VEVENT
BEGIN:VEVENT
DTSTART;TZID=Europe/Stockholm:20260518T130000
DTEND;TZID=Europe/Stockholm:20260518T143000
DTSTAMP:20260424T191737
CREATED:20260310T085145Z
LAST-MODIFIED:20260310T085145Z
UID:10012485-1779109200-1779114600@parkinsonskane.se
SUMMARY:Eslöv har bordtennis
DESCRIPTION:Eslöv har bordtennis som fast fysisk aktivitet under våren 2026. Träningen sker varje måndag kl. 13.00–ca 14.30 med start den 12 januari och avslutning den 18 maj. \nAktiviteten är kostnadsfri och passar även dig som aldrig har spelat pingis tidigare. Bordtennis är mycket bra träning vid Parkinson. Ta med gympaskor och gärna fika. Ungdomar från EAI visar och hjälper till med spelet. \nPlats:\nBlomsterbergshallen\, Bruksgatan 32\, Eslöv \nKontakt och anmälan:\nIngrid Pettersson\, 070-794 24 52
URL:https://parkinsonskane.se/evenemang/eslov-har-bordtennis-6-2-2/2026-05-18/
LOCATION:Blomsterbergshallen\, Bruksgatan 32\, Eslöv\, Skåne\, 241 38\, Sverige
CATEGORIES:Bordtennis
ATTACH;FMTTYPE=image/jpeg:https://parkinsonskane.se/wp-content/uploads/2026/01/bordt-1.jpg
GEO:55.8330037;13.3157643
X-APPLE-STRUCTURED-LOCATION;VALUE=URI;X-ADDRESS=Blomsterbergshallen Bruksgatan 32 Eslöv Skåne 241 38 Sverige;X-APPLE-RADIUS=500;X-TITLE=Bruksgatan 32:geo:13.3157643,55.8330037
END:VEVENT
END:VCALENDAR