BEGIN:VCALENDAR
VERSION:2.0
PRODID:-//Parkinson Skåne - ECPv6.15.20//NONSGML v1.0//EN
CALSCALE:GREGORIAN
METHOD:PUBLISH
X-WR-CALNAME:Parkinson Skåne
X-ORIGINAL-URL:https://parkinsonskane.se
X-WR-CALDESC:Händelser för Parkinson Skåne
REFRESH-INTERVAL;VALUE=DURATION:PT1H
X-Robots-Tag:noindex
X-PUBLISHED-TTL:PT1H
BEGIN:VTIMEZONE
TZID:Europe/Stockholm
BEGIN:DAYLIGHT
TZOFFSETFROM:+0100
TZOFFSETTO:+0200
TZNAME:CEST
DTSTART:20250330T010000
END:DAYLIGHT
BEGIN:STANDARD
TZOFFSETFROM:+0200
TZOFFSETTO:+0100
TZNAME:CET
DTSTART:20251026T010000
END:STANDARD
BEGIN:DAYLIGHT
TZOFFSETFROM:+0100
TZOFFSETTO:+0200
TZNAME:CEST
DTSTART:20260329T010000
END:DAYLIGHT
BEGIN:STANDARD
TZOFFSETFROM:+0200
TZOFFSETTO:+0100
TZNAME:CET
DTSTART:20261025T010000
END:STANDARD
BEGIN:DAYLIGHT
TZOFFSETFROM:+0100
TZOFFSETTO:+0200
TZNAME:CEST
DTSTART:20270328T010000
END:DAYLIGHT
BEGIN:STANDARD
TZOFFSETFROM:+0200
TZOFFSETTO:+0100
TZNAME:CET
DTSTART:20271031T010000
END:STANDARD
END:VTIMEZONE
BEGIN:VEVENT
DTSTART;TZID=Europe/Stockholm:20260428T183000
DTEND;TZID=Europe/Stockholm:20260428T200000
DTSTAMP:20260424T184113
CREATED:20260413T143325Z
LAST-MODIFIED:20260413T143325Z
UID:10012878-1777401000-1777406400@parkinsonskane.se
SUMMARY:Malmö har körsång på tisdagar
DESCRIPTION:Den 3 februari startade vårens körverksamhet och den pågår till den 28 april kl. 18.30–20.00 på Tuppens mötesplats\, i restaurangen. \nKören träffas på Tessins väg 10 i Malmö.\nInställt den 24/2\, 17/3 och 21/4 på grund av medlemsmöte. \nKören kommer dessutom att underhålla på aktivitetsmässan den 19 maj. \nEn ny termins körsång är igång där rösten och gemenskapen får ta plats i ett tryggt och stöttande sammanhang tillsammans med Göran Sonesson. Här är det glädjen\, samhörigheten och musiken som står i centrum. \nVarmt välkommen att vara med!
URL:https://parkinsonskane.se/evenemang/malmo-har-korsang-pa-tisdagar-2-2-2-2-2-2-2-2/2026-04-28/
LOCATION:Mötesplats Tuppen\, Tessins väg 10\, Malmö\, Skåne\, 217 58\, Sverige
CATEGORIES:Sång
ATTACH;FMTTYPE=image/jpeg:https://parkinsonskane.se/wp-content/uploads/2025/04/Musik.jpg
END:VEVENT
END:VCALENDAR