BEGIN:VCALENDAR
VERSION:2.0
PRODID:-//Parkinson Skåne - ECPv6.15.20//NONSGML v1.0//EN
CALSCALE:GREGORIAN
METHOD:PUBLISH
X-WR-CALNAME:Parkinson Skåne
X-ORIGINAL-URL:https://parkinsonskane.se
X-WR-CALDESC:Händelser för Parkinson Skåne
REFRESH-INTERVAL;VALUE=DURATION:PT1H
X-Robots-Tag:noindex
X-PUBLISHED-TTL:PT1H
BEGIN:VTIMEZONE
TZID:Europe/Stockholm
BEGIN:DAYLIGHT
TZOFFSETFROM:+0100
TZOFFSETTO:+0200
TZNAME:CEST
DTSTART:20250330T010000
END:DAYLIGHT
BEGIN:STANDARD
TZOFFSETFROM:+0200
TZOFFSETTO:+0100
TZNAME:CET
DTSTART:20251026T010000
END:STANDARD
BEGIN:DAYLIGHT
TZOFFSETFROM:+0100
TZOFFSETTO:+0200
TZNAME:CEST
DTSTART:20260329T010000
END:DAYLIGHT
BEGIN:STANDARD
TZOFFSETFROM:+0200
TZOFFSETTO:+0100
TZNAME:CET
DTSTART:20261025T010000
END:STANDARD
BEGIN:DAYLIGHT
TZOFFSETFROM:+0100
TZOFFSETTO:+0200
TZNAME:CEST
DTSTART:20270328T010000
END:DAYLIGHT
BEGIN:STANDARD
TZOFFSETFROM:+0200
TZOFFSETTO:+0100
TZNAME:CET
DTSTART:20271031T010000
END:STANDARD
END:VTIMEZONE
BEGIN:VEVENT
DTSTART;TZID=Europe/Stockholm:20260507T180000
DTEND;TZID=Europe/Stockholm:20260507T193000
DTSTAMP:20260424T203452
CREATED:20260114T110606Z
LAST-MODIFIED:20260304T082334Z
UID:10012607-1778176800-1778182200@parkinsonskane.se
SUMMARY:Malmö har samtalsgrupper våren 2026
DESCRIPTION:Vi träffas i samtalsgrupper för seniora medlemmar\, yngre personer med Parkinson samt anhöriga. Samtalen sker i en trygg och öppen form – du är välkommen precis som du är. Fika ingår. \nTorsdag 7 maj kl. 18.00–19:30 \nGemensam föreläsning för alla grupper:\n”Om att vara människa” med Bengt Ramlid. \nAnmälan: malmo@parkinsonskane.se \nPlats: Tuppens mötesplats \n  \n 
URL:https://parkinsonskane.se/evenemang/malmo-har-samtalsgrupper-varen-2026-3/
LOCATION:Mötesplats Tuppen\, Tessins väg 10\, Malmö\, Skåne\, 217 58\, Sverige
CATEGORIES:Samtalsgrupper
ATTACH;FMTTYPE=image/jpeg:https://parkinsonskane.se/wp-content/uploads/2025/03/Parkinson-AdobeStock_901327591.jpg
END:VEVENT
END:VCALENDAR