BEGIN:VCALENDAR
VERSION:2.0
PRODID:-//Parkinson Skåne - ECPv6.15.20//NONSGML v1.0//EN
CALSCALE:GREGORIAN
METHOD:PUBLISH
X-WR-CALNAME:Parkinson Skåne
X-ORIGINAL-URL:https://parkinsonskane.se
X-WR-CALDESC:Händelser för Parkinson Skåne
REFRESH-INTERVAL;VALUE=DURATION:PT1H
X-Robots-Tag:noindex
X-PUBLISHED-TTL:PT1H
BEGIN:VTIMEZONE
TZID:Europe/Stockholm
BEGIN:DAYLIGHT
TZOFFSETFROM:+0100
TZOFFSETTO:+0200
TZNAME:CEST
DTSTART:20250330T010000
END:DAYLIGHT
BEGIN:STANDARD
TZOFFSETFROM:+0200
TZOFFSETTO:+0100
TZNAME:CET
DTSTART:20251026T010000
END:STANDARD
BEGIN:DAYLIGHT
TZOFFSETFROM:+0100
TZOFFSETTO:+0200
TZNAME:CEST
DTSTART:20260329T010000
END:DAYLIGHT
BEGIN:STANDARD
TZOFFSETFROM:+0200
TZOFFSETTO:+0100
TZNAME:CET
DTSTART:20261025T010000
END:STANDARD
BEGIN:DAYLIGHT
TZOFFSETFROM:+0100
TZOFFSETTO:+0200
TZNAME:CEST
DTSTART:20270328T010000
END:DAYLIGHT
BEGIN:STANDARD
TZOFFSETFROM:+0200
TZOFFSETTO:+0100
TZNAME:CET
DTSTART:20271031T010000
END:STANDARD
END:VTIMEZONE
BEGIN:VEVENT
DTSTART;TZID=Europe/Stockholm:20260428T170000
DTEND;TZID=Europe/Stockholm:20260428T183000
DTSTAMP:20260424T172226
CREATED:20260327T152411Z
LAST-MODIFIED:20260327T152457Z
UID:10012630-1777395600-1777401000@parkinsonskane.se
SUMMARY:Tangokurs i Rydsgård – grundkurs i argentinsk tango
DESCRIPTION:Nu finns möjlighet att prova argentinsk tango!\nEn helt ny grundkurs där rörelse\, musik och gemenskap står i centrum – särskilt anpassad för personer som lever med Parkinsons sjukdom. \nKursen har fokus på balans\, koordination\, musikalitet och kommunikation och innehåller även kortare inslag om tangons betydelse för personer med Parkinsons sjukdom. Några enkla figurer lärs ut för att göra dansen tillgänglig och trygg för alla. \nInstruktörerna är erfarna tangodansare med god kunskap om Parkinsons sjukdom och andra funktionsnedsättningar\, och har stor förmåga att anpassa rörelserna efter deltagarnas behov. \nKursen är öppen för alla medlemmar inom Parkinson Skåne. Anhöriga är välkomna och du behöver inte anmäla dig i par. Medlemskap i Parkinsonförbundet krävs. \nKursen arrangeras av Parkinson Malmö med stöd från Crafoordska stiftelsen. \nPlats:\nRydsgårdshus\, Västra Storgatan 4\, Rydsgård\n(Nära tågstationen.) \nDatum och tid:\nTisdagar kl. 17.00–18.30 (kort paus)\n3/3\, 10/3\, 24/3\, 31/3\, 7/4\, 14/4\, 28/4 \nTa med:\nNågot att dricka samt skor som går att dansa i (inte för hala\, ingen gummisula). \nAnmälan:\nmalmo@parkinsonskane.se \neller\nbirtes1@hotmail.com\n076-314 52 75
URL:https://parkinsonskane.se/evenemang/tangokurs-i-rydsgard-grundkurs-i-argentinsk-tango-2-2-2/2026-04-28/
LOCATION:Rydsgårdshus\, Västra Storgatan 4\, Rydsgård\, 274 60
CATEGORIES:Dans
ATTACH;FMTTYPE=image/jpeg:https://parkinsonskane.se/wp-content/uploads/2025/10/tango-syd.jpg
END:VEVENT
END:VCALENDAR