BEGIN:VCALENDAR
VERSION:2.0
PRODID:-//Parkinson Skåne - ECPv6.15.20//NONSGML v1.0//EN
CALSCALE:GREGORIAN
METHOD:PUBLISH
X-ORIGINAL-URL:https://parkinsonskane.se
X-WR-CALDESC:Händelser för Parkinson Skåne
REFRESH-INTERVAL;VALUE=DURATION:PT1H
X-Robots-Tag:noindex
X-PUBLISHED-TTL:PT1H
BEGIN:VTIMEZONE
TZID:Europe/Stockholm
BEGIN:DAYLIGHT
TZOFFSETFROM:+0100
TZOFFSETTO:+0200
TZNAME:CEST
DTSTART:20250330T010000
END:DAYLIGHT
BEGIN:STANDARD
TZOFFSETFROM:+0200
TZOFFSETTO:+0100
TZNAME:CET
DTSTART:20251026T010000
END:STANDARD
BEGIN:DAYLIGHT
TZOFFSETFROM:+0100
TZOFFSETTO:+0200
TZNAME:CEST
DTSTART:20260329T010000
END:DAYLIGHT
BEGIN:STANDARD
TZOFFSETFROM:+0200
TZOFFSETTO:+0100
TZNAME:CET
DTSTART:20261025T010000
END:STANDARD
BEGIN:DAYLIGHT
TZOFFSETFROM:+0100
TZOFFSETTO:+0200
TZNAME:CEST
DTSTART:20270328T010000
END:DAYLIGHT
BEGIN:STANDARD
TZOFFSETFROM:+0200
TZOFFSETTO:+0100
TZNAME:CET
DTSTART:20271031T010000
END:STANDARD
END:VTIMEZONE
BEGIN:VEVENT
DTSTART;TZID=Europe/Stockholm:20260429T180000
DTEND;TZID=Europe/Stockholm:20260429T184500
DTSTAMP:20260424T184032
CREATED:20260418T114122Z
LAST-MODIFIED:20260418T114123Z
UID:10012435-1777485600-1777488300@parkinsonskane.se
SUMMARY:Malmö har boxning
DESCRIPTION:Boxningen hålls på 360 Functional Fitness på Lundavägen 60 i Malmö. Vi tränar onsdagar kl. 18.00–18.45\, med start 7 januari 2026 och sista tillfället 24 juni 2026. \nPlats: 360 Functional Fitness\, Lundavägen 60\, Malmö\nTid: Onsdagar kl. 18.00–18.45 (7 januari–24 juni 2026) \nAvgift: Egenavgiften för boxningen är 150 kr. Den betalas till Parkinson Malmö när du bestämt dig för att delta.\nBankgiro: 655-6930\nSwish: 123 623 86 46 \nAvgiften inkluderar även alla föreningens övriga aktiviteter. \nAnmälan/intresse: mejla malmo@parkinsonskane.se\nom du vill vara med. Du kan prova på vid första tillfället innan du bestämmer dig.
URL:https://parkinsonskane.se/evenemang/malmo-har-boxning-4-2-2-2-2-2/2026-04-29/
LOCATION:360 Functional Fitness\, Lundavägen 60\, Malmö\, 212 25
CATEGORIES:Boxträning
ATTACH;FMTTYPE=image/jpeg:https://parkinsonskane.se/wp-content/uploads/2025/09/malmo-box.jpg
END:VEVENT
BEGIN:VEVENT
DTSTART;TZID=Europe/Stockholm:20260506T180000
DTEND;TZID=Europe/Stockholm:20260506T184500
DTSTAMP:20260424T184032
CREATED:20260418T114122Z
LAST-MODIFIED:20260418T114123Z
UID:10012436-1778090400-1778093100@parkinsonskane.se
SUMMARY:Malmö har boxning
DESCRIPTION:Boxningen hålls på 360 Functional Fitness på Lundavägen 60 i Malmö. Vi tränar onsdagar kl. 18.00–18.45\, med start 7 januari 2026 och sista tillfället 24 juni 2026. \nPlats: 360 Functional Fitness\, Lundavägen 60\, Malmö\nTid: Onsdagar kl. 18.00–18.45 (7 januari–24 juni 2026) \nAvgift: Egenavgiften för boxningen är 150 kr. Den betalas till Parkinson Malmö när du bestämt dig för att delta.\nBankgiro: 655-6930\nSwish: 123 623 86 46 \nAvgiften inkluderar även alla föreningens övriga aktiviteter. \nAnmälan/intresse: mejla malmo@parkinsonskane.se\nom du vill vara med. Du kan prova på vid första tillfället innan du bestämmer dig.
URL:https://parkinsonskane.se/evenemang/malmo-har-boxning-4-2-2-2-2-2/2026-05-06/
LOCATION:360 Functional Fitness\, Lundavägen 60\, Malmö\, 212 25
CATEGORIES:Boxträning
ATTACH;FMTTYPE=image/jpeg:https://parkinsonskane.se/wp-content/uploads/2025/09/malmo-box.jpg
END:VEVENT
BEGIN:VEVENT
DTSTART;TZID=Europe/Stockholm:20260513T180000
DTEND;TZID=Europe/Stockholm:20260513T184500
DTSTAMP:20260424T184032
CREATED:20260418T114122Z
LAST-MODIFIED:20260418T114123Z
UID:10012437-1778695200-1778697900@parkinsonskane.se
SUMMARY:Malmö har boxning
DESCRIPTION:Boxningen hålls på 360 Functional Fitness på Lundavägen 60 i Malmö. Vi tränar onsdagar kl. 18.00–18.45\, med start 7 januari 2026 och sista tillfället 24 juni 2026. \nPlats: 360 Functional Fitness\, Lundavägen 60\, Malmö\nTid: Onsdagar kl. 18.00–18.45 (7 januari–24 juni 2026) \nAvgift: Egenavgiften för boxningen är 150 kr. Den betalas till Parkinson Malmö när du bestämt dig för att delta.\nBankgiro: 655-6930\nSwish: 123 623 86 46 \nAvgiften inkluderar även alla föreningens övriga aktiviteter. \nAnmälan/intresse: mejla malmo@parkinsonskane.se\nom du vill vara med. Du kan prova på vid första tillfället innan du bestämmer dig.
URL:https://parkinsonskane.se/evenemang/malmo-har-boxning-4-2-2-2-2-2/2026-05-13/
LOCATION:360 Functional Fitness\, Lundavägen 60\, Malmö\, 212 25
CATEGORIES:Boxträning
ATTACH;FMTTYPE=image/jpeg:https://parkinsonskane.se/wp-content/uploads/2025/09/malmo-box.jpg
END:VEVENT
BEGIN:VEVENT
DTSTART;TZID=Europe/Stockholm:20260520T180000
DTEND;TZID=Europe/Stockholm:20260520T184500
DTSTAMP:20260424T184032
CREATED:20260418T114122Z
LAST-MODIFIED:20260418T114123Z
UID:10012438-1779300000-1779302700@parkinsonskane.se
SUMMARY:Malmö har boxning
DESCRIPTION:Boxningen hålls på 360 Functional Fitness på Lundavägen 60 i Malmö. Vi tränar onsdagar kl. 18.00–18.45\, med start 7 januari 2026 och sista tillfället 24 juni 2026. \nPlats: 360 Functional Fitness\, Lundavägen 60\, Malmö\nTid: Onsdagar kl. 18.00–18.45 (7 januari–24 juni 2026) \nAvgift: Egenavgiften för boxningen är 150 kr. Den betalas till Parkinson Malmö när du bestämt dig för att delta.\nBankgiro: 655-6930\nSwish: 123 623 86 46 \nAvgiften inkluderar även alla föreningens övriga aktiviteter. \nAnmälan/intresse: mejla malmo@parkinsonskane.se\nom du vill vara med. Du kan prova på vid första tillfället innan du bestämmer dig.
URL:https://parkinsonskane.se/evenemang/malmo-har-boxning-4-2-2-2-2-2/2026-05-20/
LOCATION:360 Functional Fitness\, Lundavägen 60\, Malmö\, 212 25
CATEGORIES:Boxträning
ATTACH;FMTTYPE=image/jpeg:https://parkinsonskane.se/wp-content/uploads/2025/09/malmo-box.jpg
END:VEVENT
BEGIN:VEVENT
DTSTART;TZID=Europe/Stockholm:20260527T180000
DTEND;TZID=Europe/Stockholm:20260527T184500
DTSTAMP:20260424T184032
CREATED:20260418T114122Z
LAST-MODIFIED:20260418T114123Z
UID:10012439-1779904800-1779907500@parkinsonskane.se
SUMMARY:Malmö har boxning
DESCRIPTION:Boxningen hålls på 360 Functional Fitness på Lundavägen 60 i Malmö. Vi tränar onsdagar kl. 18.00–18.45\, med start 7 januari 2026 och sista tillfället 24 juni 2026. \nPlats: 360 Functional Fitness\, Lundavägen 60\, Malmö\nTid: Onsdagar kl. 18.00–18.45 (7 januari–24 juni 2026) \nAvgift: Egenavgiften för boxningen är 150 kr. Den betalas till Parkinson Malmö när du bestämt dig för att delta.\nBankgiro: 655-6930\nSwish: 123 623 86 46 \nAvgiften inkluderar även alla föreningens övriga aktiviteter. \nAnmälan/intresse: mejla malmo@parkinsonskane.se\nom du vill vara med. Du kan prova på vid första tillfället innan du bestämmer dig.
URL:https://parkinsonskane.se/evenemang/malmo-har-boxning-4-2-2-2-2-2/2026-05-27/
LOCATION:360 Functional Fitness\, Lundavägen 60\, Malmö\, 212 25
CATEGORIES:Boxträning
ATTACH;FMTTYPE=image/jpeg:https://parkinsonskane.se/wp-content/uploads/2025/09/malmo-box.jpg
END:VEVENT
BEGIN:VEVENT
DTSTART;TZID=Europe/Stockholm:20260603T180000
DTEND;TZID=Europe/Stockholm:20260603T184500
DTSTAMP:20260424T184032
CREATED:20260418T114122Z
LAST-MODIFIED:20260418T114123Z
UID:10012440-1780509600-1780512300@parkinsonskane.se
SUMMARY:Malmö har boxning
DESCRIPTION:Boxningen hålls på 360 Functional Fitness på Lundavägen 60 i Malmö. Vi tränar onsdagar kl. 18.00–18.45\, med start 7 januari 2026 och sista tillfället 24 juni 2026. \nPlats: 360 Functional Fitness\, Lundavägen 60\, Malmö\nTid: Onsdagar kl. 18.00–18.45 (7 januari–24 juni 2026) \nAvgift: Egenavgiften för boxningen är 150 kr. Den betalas till Parkinson Malmö när du bestämt dig för att delta.\nBankgiro: 655-6930\nSwish: 123 623 86 46 \nAvgiften inkluderar även alla föreningens övriga aktiviteter. \nAnmälan/intresse: mejla malmo@parkinsonskane.se\nom du vill vara med. Du kan prova på vid första tillfället innan du bestämmer dig.
URL:https://parkinsonskane.se/evenemang/malmo-har-boxning-4-2-2-2-2-2/2026-06-03/
LOCATION:360 Functional Fitness\, Lundavägen 60\, Malmö\, 212 25
CATEGORIES:Boxträning
ATTACH;FMTTYPE=image/jpeg:https://parkinsonskane.se/wp-content/uploads/2025/09/malmo-box.jpg
END:VEVENT
BEGIN:VEVENT
DTSTART;TZID=Europe/Stockholm:20260610T180000
DTEND;TZID=Europe/Stockholm:20260610T184500
DTSTAMP:20260424T184032
CREATED:20260418T114122Z
LAST-MODIFIED:20260418T114123Z
UID:10012441-1781114400-1781117100@parkinsonskane.se
SUMMARY:Malmö har boxning
DESCRIPTION:Boxningen hålls på 360 Functional Fitness på Lundavägen 60 i Malmö. Vi tränar onsdagar kl. 18.00–18.45\, med start 7 januari 2026 och sista tillfället 24 juni 2026. \nPlats: 360 Functional Fitness\, Lundavägen 60\, Malmö\nTid: Onsdagar kl. 18.00–18.45 (7 januari–24 juni 2026) \nAvgift: Egenavgiften för boxningen är 150 kr. Den betalas till Parkinson Malmö när du bestämt dig för att delta.\nBankgiro: 655-6930\nSwish: 123 623 86 46 \nAvgiften inkluderar även alla föreningens övriga aktiviteter. \nAnmälan/intresse: mejla malmo@parkinsonskane.se\nom du vill vara med. Du kan prova på vid första tillfället innan du bestämmer dig.
URL:https://parkinsonskane.se/evenemang/malmo-har-boxning-4-2-2-2-2-2/2026-06-10/
LOCATION:360 Functional Fitness\, Lundavägen 60\, Malmö\, 212 25
CATEGORIES:Boxträning
ATTACH;FMTTYPE=image/jpeg:https://parkinsonskane.se/wp-content/uploads/2025/09/malmo-box.jpg
END:VEVENT
BEGIN:VEVENT
DTSTART;TZID=Europe/Stockholm:20260617T180000
DTEND;TZID=Europe/Stockholm:20260617T184500
DTSTAMP:20260424T184032
CREATED:20260418T114122Z
LAST-MODIFIED:20260418T114123Z
UID:10012442-1781719200-1781721900@parkinsonskane.se
SUMMARY:Malmö har boxning
DESCRIPTION:Boxningen hålls på 360 Functional Fitness på Lundavägen 60 i Malmö. Vi tränar onsdagar kl. 18.00–18.45\, med start 7 januari 2026 och sista tillfället 24 juni 2026. \nPlats: 360 Functional Fitness\, Lundavägen 60\, Malmö\nTid: Onsdagar kl. 18.00–18.45 (7 januari–24 juni 2026) \nAvgift: Egenavgiften för boxningen är 150 kr. Den betalas till Parkinson Malmö när du bestämt dig för att delta.\nBankgiro: 655-6930\nSwish: 123 623 86 46 \nAvgiften inkluderar även alla föreningens övriga aktiviteter. \nAnmälan/intresse: mejla malmo@parkinsonskane.se\nom du vill vara med. Du kan prova på vid första tillfället innan du bestämmer dig.
URL:https://parkinsonskane.se/evenemang/malmo-har-boxning-4-2-2-2-2-2/2026-06-17/
LOCATION:360 Functional Fitness\, Lundavägen 60\, Malmö\, 212 25
CATEGORIES:Boxträning
ATTACH;FMTTYPE=image/jpeg:https://parkinsonskane.se/wp-content/uploads/2025/09/malmo-box.jpg
END:VEVENT
BEGIN:VEVENT
DTSTART;TZID=Europe/Stockholm:20260624T180000
DTEND;TZID=Europe/Stockholm:20260624T184500
DTSTAMP:20260424T184032
CREATED:20260418T114122Z
LAST-MODIFIED:20260418T114123Z
UID:10012443-1782324000-1782326700@parkinsonskane.se
SUMMARY:Malmö har boxning
DESCRIPTION:Boxningen hålls på 360 Functional Fitness på Lundavägen 60 i Malmö. Vi tränar onsdagar kl. 18.00–18.45\, med start 7 januari 2026 och sista tillfället 24 juni 2026. \nPlats: 360 Functional Fitness\, Lundavägen 60\, Malmö\nTid: Onsdagar kl. 18.00–18.45 (7 januari–24 juni 2026) \nAvgift: Egenavgiften för boxningen är 150 kr. Den betalas till Parkinson Malmö när du bestämt dig för att delta.\nBankgiro: 655-6930\nSwish: 123 623 86 46 \nAvgiften inkluderar även alla föreningens övriga aktiviteter. \nAnmälan/intresse: mejla malmo@parkinsonskane.se\nom du vill vara med. Du kan prova på vid första tillfället innan du bestämmer dig.
URL:https://parkinsonskane.se/evenemang/malmo-har-boxning-4-2-2-2-2-2/2026-06-24/
LOCATION:360 Functional Fitness\, Lundavägen 60\, Malmö\, 212 25
CATEGORIES:Boxträning
ATTACH;FMTTYPE=image/jpeg:https://parkinsonskane.se/wp-content/uploads/2025/09/malmo-box.jpg
END:VEVENT
END:VCALENDAR