BEGIN:VCALENDAR
VERSION:2.0
PRODID:-//Parkinson Skåne - ECPv6.15.20//NONSGML v1.0//EN
CALSCALE:GREGORIAN
METHOD:PUBLISH
X-WR-CALNAME:Parkinson Skåne
X-ORIGINAL-URL:https://parkinsonskane.se
X-WR-CALDESC:Händelser för Parkinson Skåne
REFRESH-INTERVAL;VALUE=DURATION:PT1H
X-Robots-Tag:noindex
X-PUBLISHED-TTL:PT1H
BEGIN:VTIMEZONE
TZID:Europe/Stockholm
BEGIN:DAYLIGHT
TZOFFSETFROM:+0100
TZOFFSETTO:+0200
TZNAME:CEST
DTSTART:20240331T010000
END:DAYLIGHT
BEGIN:STANDARD
TZOFFSETFROM:+0200
TZOFFSETTO:+0100
TZNAME:CET
DTSTART:20241027T010000
END:STANDARD
BEGIN:DAYLIGHT
TZOFFSETFROM:+0100
TZOFFSETTO:+0200
TZNAME:CEST
DTSTART:20250330T010000
END:DAYLIGHT
BEGIN:STANDARD
TZOFFSETFROM:+0200
TZOFFSETTO:+0100
TZNAME:CET
DTSTART:20251026T010000
END:STANDARD
BEGIN:DAYLIGHT
TZOFFSETFROM:+0100
TZOFFSETTO:+0200
TZNAME:CEST
DTSTART:20260329T010000
END:DAYLIGHT
BEGIN:STANDARD
TZOFFSETFROM:+0200
TZOFFSETTO:+0100
TZNAME:CET
DTSTART:20261025T010000
END:STANDARD
BEGIN:DAYLIGHT
TZOFFSETFROM:+0100
TZOFFSETTO:+0200
TZNAME:CEST
DTSTART:20270328T010000
END:DAYLIGHT
BEGIN:STANDARD
TZOFFSETFROM:+0200
TZOFFSETTO:+0100
TZNAME:CET
DTSTART:20271031T010000
END:STANDARD
END:VTIMEZONE
BEGIN:VEVENT
DTSTART;TZID=Europe/Stockholm:20260107T180000
DTEND;TZID=Europe/Stockholm:20260107T184500
DTSTAMP:20260424T211338
CREATED:20251215T162240Z
LAST-MODIFIED:20251231T122740Z
UID:10012419-1767808800-1767811500@parkinsonskane.se
SUMMARY:Malmö har boxning
DESCRIPTION:Boxningen hålls på 360 Functional Fitness på Lundavägen 60 i Malmö. Vi tränar onsdagar kl. 18.00–18.45\, med start 7 januari 2026 och sista tillfället 24 juni 2026. \nPlats: 360 Functional Fitness\, Lundavägen 60\, Malmö\nTid: Onsdagar kl. 18.00–18.45  (7 januari–24 juni 2026) \nAvgift: Egenavgiften för boxningen är 500 kr. Den betalas till Parkinson Malmö när du bestämt dig för att delta.\nBankgiro: 655-6930\nSwish: 123 623 86 46 \nAvgiften inkluderar även alla föreningens övriga aktiviteter. \nAnmälan/intresse: mejla malmo@parkinsonskane.se\nom du vill vara med. Du kan prova på vid första tillfället innan du bestämmer dig.
URL:https://parkinsonskane.se/evenemang/malmo-har-boxning-4/
LOCATION:360 Functional Fitness\, Lundavägen 60\, Malmö\, 212 25
CATEGORIES:Boxträning
ATTACH;FMTTYPE=image/jpeg:https://parkinsonskane.se/wp-content/uploads/2025/09/malmo-box.jpg
END:VEVENT
BEGIN:VEVENT
DTSTART;TZID=Europe/Stockholm:20251105T180000
DTEND;TZID=Europe/Stockholm:20251105T190000
DTSTAMP:20260424T211338
CREATED:20251031T082159Z
LAST-MODIFIED:20251031T082159Z
UID:10012365-1762365600-1762369200@parkinsonskane.se
SUMMARY:Malmö har boxning - OBS! Ny lokal och tid
DESCRIPTION:Boxningen flyttar till 360 Functional Fitness på Lundavägen 60 i Malmö. Vi tränar på onsdagar kl. 18.00–19.00\, fram till den 17 december 2025. \nPlats: 360 Functional Fitness\, Lundavägen 60\, MalmöTid: Onsdagar kl. 18.00–19.00 (t.o.m. 17 december 2025) \nAvgift: Egenavgiften för boxningen är 500 kr. Den betalas till Parkinson Malmö när du bestämt dig för att delta: \nBankgiro: 655-6930\nSwish: 123 623 86 46\nAvgiften inkluderar även alla föreningens övriga aktiviteter. \nAnmälan/intresse: Mejla malmo@parkinsonskane.se om du vill vara med. Du kan prova på vid första tillfället innan du bestämmer dig.
URL:https://parkinsonskane.se/evenemang/malmo-har-boxning-3-2-2-2/2025-11-05/
LOCATION:360 Functional Fitness\, Lundavägen 60\, Malmö\, 212 25
CATEGORIES:Boxträning
ATTACH;FMTTYPE=image/jpeg:https://parkinsonskane.se/wp-content/uploads/2025/09/malmo-box.jpg
END:VEVENT
BEGIN:VEVENT
DTSTART;TZID=Europe/Stockholm:20251112T180000
DTEND;TZID=Europe/Stockholm:20251112T190000
DTSTAMP:20260424T211338
CREATED:20251031T082159Z
LAST-MODIFIED:20251031T082159Z
UID:10012366-1762970400-1762974000@parkinsonskane.se
SUMMARY:Malmö har boxning - OBS! Ny lokal och tid
DESCRIPTION:Boxningen flyttar till 360 Functional Fitness på Lundavägen 60 i Malmö. Vi tränar på onsdagar kl. 18.00–19.00\, fram till den 17 december 2025. \nPlats: 360 Functional Fitness\, Lundavägen 60\, MalmöTid: Onsdagar kl. 18.00–19.00 (t.o.m. 17 december 2025) \nAvgift: Egenavgiften för boxningen är 500 kr. Den betalas till Parkinson Malmö när du bestämt dig för att delta: \nBankgiro: 655-6930\nSwish: 123 623 86 46\nAvgiften inkluderar även alla föreningens övriga aktiviteter. \nAnmälan/intresse: Mejla malmo@parkinsonskane.se om du vill vara med. Du kan prova på vid första tillfället innan du bestämmer dig.
URL:https://parkinsonskane.se/evenemang/malmo-har-boxning-3-2-2-2/2025-11-12/
LOCATION:360 Functional Fitness\, Lundavägen 60\, Malmö\, 212 25
CATEGORIES:Boxträning
ATTACH;FMTTYPE=image/jpeg:https://parkinsonskane.se/wp-content/uploads/2025/09/malmo-box.jpg
END:VEVENT
BEGIN:VEVENT
DTSTART;TZID=Europe/Stockholm:20251119T180000
DTEND;TZID=Europe/Stockholm:20251119T190000
DTSTAMP:20260424T211338
CREATED:20251031T082159Z
LAST-MODIFIED:20251031T082159Z
UID:10012367-1763575200-1763578800@parkinsonskane.se
SUMMARY:Malmö har boxning - OBS! Ny lokal och tid
DESCRIPTION:Boxningen flyttar till 360 Functional Fitness på Lundavägen 60 i Malmö. Vi tränar på onsdagar kl. 18.00–19.00\, fram till den 17 december 2025. \nPlats: 360 Functional Fitness\, Lundavägen 60\, MalmöTid: Onsdagar kl. 18.00–19.00 (t.o.m. 17 december 2025) \nAvgift: Egenavgiften för boxningen är 500 kr. Den betalas till Parkinson Malmö när du bestämt dig för att delta: \nBankgiro: 655-6930\nSwish: 123 623 86 46\nAvgiften inkluderar även alla föreningens övriga aktiviteter. \nAnmälan/intresse: Mejla malmo@parkinsonskane.se om du vill vara med. Du kan prova på vid första tillfället innan du bestämmer dig.
URL:https://parkinsonskane.se/evenemang/malmo-har-boxning-3-2-2-2/2025-11-19/
LOCATION:360 Functional Fitness\, Lundavägen 60\, Malmö\, 212 25
CATEGORIES:Boxträning
ATTACH;FMTTYPE=image/jpeg:https://parkinsonskane.se/wp-content/uploads/2025/09/malmo-box.jpg
END:VEVENT
BEGIN:VEVENT
DTSTART;TZID=Europe/Stockholm:20251126T180000
DTEND;TZID=Europe/Stockholm:20251126T190000
DTSTAMP:20260424T211338
CREATED:20251031T082159Z
LAST-MODIFIED:20251031T082159Z
UID:10012368-1764180000-1764183600@parkinsonskane.se
SUMMARY:Malmö har boxning - OBS! Ny lokal och tid
DESCRIPTION:Boxningen flyttar till 360 Functional Fitness på Lundavägen 60 i Malmö. Vi tränar på onsdagar kl. 18.00–19.00\, fram till den 17 december 2025. \nPlats: 360 Functional Fitness\, Lundavägen 60\, MalmöTid: Onsdagar kl. 18.00–19.00 (t.o.m. 17 december 2025) \nAvgift: Egenavgiften för boxningen är 500 kr. Den betalas till Parkinson Malmö när du bestämt dig för att delta: \nBankgiro: 655-6930\nSwish: 123 623 86 46\nAvgiften inkluderar även alla föreningens övriga aktiviteter. \nAnmälan/intresse: Mejla malmo@parkinsonskane.se om du vill vara med. Du kan prova på vid första tillfället innan du bestämmer dig.
URL:https://parkinsonskane.se/evenemang/malmo-har-boxning-3-2-2-2/2025-11-26/
LOCATION:360 Functional Fitness\, Lundavägen 60\, Malmö\, 212 25
CATEGORIES:Boxträning
ATTACH;FMTTYPE=image/jpeg:https://parkinsonskane.se/wp-content/uploads/2025/09/malmo-box.jpg
END:VEVENT
BEGIN:VEVENT
DTSTART;TZID=Europe/Stockholm:20251203T180000
DTEND;TZID=Europe/Stockholm:20251203T190000
DTSTAMP:20260424T211338
CREATED:20251031T082159Z
LAST-MODIFIED:20251031T082159Z
UID:10012369-1764784800-1764788400@parkinsonskane.se
SUMMARY:Malmö har boxning - OBS! Ny lokal och tid
DESCRIPTION:Boxningen flyttar till 360 Functional Fitness på Lundavägen 60 i Malmö. Vi tränar på onsdagar kl. 18.00–19.00\, fram till den 17 december 2025. \nPlats: 360 Functional Fitness\, Lundavägen 60\, MalmöTid: Onsdagar kl. 18.00–19.00 (t.o.m. 17 december 2025) \nAvgift: Egenavgiften för boxningen är 500 kr. Den betalas till Parkinson Malmö när du bestämt dig för att delta: \nBankgiro: 655-6930\nSwish: 123 623 86 46\nAvgiften inkluderar även alla föreningens övriga aktiviteter. \nAnmälan/intresse: Mejla malmo@parkinsonskane.se om du vill vara med. Du kan prova på vid första tillfället innan du bestämmer dig.
URL:https://parkinsonskane.se/evenemang/malmo-har-boxning-3-2-2-2/2025-12-03/
LOCATION:360 Functional Fitness\, Lundavägen 60\, Malmö\, 212 25
CATEGORIES:Boxträning
ATTACH;FMTTYPE=image/jpeg:https://parkinsonskane.se/wp-content/uploads/2025/09/malmo-box.jpg
END:VEVENT
BEGIN:VEVENT
DTSTART;TZID=Europe/Stockholm:20251210T180000
DTEND;TZID=Europe/Stockholm:20251210T190000
DTSTAMP:20260424T211338
CREATED:20251031T082159Z
LAST-MODIFIED:20251031T082159Z
UID:10012370-1765389600-1765393200@parkinsonskane.se
SUMMARY:Malmö har boxning - OBS! Ny lokal och tid
DESCRIPTION:Boxningen flyttar till 360 Functional Fitness på Lundavägen 60 i Malmö. Vi tränar på onsdagar kl. 18.00–19.00\, fram till den 17 december 2025. \nPlats: 360 Functional Fitness\, Lundavägen 60\, MalmöTid: Onsdagar kl. 18.00–19.00 (t.o.m. 17 december 2025) \nAvgift: Egenavgiften för boxningen är 500 kr. Den betalas till Parkinson Malmö när du bestämt dig för att delta: \nBankgiro: 655-6930\nSwish: 123 623 86 46\nAvgiften inkluderar även alla föreningens övriga aktiviteter. \nAnmälan/intresse: Mejla malmo@parkinsonskane.se om du vill vara med. Du kan prova på vid första tillfället innan du bestämmer dig.
URL:https://parkinsonskane.se/evenemang/malmo-har-boxning-3-2-2-2/2025-12-10/
LOCATION:360 Functional Fitness\, Lundavägen 60\, Malmö\, 212 25
CATEGORIES:Boxträning
ATTACH;FMTTYPE=image/jpeg:https://parkinsonskane.se/wp-content/uploads/2025/09/malmo-box.jpg
END:VEVENT
BEGIN:VEVENT
DTSTART;TZID=Europe/Stockholm:20251217T180000
DTEND;TZID=Europe/Stockholm:20251217T190000
DTSTAMP:20260424T211338
CREATED:20251031T082159Z
LAST-MODIFIED:20251031T082159Z
UID:10012371-1765994400-1765998000@parkinsonskane.se
SUMMARY:Malmö har boxning - OBS! Ny lokal och tid
DESCRIPTION:Boxningen flyttar till 360 Functional Fitness på Lundavägen 60 i Malmö. Vi tränar på onsdagar kl. 18.00–19.00\, fram till den 17 december 2025. \nPlats: 360 Functional Fitness\, Lundavägen 60\, MalmöTid: Onsdagar kl. 18.00–19.00 (t.o.m. 17 december 2025) \nAvgift: Egenavgiften för boxningen är 500 kr. Den betalas till Parkinson Malmö när du bestämt dig för att delta: \nBankgiro: 655-6930\nSwish: 123 623 86 46\nAvgiften inkluderar även alla föreningens övriga aktiviteter. \nAnmälan/intresse: Mejla malmo@parkinsonskane.se om du vill vara med. Du kan prova på vid första tillfället innan du bestämmer dig.
URL:https://parkinsonskane.se/evenemang/malmo-har-boxning-3-2-2-2/2025-12-17/
LOCATION:360 Functional Fitness\, Lundavägen 60\, Malmö\, 212 25
CATEGORIES:Boxträning
ATTACH;FMTTYPE=image/jpeg:https://parkinsonskane.se/wp-content/uploads/2025/09/malmo-box.jpg
END:VEVENT
BEGIN:VEVENT
DTSTART;TZID=Europe/Stockholm:20251015T180000
DTEND;TZID=Europe/Stockholm:20251015T190000
DTSTAMP:20260424T211338
CREATED:20251007T082710Z
LAST-MODIFIED:20251008T111611Z
UID:10012362-1760551200-1760554800@parkinsonskane.se
SUMMARY:Malmö har boxning - OBS! Ny lokal och tid
DESCRIPTION:Boxningen flyttar till 360 Functional Fitness på Lundavägen 60 i Malmö. Vi tränar på onsdagar kl. 18.00–19.00\, fram till den 17 december 2025. \nPlats: 360 Functional Fitness\, Lundavägen 60\, MalmöTid: Onsdagar kl. 18.00–19.00 (t.o.m. 17 december 2025) \nAvgift: Egenavgiften för boxningen är 500 kr. Den betalas till Parkinson Malmö när du bestämt dig för att delta: \nBankgiro: 655-6930\nSwish: 123 623 86 46\nAvgiften inkluderar även alla föreningens övriga aktiviteter. \nAnmälan/intresse: Mejla malmo@parkinsonskane.se om du vill vara med. Du kan prova på vid första tillfället innan du bestämmer dig.
URL:https://parkinsonskane.se/evenemang/malmo-har-boxning-3-2-2/2025-10-15/
LOCATION:360 Functional Fitness\, Lundavägen 60\, Malmö\, 212 25
CATEGORIES:Boxträning
ATTACH;FMTTYPE=image/jpeg:https://parkinsonskane.se/wp-content/uploads/2025/09/malmo-box.jpg
END:VEVENT
BEGIN:VEVENT
DTSTART;TZID=Europe/Stockholm:20251022T180000
DTEND;TZID=Europe/Stockholm:20251022T190000
DTSTAMP:20260424T211338
CREATED:20251007T082710Z
LAST-MODIFIED:20251008T111611Z
UID:10012363-1761156000-1761159600@parkinsonskane.se
SUMMARY:Malmö har boxning - OBS! Ny lokal och tid
DESCRIPTION:Boxningen flyttar till 360 Functional Fitness på Lundavägen 60 i Malmö. Vi tränar på onsdagar kl. 18.00–19.00\, fram till den 17 december 2025. \nPlats: 360 Functional Fitness\, Lundavägen 60\, MalmöTid: Onsdagar kl. 18.00–19.00 (t.o.m. 17 december 2025) \nAvgift: Egenavgiften för boxningen är 500 kr. Den betalas till Parkinson Malmö när du bestämt dig för att delta: \nBankgiro: 655-6930\nSwish: 123 623 86 46\nAvgiften inkluderar även alla föreningens övriga aktiviteter. \nAnmälan/intresse: Mejla malmo@parkinsonskane.se om du vill vara med. Du kan prova på vid första tillfället innan du bestämmer dig.
URL:https://parkinsonskane.se/evenemang/malmo-har-boxning-3-2-2/2025-10-22/
LOCATION:360 Functional Fitness\, Lundavägen 60\, Malmö\, 212 25
CATEGORIES:Boxträning
ATTACH;FMTTYPE=image/jpeg:https://parkinsonskane.se/wp-content/uploads/2025/09/malmo-box.jpg
END:VEVENT
BEGIN:VEVENT
DTSTART;TZID=Europe/Stockholm:20251029T180000
DTEND;TZID=Europe/Stockholm:20251029T190000
DTSTAMP:20260424T211338
CREATED:20251007T082710Z
LAST-MODIFIED:20251008T111611Z
UID:10012364-1761760800-1761764400@parkinsonskane.se
SUMMARY:Malmö har boxning - OBS! Ny lokal och tid
DESCRIPTION:Boxningen flyttar till 360 Functional Fitness på Lundavägen 60 i Malmö. Vi tränar på onsdagar kl. 18.00–19.00\, fram till den 17 december 2025. \nPlats: 360 Functional Fitness\, Lundavägen 60\, MalmöTid: Onsdagar kl. 18.00–19.00 (t.o.m. 17 december 2025) \nAvgift: Egenavgiften för boxningen är 500 kr. Den betalas till Parkinson Malmö när du bestämt dig för att delta: \nBankgiro: 655-6930\nSwish: 123 623 86 46\nAvgiften inkluderar även alla föreningens övriga aktiviteter. \nAnmälan/intresse: Mejla malmo@parkinsonskane.se om du vill vara med. Du kan prova på vid första tillfället innan du bestämmer dig.
URL:https://parkinsonskane.se/evenemang/malmo-har-boxning-3-2-2/2025-10-29/
LOCATION:360 Functional Fitness\, Lundavägen 60\, Malmö\, 212 25
CATEGORIES:Boxträning
ATTACH;FMTTYPE=image/jpeg:https://parkinsonskane.se/wp-content/uploads/2025/09/malmo-box.jpg
END:VEVENT
BEGIN:VEVENT
DTSTART;TZID=Europe/Stockholm:20251008T180000
DTEND;TZID=Europe/Stockholm:20251008T190000
DTSTAMP:20260424T211338
CREATED:20251007T082710Z
LAST-MODIFIED:20251008T111611Z
UID:10012361-1759946400-1759950000@parkinsonskane.se
SUMMARY:Malmö har boxning - OBS! Ny lokal och tid
DESCRIPTION:Boxningen flyttar till 360 Functional Fitness på Lundavägen 60 i Malmö. Vi tränar på onsdagar kl. 18.00–19.00\, fram till den 17 december 2025. \nPlats: 360 Functional Fitness\, Lundavägen 60\, MalmöTid: Onsdagar kl. 18.00–19.00 (t.o.m. 17 december 2025) \nAvgift: Egenavgiften för boxningen är 500 kr. Den betalas till Parkinson Malmö när du bestämt dig för att delta: \nBankgiro: 655-6930\nSwish: 123 623 86 46\nAvgiften inkluderar även alla föreningens övriga aktiviteter. \nAnmälan/intresse: Mejla malmo@parkinsonskane.se om du vill vara med. Du kan prova på vid första tillfället innan du bestämmer dig.
URL:https://parkinsonskane.se/evenemang/malmo-har-boxning-3-2-2/2025-10-08/
LOCATION:360 Functional Fitness\, Lundavägen 60\, Malmö\, 212 25
CATEGORIES:Boxträning
ATTACH;FMTTYPE=image/jpeg:https://parkinsonskane.se/wp-content/uploads/2025/09/malmo-box.jpg
END:VEVENT
BEGIN:VEVENT
DTSTART;TZID=Europe/Stockholm:20251001T180000
DTEND;TZID=Europe/Stockholm:20251001T190000
DTSTAMP:20260424T211338
CREATED:20250925T181908Z
LAST-MODIFIED:20251002T083851Z
UID:10012360-1759341600-1759345200@parkinsonskane.se
SUMMARY:Malmö har boxning - OBS! Ny lokal och tid
DESCRIPTION:Boxningen flyttar till 360 Functional Fitness på Lundavägen 60 i Malmö. Vi tränar på onsdagar kl. 18.00–19.00\, fram till den 17 december 2025. \nPlats: 360 Functional Fitness\, Lundavägen 60\, MalmöTid: Onsdagar kl. 18.00–19.00 (t.o.m. 16 december 2025) \nAvgift: Egenavgiften för boxningen är 500 kr. Den betalas till Parkinson Malmö när du bestämt dig för att delta: \nBankgiro: 655-6930\nSwish: 123 623 86 46\nAvgiften inkluderar även alla föreningens övriga aktiviteter. \nAnmälan/intresse: Mejla malmo@parkinsonskane.se om du vill vara med. Du kan prova på vid första tillfället innan du bestämmer dig.
URL:https://parkinsonskane.se/evenemang/malmo-har-boxning-3-2/
LOCATION:360 Functional Fitness\, Lundavägen 60\, Malmö\, 212 25
CATEGORIES:Boxträning
ATTACH;FMTTYPE=image/jpeg:https://parkinsonskane.se/wp-content/uploads/2025/09/malmo-box.jpg
END:VEVENT
END:VCALENDAR