BEGIN:VCALENDAR
VERSION:2.0
PRODID:-//Parkinson Skåne - ECPv6.15.20//NONSGML v1.0//EN
CALSCALE:GREGORIAN
METHOD:PUBLISH
X-WR-CALNAME:Parkinson Skåne
X-ORIGINAL-URL:https://parkinsonskane.se
X-WR-CALDESC:Händelser för Parkinson Skåne
REFRESH-INTERVAL;VALUE=DURATION:PT1H
X-Robots-Tag:noindex
X-PUBLISHED-TTL:PT1H
BEGIN:VTIMEZONE
TZID:Europe/Stockholm
BEGIN:DAYLIGHT
TZOFFSETFROM:+0100
TZOFFSETTO:+0200
TZNAME:CEST
DTSTART:20250330T010000
END:DAYLIGHT
BEGIN:STANDARD
TZOFFSETFROM:+0200
TZOFFSETTO:+0100
TZNAME:CET
DTSTART:20251026T010000
END:STANDARD
BEGIN:DAYLIGHT
TZOFFSETFROM:+0100
TZOFFSETTO:+0200
TZNAME:CEST
DTSTART:20260329T010000
END:DAYLIGHT
BEGIN:STANDARD
TZOFFSETFROM:+0200
TZOFFSETTO:+0100
TZNAME:CET
DTSTART:20261025T010000
END:STANDARD
BEGIN:DAYLIGHT
TZOFFSETFROM:+0100
TZOFFSETTO:+0200
TZNAME:CEST
DTSTART:20270328T010000
END:DAYLIGHT
BEGIN:STANDARD
TZOFFSETFROM:+0200
TZOFFSETTO:+0100
TZNAME:CET
DTSTART:20271031T010000
END:STANDARD
END:VTIMEZONE
BEGIN:VEVENT
DTSTART;TZID=Europe/Stockholm:20260507T180000
DTEND;TZID=Europe/Stockholm:20260507T193000
DTSTAMP:20260424T174258
CREATED:20260129T095829Z
LAST-MODIFIED:20260313T132853Z
UID:10012985-1778176800-1778182200@parkinsonskane.se
SUMMARY:Lund har allsång
DESCRIPTION:I samverkan mellan Parkinson Lund och Studieförbundet Vuxenskolan (SV) fortsätter den uppskattade allsången även under våren. Efter ett välbesökt år ser vi fram emot att mötas igen och sjunga tillsammans. \nDet händer mycket i kroppen när vi sjunger. Endorfiner frigörs\, stresshormoner minskar och kroppens belöningssystem aktiveras – något som är bra både för välbefinnandet och hjärtat. Under våren sjunger vi välkända svenska visor och schlagers tillsammans. Inga förkunskaper krävs. Allsången leds av Benny Nielsen. \nTid: Torsdagar 19/2\, 5/3\, 12/3\, 23/4\, 7/5 och 21/5 kl. 18.00–19.30\nPlats: Annegården\, Skansvägen 5\, Lund \nAnmälan och avbokning: Senast 10 februari till Benny Nielsen via e-post benny@parkinsonlund.se\neller SMS 070-626 32 17.\nVid anmälan\, ange namn och e-postadress eller telefonnummer för samtliga deltagare. \nTips: Ta gärna med en flaska vatten – man blir törstig av att sjunga. \nKostnad: Föreningen bjuder på denna aktivitet. \nVarmt välkomna!
URL:https://parkinsonskane.se/evenemang/lund-har-allsang-4/2026-05-07/
LOCATION:Annegården\, Skansvägen 5\, Lund\, Skåne
CATEGORIES:Sång
ATTACH;FMTTYPE=image/jpeg:https://parkinsonskane.se/wp-content/uploads/2026/01/allsang.jpg
GEO:55.7295159;13.1942677
X-APPLE-STRUCTURED-LOCATION;VALUE=URI;X-ADDRESS=Annegården Skansvägen 5 Lund Skåne;X-APPLE-RADIUS=500;X-TITLE=Skansvägen 5:geo:13.1942677,55.7295159
END:VEVENT
BEGIN:VEVENT
DTSTART;TZID=Europe/Stockholm:20260521T180000
DTEND;TZID=Europe/Stockholm:20260521T193000
DTSTAMP:20260424T174258
CREATED:20260129T095829Z
LAST-MODIFIED:20260313T132853Z
UID:10012986-1779386400-1779391800@parkinsonskane.se
SUMMARY:Lund har allsång
DESCRIPTION:I samverkan mellan Parkinson Lund och Studieförbundet Vuxenskolan (SV) fortsätter den uppskattade allsången även under våren. Efter ett välbesökt år ser vi fram emot att mötas igen och sjunga tillsammans. \nDet händer mycket i kroppen när vi sjunger. Endorfiner frigörs\, stresshormoner minskar och kroppens belöningssystem aktiveras – något som är bra både för välbefinnandet och hjärtat. Under våren sjunger vi välkända svenska visor och schlagers tillsammans. Inga förkunskaper krävs. Allsången leds av Benny Nielsen. \nTid: Torsdagar 19/2\, 5/3\, 12/3\, 23/4\, 7/5 och 21/5 kl. 18.00–19.30\nPlats: Annegården\, Skansvägen 5\, Lund \nAnmälan och avbokning: Senast 10 februari till Benny Nielsen via e-post benny@parkinsonlund.se\neller SMS 070-626 32 17.\nVid anmälan\, ange namn och e-postadress eller telefonnummer för samtliga deltagare. \nTips: Ta gärna med en flaska vatten – man blir törstig av att sjunga. \nKostnad: Föreningen bjuder på denna aktivitet. \nVarmt välkomna!
URL:https://parkinsonskane.se/evenemang/lund-har-allsang-4/2026-05-21/
LOCATION:Annegården\, Skansvägen 5\, Lund\, Skåne
CATEGORIES:Sång
ATTACH;FMTTYPE=image/jpeg:https://parkinsonskane.se/wp-content/uploads/2026/01/allsang.jpg
GEO:55.7295159;13.1942677
X-APPLE-STRUCTURED-LOCATION;VALUE=URI;X-ADDRESS=Annegården Skansvägen 5 Lund Skåne;X-APPLE-RADIUS=500;X-TITLE=Skansvägen 5:geo:13.1942677,55.7295159
END:VEVENT
BEGIN:VEVENT
DTSTART;TZID=Europe/Stockholm:20260520T110000
DTEND;TZID=Europe/Stockholm:20260520T120000
DTSTAMP:20260424T174258
CREATED:20260313T124858Z
LAST-MODIFIED:20260313T124858Z
UID:10012756-1779274800-1779278400@parkinsonskane.se
SUMMARY:Lund har Mera liv och Tryggare vardag
DESCRIPTION:Mera liv anordnar funktionell träning där vi rör oss och har roligt tillsammans. Träningen varvar lugna och stillsamma övningar med sköna rörelser till musik samt balans- och fallteknik. Övningarna anpassas så att de fungerar både sittande och stående. \nTid: Onsdagar kl. 11.00–12.00\, varje vecka från 4 februari till 17 juni\nPlats: Annegården\, Skansvägen 5\, Lund \nAnmälan: Ingen anmälan behövs. \nKostnad: 25 kr per gång och person. Betalas kontant eller via Swish till instruktören. \nKontakt: Vid frågor eller för mer information\, kontakta Ulf Brandt via e-post uffe64@hotmail.com\neller SMS 070-436 94 24.
URL:https://parkinsonskane.se/evenemang/lund-har-mera-liv-och-tryggare-vardag-2-2/2026-05-20/
LOCATION:Annegården\, Skansvägen 5\, Lund\, Skåne
CATEGORIES:Mera LIV
ATTACH;FMTTYPE=image/jpeg:https://parkinsonskane.se/wp-content/uploads/2024/08/dans.jpg
GEO:55.7295159;13.1942677
X-APPLE-STRUCTURED-LOCATION;VALUE=URI;X-ADDRESS=Annegården Skansvägen 5 Lund Skåne;X-APPLE-RADIUS=500;X-TITLE=Skansvägen 5:geo:13.1942677,55.7295159
END:VEVENT
BEGIN:VEVENT
DTSTART;TZID=Europe/Stockholm:20260527T110000
DTEND;TZID=Europe/Stockholm:20260527T120000
DTSTAMP:20260424T174258
CREATED:20260313T124858Z
LAST-MODIFIED:20260313T124858Z
UID:10012757-1779879600-1779883200@parkinsonskane.se
SUMMARY:Lund har Mera liv och Tryggare vardag
DESCRIPTION:Mera liv anordnar funktionell träning där vi rör oss och har roligt tillsammans. Träningen varvar lugna och stillsamma övningar med sköna rörelser till musik samt balans- och fallteknik. Övningarna anpassas så att de fungerar både sittande och stående. \nTid: Onsdagar kl. 11.00–12.00\, varje vecka från 4 februari till 17 juni\nPlats: Annegården\, Skansvägen 5\, Lund \nAnmälan: Ingen anmälan behövs. \nKostnad: 25 kr per gång och person. Betalas kontant eller via Swish till instruktören. \nKontakt: Vid frågor eller för mer information\, kontakta Ulf Brandt via e-post uffe64@hotmail.com\neller SMS 070-436 94 24.
URL:https://parkinsonskane.se/evenemang/lund-har-mera-liv-och-tryggare-vardag-2-2/2026-05-27/
LOCATION:Annegården\, Skansvägen 5\, Lund\, Skåne
CATEGORIES:Mera LIV
ATTACH;FMTTYPE=image/jpeg:https://parkinsonskane.se/wp-content/uploads/2024/08/dans.jpg
GEO:55.7295159;13.1942677
X-APPLE-STRUCTURED-LOCATION;VALUE=URI;X-ADDRESS=Annegården Skansvägen 5 Lund Skåne;X-APPLE-RADIUS=500;X-TITLE=Skansvägen 5:geo:13.1942677,55.7295159
END:VEVENT
BEGIN:VEVENT
DTSTART;TZID=Europe/Stockholm:20260603T110000
DTEND;TZID=Europe/Stockholm:20260603T120000
DTSTAMP:20260424T174258
CREATED:20260313T124858Z
LAST-MODIFIED:20260313T124858Z
UID:10012758-1780484400-1780488000@parkinsonskane.se
SUMMARY:Lund har Mera liv och Tryggare vardag
DESCRIPTION:Mera liv anordnar funktionell träning där vi rör oss och har roligt tillsammans. Träningen varvar lugna och stillsamma övningar med sköna rörelser till musik samt balans- och fallteknik. Övningarna anpassas så att de fungerar både sittande och stående. \nTid: Onsdagar kl. 11.00–12.00\, varje vecka från 4 februari till 17 juni\nPlats: Annegården\, Skansvägen 5\, Lund \nAnmälan: Ingen anmälan behövs. \nKostnad: 25 kr per gång och person. Betalas kontant eller via Swish till instruktören. \nKontakt: Vid frågor eller för mer information\, kontakta Ulf Brandt via e-post uffe64@hotmail.com\neller SMS 070-436 94 24.
URL:https://parkinsonskane.se/evenemang/lund-har-mera-liv-och-tryggare-vardag-2-2/2026-06-03/
LOCATION:Annegården\, Skansvägen 5\, Lund\, Skåne
CATEGORIES:Mera LIV
ATTACH;FMTTYPE=image/jpeg:https://parkinsonskane.se/wp-content/uploads/2024/08/dans.jpg
GEO:55.7295159;13.1942677
X-APPLE-STRUCTURED-LOCATION;VALUE=URI;X-ADDRESS=Annegården Skansvägen 5 Lund Skåne;X-APPLE-RADIUS=500;X-TITLE=Skansvägen 5:geo:13.1942677,55.7295159
END:VEVENT
BEGIN:VEVENT
DTSTART;TZID=Europe/Stockholm:20260610T110000
DTEND;TZID=Europe/Stockholm:20260610T120000
DTSTAMP:20260424T174258
CREATED:20260313T124858Z
LAST-MODIFIED:20260313T124858Z
UID:10012759-1781089200-1781092800@parkinsonskane.se
SUMMARY:Lund har Mera liv och Tryggare vardag
DESCRIPTION:Mera liv anordnar funktionell träning där vi rör oss och har roligt tillsammans. Träningen varvar lugna och stillsamma övningar med sköna rörelser till musik samt balans- och fallteknik. Övningarna anpassas så att de fungerar både sittande och stående. \nTid: Onsdagar kl. 11.00–12.00\, varje vecka från 4 februari till 17 juni\nPlats: Annegården\, Skansvägen 5\, Lund \nAnmälan: Ingen anmälan behövs. \nKostnad: 25 kr per gång och person. Betalas kontant eller via Swish till instruktören. \nKontakt: Vid frågor eller för mer information\, kontakta Ulf Brandt via e-post uffe64@hotmail.com\neller SMS 070-436 94 24.
URL:https://parkinsonskane.se/evenemang/lund-har-mera-liv-och-tryggare-vardag-2-2/2026-06-10/
LOCATION:Annegården\, Skansvägen 5\, Lund\, Skåne
CATEGORIES:Mera LIV
ATTACH;FMTTYPE=image/jpeg:https://parkinsonskane.se/wp-content/uploads/2024/08/dans.jpg
GEO:55.7295159;13.1942677
X-APPLE-STRUCTURED-LOCATION;VALUE=URI;X-ADDRESS=Annegården Skansvägen 5 Lund Skåne;X-APPLE-RADIUS=500;X-TITLE=Skansvägen 5:geo:13.1942677,55.7295159
END:VEVENT
BEGIN:VEVENT
DTSTART;TZID=Europe/Stockholm:20260617T110000
DTEND;TZID=Europe/Stockholm:20260617T120000
DTSTAMP:20260424T174258
CREATED:20260313T124858Z
LAST-MODIFIED:20260313T124858Z
UID:10012760-1781694000-1781697600@parkinsonskane.se
SUMMARY:Lund har Mera liv och Tryggare vardag
DESCRIPTION:Mera liv anordnar funktionell träning där vi rör oss och har roligt tillsammans. Träningen varvar lugna och stillsamma övningar med sköna rörelser till musik samt balans- och fallteknik. Övningarna anpassas så att de fungerar både sittande och stående. \nTid: Onsdagar kl. 11.00–12.00\, varje vecka från 4 februari till 17 juni\nPlats: Annegården\, Skansvägen 5\, Lund \nAnmälan: Ingen anmälan behövs. \nKostnad: 25 kr per gång och person. Betalas kontant eller via Swish till instruktören. \nKontakt: Vid frågor eller för mer information\, kontakta Ulf Brandt via e-post uffe64@hotmail.com\neller SMS 070-436 94 24.
URL:https://parkinsonskane.se/evenemang/lund-har-mera-liv-och-tryggare-vardag-2-2/2026-06-17/
LOCATION:Annegården\, Skansvägen 5\, Lund\, Skåne
CATEGORIES:Mera LIV
ATTACH;FMTTYPE=image/jpeg:https://parkinsonskane.se/wp-content/uploads/2024/08/dans.jpg
GEO:55.7295159;13.1942677
X-APPLE-STRUCTURED-LOCATION;VALUE=URI;X-ADDRESS=Annegården Skansvägen 5 Lund Skåne;X-APPLE-RADIUS=500;X-TITLE=Skansvägen 5:geo:13.1942677,55.7295159
END:VEVENT
BEGIN:VEVENT
DTSTART;TZID=Europe/Stockholm:20260429T110000
DTEND;TZID=Europe/Stockholm:20260429T120000
DTSTAMP:20260424T174258
CREATED:20260313T124858Z
LAST-MODIFIED:20260313T124858Z
UID:10012753-1777460400-1777464000@parkinsonskane.se
SUMMARY:Lund har Mera liv och Tryggare vardag
DESCRIPTION:Mera liv anordnar funktionell träning där vi rör oss och har roligt tillsammans. Träningen varvar lugna och stillsamma övningar med sköna rörelser till musik samt balans- och fallteknik. Övningarna anpassas så att de fungerar både sittande och stående. \nTid: Onsdagar kl. 11.00–12.00\, varje vecka från 4 februari till 17 juni\nPlats: Annegården\, Skansvägen 5\, Lund \nAnmälan: Ingen anmälan behövs. \nKostnad: 25 kr per gång och person. Betalas kontant eller via Swish till instruktören. \nKontakt: Vid frågor eller för mer information\, kontakta Ulf Brandt via e-post uffe64@hotmail.com\neller SMS 070-436 94 24.
URL:https://parkinsonskane.se/evenemang/lund-har-mera-liv-och-tryggare-vardag-2-2/2026-04-29/
LOCATION:Annegården\, Skansvägen 5\, Lund\, Skåne
CATEGORIES:Mera LIV
ATTACH;FMTTYPE=image/jpeg:https://parkinsonskane.se/wp-content/uploads/2024/08/dans.jpg
GEO:55.7295159;13.1942677
X-APPLE-STRUCTURED-LOCATION;VALUE=URI;X-ADDRESS=Annegården Skansvägen 5 Lund Skåne;X-APPLE-RADIUS=500;X-TITLE=Skansvägen 5:geo:13.1942677,55.7295159
END:VEVENT
BEGIN:VEVENT
DTSTART;TZID=Europe/Stockholm:20260506T110000
DTEND;TZID=Europe/Stockholm:20260506T120000
DTSTAMP:20260424T174258
CREATED:20260313T124858Z
LAST-MODIFIED:20260313T124858Z
UID:10012754-1778065200-1778068800@parkinsonskane.se
SUMMARY:Lund har Mera liv och Tryggare vardag
DESCRIPTION:Mera liv anordnar funktionell träning där vi rör oss och har roligt tillsammans. Träningen varvar lugna och stillsamma övningar med sköna rörelser till musik samt balans- och fallteknik. Övningarna anpassas så att de fungerar både sittande och stående. \nTid: Onsdagar kl. 11.00–12.00\, varje vecka från 4 februari till 17 juni\nPlats: Annegården\, Skansvägen 5\, Lund \nAnmälan: Ingen anmälan behövs. \nKostnad: 25 kr per gång och person. Betalas kontant eller via Swish till instruktören. \nKontakt: Vid frågor eller för mer information\, kontakta Ulf Brandt via e-post uffe64@hotmail.com\neller SMS 070-436 94 24.
URL:https://parkinsonskane.se/evenemang/lund-har-mera-liv-och-tryggare-vardag-2-2/2026-05-06/
LOCATION:Annegården\, Skansvägen 5\, Lund\, Skåne
CATEGORIES:Mera LIV
ATTACH;FMTTYPE=image/jpeg:https://parkinsonskane.se/wp-content/uploads/2024/08/dans.jpg
GEO:55.7295159;13.1942677
X-APPLE-STRUCTURED-LOCATION;VALUE=URI;X-ADDRESS=Annegården Skansvägen 5 Lund Skåne;X-APPLE-RADIUS=500;X-TITLE=Skansvägen 5:geo:13.1942677,55.7295159
END:VEVENT
BEGIN:VEVENT
DTSTART;TZID=Europe/Stockholm:20260513T110000
DTEND;TZID=Europe/Stockholm:20260513T120000
DTSTAMP:20260424T174258
CREATED:20260313T124858Z
LAST-MODIFIED:20260313T124858Z
UID:10012755-1778670000-1778673600@parkinsonskane.se
SUMMARY:Lund har Mera liv och Tryggare vardag
DESCRIPTION:Mera liv anordnar funktionell träning där vi rör oss och har roligt tillsammans. Träningen varvar lugna och stillsamma övningar med sköna rörelser till musik samt balans- och fallteknik. Övningarna anpassas så att de fungerar både sittande och stående. \nTid: Onsdagar kl. 11.00–12.00\, varje vecka från 4 februari till 17 juni\nPlats: Annegården\, Skansvägen 5\, Lund \nAnmälan: Ingen anmälan behövs. \nKostnad: 25 kr per gång och person. Betalas kontant eller via Swish till instruktören. \nKontakt: Vid frågor eller för mer information\, kontakta Ulf Brandt via e-post uffe64@hotmail.com\neller SMS 070-436 94 24.
URL:https://parkinsonskane.se/evenemang/lund-har-mera-liv-och-tryggare-vardag-2-2/2026-05-13/
LOCATION:Annegården\, Skansvägen 5\, Lund\, Skåne
CATEGORIES:Mera LIV
ATTACH;FMTTYPE=image/jpeg:https://parkinsonskane.se/wp-content/uploads/2024/08/dans.jpg
GEO:55.7295159;13.1942677
X-APPLE-STRUCTURED-LOCATION;VALUE=URI;X-ADDRESS=Annegården Skansvägen 5 Lund Skåne;X-APPLE-RADIUS=500;X-TITLE=Skansvägen 5:geo:13.1942677,55.7295159
END:VEVENT
BEGIN:VEVENT
DTSTART;TZID=Europe/Stockholm:20260528T140000
DTEND;TZID=Europe/Stockholm:20260528T160000
DTSTAMP:20260424T174258
CREATED:20260313T133654Z
LAST-MODIFIED:20260313T133654Z
UID:10012987-1779976800-1779984000@parkinsonskane.se
SUMMARY:Lund har föredrag om Alice Babs – musik\, minnen och quiz
DESCRIPTION:Välkommen till en eftermiddag om en av Sveriges mest älskade artister – Alice Babs (Hildur Alice Sjöblom\, 1924–2014). Hon var en av landets mest mångsidiga sångerskor och samarbetade bland annat med Duke Ellington. Under sin karriär sjöng hon allt från jazz\, barnvisor och schlager till folkvisor\, Elisabetanska kärlekssånger och till och med opera. \nJan Olsson\, populär föredragshållare med ett 24-årigt förflutet vid Sveriges Radios underhållningsavdelning\, kände Alice Babs personligen och hade nära kontakt med henne under många år. Under eftermiddagen berättar han om hennes liv och karriär\, spelar musik och leder ett litet quiz. \nVi får både lyssna på hennes mest kända melodier och ta del av berättelser ur hennes liv. \nTid: Torsdag 28 maj kl. 14.00–16.00\nPlats: Annegården\, Skansvägen 5\, Lund \nAnmälan: Senast 17 maj till Mats Lindstrand\, mats@parkinsonlund.se\nSMS: 070-550 75 25\nAnge namn och e-postadress eller telefonnummer för alla som anmäls. \nKostnad: Föreningen bjuder på aktiviteten.\nKaffe\, te och fikabröd finns till försäljning. \nVarmt välkomna!
URL:https://parkinsonskane.se/evenemang/lund-har-foredrag-om-alice-babs-musik-minnen-och-quiz/
LOCATION:Annegården\, Skansvägen 5\, Lund\, Skåne
CATEGORIES:Musik
ATTACH;FMTTYPE=image/jpeg:https://parkinsonskane.se/wp-content/uploads/2026/03/alice-b.jpg
GEO:55.7295159;13.1942677
X-APPLE-STRUCTURED-LOCATION;VALUE=URI;X-ADDRESS=Annegården Skansvägen 5 Lund Skåne;X-APPLE-RADIUS=500;X-TITLE=Skansvägen 5:geo:13.1942677,55.7295159
END:VEVENT
BEGIN:VEVENT
DTSTART;TZID=Europe/Stockholm:20260521T103000
DTEND;TZID=Europe/Stockholm:20260521T120000
DTSTAMP:20260424T174258
CREATED:20260322T083846Z
LAST-MODIFIED:20260322T083847Z
UID:10012740-1779359400-1779364800@parkinsonskane.se
SUMMARY:Lund har samtalsgrupper
DESCRIPTION:Samtalsgrupper för personer med Parkinsons sjukdom och för närstående   \nSamtalsgrupperna har skapats för att ge utrymme att dela erfarenheter och samtala om frågor som uppstår i vardagen. Behov och teman skiljer sig ofta mellan den som har Parkinsons sjukdom och den som är närstående\, därför finns två separata grupper. \nGruppen för personer med Parkinsons sjukdom leds av Lisa Engström\, Birgitta Hansson och Anna-Lena Fällman.\nNärståendegruppen leds av Maud Eker\, Mats Lindstrand och Chonny Håkansson\, som alla har egen erfarenhet av att leva nära någon med sjukdomen. \nTid: Torsdagarna 19/2\, 19/3\, 16/4 och 21/5 (gäller båda grupperna)\nPlats: Annegården\, Skansvägen 5\, Lund \nAnmälan och avbokning (senast 12 februari):\n– Personer med Parkinsons sjukdom: Lisa Engström\, engström3741@gmail.com\neller SMS 070-550 75 25\n– Närstående: mats@parkinsonlund.se\neller SMS 073-707 07 70 \nVid anmälan\, ange namn och e-postadress eller telefonnummer för samtliga deltagare samt eventuella matallergier. Du behöver bara anmäla dig en gång. Max 15 personer per grupp. \nKostnad: Aktiviteten är kostnadsfri. Kaffe\, te och fikabröd finns till försäljning.
URL:https://parkinsonskane.se/evenemang/lund-har-samtalsgrupper-5-2-2/2026-05-21/
LOCATION:Annegården\, Skansvägen 5\, Lund\, Skåne
CATEGORIES:Samtalsgrupper
ATTACH;FMTTYPE=image/jpeg:https://parkinsonskane.se/wp-content/uploads/2026/01/samtal.jpg
GEO:55.7295159;13.1942677
X-APPLE-STRUCTURED-LOCATION;VALUE=URI;X-ADDRESS=Annegården Skansvägen 5 Lund Skåne;X-APPLE-RADIUS=500;X-TITLE=Skansvägen 5:geo:13.1942677,55.7295159
END:VEVENT
BEGIN:VEVENT
DTSTART;TZID=Europe/Stockholm:20260508T144500
DTEND;TZID=Europe/Stockholm:20260508T160000
DTSTAMP:20260424T174258
CREATED:20260322T083944Z
LAST-MODIFIED:20260322T083944Z
UID:10012774-1778251500-1778256000@parkinsonskane.se
SUMMARY:Lund har Dans- & rörelseträning för dig med Parkinson - kurs 2
DESCRIPTION:I samverkan mellan Parkinson Lund och Folkuniversitetet erbjuds dans- och rörelseträning där glädje\, rörelse och gemenskap står i fokus. Inga förkunskaper krävs. \nTid – Kurs 1: Fredagar kl. 14.45–16.00\nDatum: 30 januari\, 6 februari\, 13 februari\, 20 februari\, 27 februari och 13 mars. \nTid – Kurs 2: Fredagar kl. 14.45–16.00\nDatum: 20 mars\, 27 mars\, 10 april\, 17 april\, 24 april och 8 maj. \nPlats: Annegården\, Skansvägen 5\, Lund.\nAnmälan: Till Emma Sturesdotter\, emma.sturesdotter@folkuniversitetet.se\nVid anmälan ange namn och e-postadress eller telefonnummer för samtliga deltagare.\nLedare: Birgitta Ahlsell och Sara Åhman.\nKostnad: 600 kr per kurs. Anhörig eller vän deltar gratis. Faktura skickas av Folkuniversitetet. \nVälkommen!
URL:https://parkinsonskane.se/evenemang/lund-har-dans-rorelsetraning-for-dig-med-parkinson-kurs-2-2/2026-05-08/
LOCATION:Annegården\, Skansvägen 5\, Lund\, Skåne
CATEGORIES:Dans
ATTACH;FMTTYPE=image/jpeg:https://parkinsonskane.se/wp-content/uploads/2026/01/dans.jpg
GEO:55.7295159;13.1942677
X-APPLE-STRUCTURED-LOCATION;VALUE=URI;X-ADDRESS=Annegården Skansvägen 5 Lund Skåne;X-APPLE-RADIUS=500;X-TITLE=Skansvägen 5:geo:13.1942677,55.7295159
END:VEVENT
END:VCALENDAR