BEGIN:VCALENDAR
VERSION:2.0
PRODID:-//Parkinson Skåne - ECPv6.15.20//NONSGML v1.0//EN
CALSCALE:GREGORIAN
METHOD:PUBLISH
X-WR-CALNAME:Parkinson Skåne
X-ORIGINAL-URL:https://parkinsonskane.se
X-WR-CALDESC:Händelser för Parkinson Skåne
REFRESH-INTERVAL;VALUE=DURATION:PT1H
X-Robots-Tag:noindex
X-PUBLISHED-TTL:PT1H
BEGIN:VTIMEZONE
TZID:Europe/Stockholm
BEGIN:DAYLIGHT
TZOFFSETFROM:+0100
TZOFFSETTO:+0200
TZNAME:CEST
DTSTART:20230326T010000
END:DAYLIGHT
BEGIN:STANDARD
TZOFFSETFROM:+0200
TZOFFSETTO:+0100
TZNAME:CET
DTSTART:20231029T010000
END:STANDARD
BEGIN:DAYLIGHT
TZOFFSETFROM:+0100
TZOFFSETTO:+0200
TZNAME:CEST
DTSTART:20240331T010000
END:DAYLIGHT
BEGIN:STANDARD
TZOFFSETFROM:+0200
TZOFFSETTO:+0100
TZNAME:CET
DTSTART:20241027T010000
END:STANDARD
BEGIN:DAYLIGHT
TZOFFSETFROM:+0100
TZOFFSETTO:+0200
TZNAME:CEST
DTSTART:20250330T010000
END:DAYLIGHT
BEGIN:STANDARD
TZOFFSETFROM:+0200
TZOFFSETTO:+0100
TZNAME:CET
DTSTART:20251026T010000
END:STANDARD
END:VTIMEZONE
BEGIN:VEVENT
DTSTART;TZID=Europe/Stockholm:20240308T130000
DTEND;TZID=Europe/Stockholm:20240308T160000
DTSTAMP:20260426T040800
CREATED:20240301T135215Z
LAST-MODIFIED:20240301T135215Z
UID:10010177-1709902800-1709913600@parkinsonskane.se
SUMMARY:Sydöst har massageterapi
DESCRIPTION:Vi bjuder in till massageterapi som hålls av HHP Sverige\, vilka tidigare varit och presenterat sig för vår förening i december. \nMan anmäler sig till vår ordförande Birthe via telefon 0763-14 52 75 och det kostar inget denna gång. Det finns dock begränsade platser då det är en provomgång. \nDag och tid: 8/3 kl 13.00 – 16.00. \nPlats: Nygatan 16 lgh 1002 \, Rydsgård \n  \n 
URL:https://parkinsonskane.se/evenemang/sydost-har-massageterapi/
LOCATION:B Thomsen\, Nygatan 16 lgh 1002\, Rydsgård\, 274 60
CATEGORIES:Medlemsträff
ATTACH;FMTTYPE=image/jpeg:https://parkinsonskane.se/wp-content/uploads/2024/03/flow.jpg
END:VEVENT
END:VCALENDAR