BEGIN:VCALENDAR
VERSION:2.0
PRODID:-//Parkinson Skåne - ECPv6.15.20//NONSGML v1.0//EN
CALSCALE:GREGORIAN
METHOD:PUBLISH
X-WR-CALNAME:Parkinson Skåne
X-ORIGINAL-URL:https://parkinsonskane.se
X-WR-CALDESC:Händelser för Parkinson Skåne
REFRESH-INTERVAL;VALUE=DURATION:PT1H
X-Robots-Tag:noindex
X-PUBLISHED-TTL:PT1H
BEGIN:VTIMEZONE
TZID:Europe/Stockholm
BEGIN:DAYLIGHT
TZOFFSETFROM:+0100
TZOFFSETTO:+0200
TZNAME:CEST
DTSTART:20240331T010000
END:DAYLIGHT
BEGIN:STANDARD
TZOFFSETFROM:+0200
TZOFFSETTO:+0100
TZNAME:CET
DTSTART:20241027T010000
END:STANDARD
BEGIN:DAYLIGHT
TZOFFSETFROM:+0100
TZOFFSETTO:+0200
TZNAME:CEST
DTSTART:20250330T010000
END:DAYLIGHT
BEGIN:STANDARD
TZOFFSETFROM:+0200
TZOFFSETTO:+0100
TZNAME:CET
DTSTART:20251026T010000
END:STANDARD
BEGIN:DAYLIGHT
TZOFFSETFROM:+0100
TZOFFSETTO:+0200
TZNAME:CEST
DTSTART:20260329T010000
END:DAYLIGHT
BEGIN:STANDARD
TZOFFSETFROM:+0200
TZOFFSETTO:+0100
TZNAME:CET
DTSTART:20261025T010000
END:STANDARD
END:VTIMEZONE
BEGIN:VEVENT
DTSTART;TZID=Europe/Stockholm:20251223T130000
DTEND;TZID=Europe/Stockholm:20251223T140000
DTSTAMP:20260425T021749
CREATED:20251217T090800Z
LAST-MODIFIED:20251217T090801Z
UID:10011830-1766494800-1766498400@parkinsonskane.se
SUMMARY:Malmö har bowling hela hösten och våren
DESCRIPTION:Tisdagarna är vigda åt bowling – en uppskattad aktivitet där alla kan vara med. Vi spelar tillsammans\, umgås och har roligt. \nPlats: Baltiska bowlinghallen\, Stadiongatan 27  Tid: Tisdagar kl. 13.00–14.00Period: 12 augusti 2025 – 28 april 2026Uppehåll: 30 december\, 6 januari\, 13 januariParkering: 90 min gratis vid Stora COOP med P-skiva
URL:https://parkinsonskane.se/evenemang/malmo-har-bowling-hela-hosten-och-varen-2-2-2-2-2/
LOCATION:Baltiska Bowlinghallen\, Stadiongatan 27\, Malmö\, Skåne\, 217 62\, Sverige
CATEGORIES:Bowling
ATTACH;FMTTYPE=image/jpeg:https://parkinsonskane.se/wp-content/uploads/2023/09/bowling-malmo.jpg
END:VEVENT
BEGIN:VEVENT
DTSTART;TZID=Europe/Stockholm:20251216T130000
DTEND;TZID=Europe/Stockholm:20251216T140000
DTSTAMP:20260425T021749
CREATED:20251215T163251Z
LAST-MODIFIED:20251215T163252Z
UID:10011829-1765890000-1765893600@parkinsonskane.se
SUMMARY:Malmö har bowling hela hösten och våren
DESCRIPTION:Tisdagarna är vigda åt bowling – en uppskattad aktivitet där alla kan vara med. Vi spelar tillsammans\, umgås och har roligt. \nPlats: Baltiska bowlinghallen\, Stadiongatan 27  Tid: Tisdagar kl. 13.00–14.00Period: 12 augusti 2025 – 28 april 2026Uppehåll: 30 december\, 6 januari\, 13 januariParkering: 90 min gratis vid Stora COOP med P-skiva
URL:https://parkinsonskane.se/evenemang/malmo-har-bowling-hela-hosten-och-varen-2-2-2-2/
LOCATION:Baltiska Bowlinghallen\, Stadiongatan 27\, Malmö\, Skåne\, 217 62\, Sverige
CATEGORIES:Bowling
ATTACH;FMTTYPE=image/jpeg:https://parkinsonskane.se/wp-content/uploads/2023/09/bowling-malmo.jpg
END:VEVENT
BEGIN:VEVENT
DTSTART;TZID=Europe/Stockholm:20251111T130000
DTEND;TZID=Europe/Stockholm:20251111T140000
DTSTAMP:20260425T021749
CREATED:20251031T083003Z
LAST-MODIFIED:20251215T163018Z
UID:10011824-1762866000-1762869600@parkinsonskane.se
SUMMARY:Malmö har bowling hela hösten och våren
DESCRIPTION:Tisdagarna är vigda åt bowling – en uppskattad aktivitet där alla kan vara med. Vi spelar tillsammans\, umgås och har roligt. \nPlats: Baltiska bowlinghallen\, Stadiongatan 27  Tid: Tisdagar kl. 13.00–14.00Period: 12 augusti 2025 – 28 april 2026Uppehåll: 29 december\, 6 januari\, 13 januariParkering: 90 min gratis vid Stora COOP med P-skiva
URL:https://parkinsonskane.se/evenemang/malmo-har-bowling-hela-hosten-och-varen-2-2-2/2025-11-11/
LOCATION:Baltiska Bowlinghallen\, Stadiongatan 27\, Malmö\, Skåne\, 217 62\, Sverige
CATEGORIES:Bowling
ATTACH;FMTTYPE=image/jpeg:https://parkinsonskane.se/wp-content/uploads/2023/09/bowling-malmo.jpg
END:VEVENT
BEGIN:VEVENT
DTSTART;TZID=Europe/Stockholm:20251118T130000
DTEND;TZID=Europe/Stockholm:20251118T140000
DTSTAMP:20260425T021749
CREATED:20251031T083003Z
LAST-MODIFIED:20251215T163018Z
UID:10011825-1763470800-1763474400@parkinsonskane.se
SUMMARY:Malmö har bowling hela hösten och våren
DESCRIPTION:Tisdagarna är vigda åt bowling – en uppskattad aktivitet där alla kan vara med. Vi spelar tillsammans\, umgås och har roligt. \nPlats: Baltiska bowlinghallen\, Stadiongatan 27  Tid: Tisdagar kl. 13.00–14.00Period: 12 augusti 2025 – 28 april 2026Uppehåll: 29 december\, 6 januari\, 13 januariParkering: 90 min gratis vid Stora COOP med P-skiva
URL:https://parkinsonskane.se/evenemang/malmo-har-bowling-hela-hosten-och-varen-2-2-2/2025-11-18/
LOCATION:Baltiska Bowlinghallen\, Stadiongatan 27\, Malmö\, Skåne\, 217 62\, Sverige
CATEGORIES:Bowling
ATTACH;FMTTYPE=image/jpeg:https://parkinsonskane.se/wp-content/uploads/2023/09/bowling-malmo.jpg
END:VEVENT
BEGIN:VEVENT
DTSTART;TZID=Europe/Stockholm:20251125T130000
DTEND;TZID=Europe/Stockholm:20251125T140000
DTSTAMP:20260425T021749
CREATED:20251031T083003Z
LAST-MODIFIED:20251215T163018Z
UID:10011826-1764075600-1764079200@parkinsonskane.se
SUMMARY:Malmö har bowling hela hösten och våren
DESCRIPTION:Tisdagarna är vigda åt bowling – en uppskattad aktivitet där alla kan vara med. Vi spelar tillsammans\, umgås och har roligt. \nPlats: Baltiska bowlinghallen\, Stadiongatan 27  Tid: Tisdagar kl. 13.00–14.00Period: 12 augusti 2025 – 28 april 2026Uppehåll: 29 december\, 6 januari\, 13 januariParkering: 90 min gratis vid Stora COOP med P-skiva
URL:https://parkinsonskane.se/evenemang/malmo-har-bowling-hela-hosten-och-varen-2-2-2/2025-11-25/
LOCATION:Baltiska Bowlinghallen\, Stadiongatan 27\, Malmö\, Skåne\, 217 62\, Sverige
CATEGORIES:Bowling
ATTACH;FMTTYPE=image/jpeg:https://parkinsonskane.se/wp-content/uploads/2023/09/bowling-malmo.jpg
END:VEVENT
BEGIN:VEVENT
DTSTART;TZID=Europe/Stockholm:20251202T130000
DTEND;TZID=Europe/Stockholm:20251202T140000
DTSTAMP:20260425T021749
CREATED:20251031T083003Z
LAST-MODIFIED:20251215T163018Z
UID:10011827-1764680400-1764684000@parkinsonskane.se
SUMMARY:Malmö har bowling hela hösten och våren
DESCRIPTION:Tisdagarna är vigda åt bowling – en uppskattad aktivitet där alla kan vara med. Vi spelar tillsammans\, umgås och har roligt. \nPlats: Baltiska bowlinghallen\, Stadiongatan 27  Tid: Tisdagar kl. 13.00–14.00Period: 12 augusti 2025 – 28 april 2026Uppehåll: 29 december\, 6 januari\, 13 januariParkering: 90 min gratis vid Stora COOP med P-skiva
URL:https://parkinsonskane.se/evenemang/malmo-har-bowling-hela-hosten-och-varen-2-2-2/2025-12-02/
LOCATION:Baltiska Bowlinghallen\, Stadiongatan 27\, Malmö\, Skåne\, 217 62\, Sverige
CATEGORIES:Bowling
ATTACH;FMTTYPE=image/jpeg:https://parkinsonskane.se/wp-content/uploads/2023/09/bowling-malmo.jpg
END:VEVENT
BEGIN:VEVENT
DTSTART;TZID=Europe/Stockholm:20251209T130000
DTEND;TZID=Europe/Stockholm:20251209T140000
DTSTAMP:20260425T021749
CREATED:20251031T083003Z
LAST-MODIFIED:20251215T163018Z
UID:10011828-1765285200-1765288800@parkinsonskane.se
SUMMARY:Malmö har bowling hela hösten och våren
DESCRIPTION:Tisdagarna är vigda åt bowling – en uppskattad aktivitet där alla kan vara med. Vi spelar tillsammans\, umgås och har roligt. \nPlats: Baltiska bowlinghallen\, Stadiongatan 27  Tid: Tisdagar kl. 13.00–14.00Period: 12 augusti 2025 – 28 april 2026Uppehåll: 29 december\, 6 januari\, 13 januariParkering: 90 min gratis vid Stora COOP med P-skiva
URL:https://parkinsonskane.se/evenemang/malmo-har-bowling-hela-hosten-och-varen-2-2-2/2025-12-09/
LOCATION:Baltiska Bowlinghallen\, Stadiongatan 27\, Malmö\, Skåne\, 217 62\, Sverige
CATEGORIES:Bowling
ATTACH;FMTTYPE=image/jpeg:https://parkinsonskane.se/wp-content/uploads/2023/09/bowling-malmo.jpg
END:VEVENT
BEGIN:VEVENT
DTSTART;TZID=Europe/Stockholm:20251104T130000
DTEND;TZID=Europe/Stockholm:20251104T140000
DTSTAMP:20260425T021749
CREATED:20251031T083003Z
LAST-MODIFIED:20251215T163018Z
UID:10011823-1762261200-1762264800@parkinsonskane.se
SUMMARY:Malmö har bowling hela hösten och våren
DESCRIPTION:Tisdagarna är vigda åt bowling – en uppskattad aktivitet där alla kan vara med. Vi spelar tillsammans\, umgås och har roligt. \nPlats: Baltiska bowlinghallen\, Stadiongatan 27  Tid: Tisdagar kl. 13.00–14.00Period: 12 augusti 2025 – 28 april 2026Uppehåll: 29 december\, 6 januari\, 13 januariParkering: 90 min gratis vid Stora COOP med P-skiva
URL:https://parkinsonskane.se/evenemang/malmo-har-bowling-hela-hosten-och-varen-2-2-2/2025-11-04/
LOCATION:Baltiska Bowlinghallen\, Stadiongatan 27\, Malmö\, Skåne\, 217 62\, Sverige
CATEGORIES:Bowling
ATTACH;FMTTYPE=image/jpeg:https://parkinsonskane.se/wp-content/uploads/2023/09/bowling-malmo.jpg
END:VEVENT
BEGIN:VEVENT
DTSTART;TZID=Europe/Stockholm:20250930T130000
DTEND;TZID=Europe/Stockholm:20250930T140000
DTSTAMP:20260425T021749
CREATED:20250925T182213Z
LAST-MODIFIED:20250925T182213Z
UID:10011818-1759237200-1759240800@parkinsonskane.se
SUMMARY:Malmö har bowling hela hösten och våren
DESCRIPTION:Tisdagarna är vigda åt bowling – en uppskattad aktivitet där alla kan vara med. Vi spelar tillsammans\, umgås och har roligt. \nPlats: Baltiska bowlinghallen\, Stadiongatan 27Tid: Tisdagar kl. 13.00–14.00Period: 12 augusti 2025 – 24 april 2026Uppehåll: 29 december\, 13 januariParkering: 90 min gratis vid Stora COOP med P-skiva
URL:https://parkinsonskane.se/evenemang/malmo-har-bowling-hela-hosten-och-varen-2-2/2025-09-30/
LOCATION:Baltiska Bowlinghallen\, Stadiongatan 27\, Malmö\, Skåne\, 217 62\, Sverige
CATEGORIES:Bowling
ATTACH;FMTTYPE=image/jpeg:https://parkinsonskane.se/wp-content/uploads/2023/09/bowling-malmo.jpg
END:VEVENT
BEGIN:VEVENT
DTSTART;TZID=Europe/Stockholm:20251007T130000
DTEND;TZID=Europe/Stockholm:20251007T140000
DTSTAMP:20260425T021749
CREATED:20250925T182213Z
LAST-MODIFIED:20250925T182213Z
UID:10011819-1759842000-1759845600@parkinsonskane.se
SUMMARY:Malmö har bowling hela hösten och våren
DESCRIPTION:Tisdagarna är vigda åt bowling – en uppskattad aktivitet där alla kan vara med. Vi spelar tillsammans\, umgås och har roligt. \nPlats: Baltiska bowlinghallen\, Stadiongatan 27Tid: Tisdagar kl. 13.00–14.00Period: 12 augusti 2025 – 24 april 2026Uppehåll: 29 december\, 13 januariParkering: 90 min gratis vid Stora COOP med P-skiva
URL:https://parkinsonskane.se/evenemang/malmo-har-bowling-hela-hosten-och-varen-2-2/2025-10-07/
LOCATION:Baltiska Bowlinghallen\, Stadiongatan 27\, Malmö\, Skåne\, 217 62\, Sverige
CATEGORIES:Bowling
ATTACH;FMTTYPE=image/jpeg:https://parkinsonskane.se/wp-content/uploads/2023/09/bowling-malmo.jpg
END:VEVENT
BEGIN:VEVENT
DTSTART;TZID=Europe/Stockholm:20251014T130000
DTEND;TZID=Europe/Stockholm:20251014T140000
DTSTAMP:20260425T021749
CREATED:20250925T182213Z
LAST-MODIFIED:20250925T182213Z
UID:10011820-1760446800-1760450400@parkinsonskane.se
SUMMARY:Malmö har bowling hela hösten och våren
DESCRIPTION:Tisdagarna är vigda åt bowling – en uppskattad aktivitet där alla kan vara med. Vi spelar tillsammans\, umgås och har roligt. \nPlats: Baltiska bowlinghallen\, Stadiongatan 27Tid: Tisdagar kl. 13.00–14.00Period: 12 augusti 2025 – 24 april 2026Uppehåll: 29 december\, 13 januariParkering: 90 min gratis vid Stora COOP med P-skiva
URL:https://parkinsonskane.se/evenemang/malmo-har-bowling-hela-hosten-och-varen-2-2/2025-10-14/
LOCATION:Baltiska Bowlinghallen\, Stadiongatan 27\, Malmö\, Skåne\, 217 62\, Sverige
CATEGORIES:Bowling
ATTACH;FMTTYPE=image/jpeg:https://parkinsonskane.se/wp-content/uploads/2023/09/bowling-malmo.jpg
END:VEVENT
BEGIN:VEVENT
DTSTART;TZID=Europe/Stockholm:20251021T130000
DTEND;TZID=Europe/Stockholm:20251021T140000
DTSTAMP:20260425T021749
CREATED:20250925T182213Z
LAST-MODIFIED:20250925T182213Z
UID:10011821-1761051600-1761055200@parkinsonskane.se
SUMMARY:Malmö har bowling hela hösten och våren
DESCRIPTION:Tisdagarna är vigda åt bowling – en uppskattad aktivitet där alla kan vara med. Vi spelar tillsammans\, umgås och har roligt. \nPlats: Baltiska bowlinghallen\, Stadiongatan 27Tid: Tisdagar kl. 13.00–14.00Period: 12 augusti 2025 – 24 april 2026Uppehåll: 29 december\, 13 januariParkering: 90 min gratis vid Stora COOP med P-skiva
URL:https://parkinsonskane.se/evenemang/malmo-har-bowling-hela-hosten-och-varen-2-2/2025-10-21/
LOCATION:Baltiska Bowlinghallen\, Stadiongatan 27\, Malmö\, Skåne\, 217 62\, Sverige
CATEGORIES:Bowling
ATTACH;FMTTYPE=image/jpeg:https://parkinsonskane.se/wp-content/uploads/2023/09/bowling-malmo.jpg
END:VEVENT
BEGIN:VEVENT
DTSTART;TZID=Europe/Stockholm:20251028T130000
DTEND;TZID=Europe/Stockholm:20251028T140000
DTSTAMP:20260425T021749
CREATED:20250925T182213Z
LAST-MODIFIED:20250925T182213Z
UID:10011822-1761656400-1761660000@parkinsonskane.se
SUMMARY:Malmö har bowling hela hösten och våren
DESCRIPTION:Tisdagarna är vigda åt bowling – en uppskattad aktivitet där alla kan vara med. Vi spelar tillsammans\, umgås och har roligt. \nPlats: Baltiska bowlinghallen\, Stadiongatan 27Tid: Tisdagar kl. 13.00–14.00Period: 12 augusti 2025 – 24 april 2026Uppehåll: 29 december\, 13 januariParkering: 90 min gratis vid Stora COOP med P-skiva
URL:https://parkinsonskane.se/evenemang/malmo-har-bowling-hela-hosten-och-varen-2-2/2025-10-28/
LOCATION:Baltiska Bowlinghallen\, Stadiongatan 27\, Malmö\, Skåne\, 217 62\, Sverige
CATEGORIES:Bowling
ATTACH;FMTTYPE=image/jpeg:https://parkinsonskane.se/wp-content/uploads/2023/09/bowling-malmo.jpg
END:VEVENT
BEGIN:VEVENT
DTSTART;TZID=Europe/Stockholm:20250909T130000
DTEND;TZID=Europe/Stockholm:20250909T140000
DTSTAMP:20260425T021749
CREATED:20250905T113428Z
LAST-MODIFIED:20250905T113428Z
UID:10011815-1757422800-1757426400@parkinsonskane.se
SUMMARY:Malmö har bowling hela hösten och våren
DESCRIPTION:Tisdagarna är vigda åt bowling – en uppskattad aktivitet där alla kan vara med. Vi spelar tillsammans\, umgås och har roligt. \nPlats: Baltiska bowlinghallen\, Stadiongatan 27Tid: Tisdagar kl. 13.00–14.00Period: 12 augusti 2025 – 24 april 2026Uppehåll: 29 december\, 13 januariParkering: 90 min gratis vid Stora COOP med P-skiva
URL:https://parkinsonskane.se/evenemang/malmo-har-bowling-hela-hosten-och-varen-2/2025-09-09/
LOCATION:Baltiska Bowlinghallen\, Stadiongatan 27\, Malmö\, Skåne\, 217 62\, Sverige
CATEGORIES:Bowling
ATTACH;FMTTYPE=image/jpeg:https://parkinsonskane.se/wp-content/uploads/2023/09/bowling-malmo.jpg
END:VEVENT
BEGIN:VEVENT
DTSTART;TZID=Europe/Stockholm:20250916T130000
DTEND;TZID=Europe/Stockholm:20250916T140000
DTSTAMP:20260425T021749
CREATED:20250905T113428Z
LAST-MODIFIED:20250905T113428Z
UID:10011816-1758027600-1758031200@parkinsonskane.se
SUMMARY:Malmö har bowling hela hösten och våren
DESCRIPTION:Tisdagarna är vigda åt bowling – en uppskattad aktivitet där alla kan vara med. Vi spelar tillsammans\, umgås och har roligt. \nPlats: Baltiska bowlinghallen\, Stadiongatan 27Tid: Tisdagar kl. 13.00–14.00Period: 12 augusti 2025 – 24 april 2026Uppehåll: 29 december\, 13 januariParkering: 90 min gratis vid Stora COOP med P-skiva
URL:https://parkinsonskane.se/evenemang/malmo-har-bowling-hela-hosten-och-varen-2/2025-09-16/
LOCATION:Baltiska Bowlinghallen\, Stadiongatan 27\, Malmö\, Skåne\, 217 62\, Sverige
CATEGORIES:Bowling
ATTACH;FMTTYPE=image/jpeg:https://parkinsonskane.se/wp-content/uploads/2023/09/bowling-malmo.jpg
END:VEVENT
BEGIN:VEVENT
DTSTART;TZID=Europe/Stockholm:20250923T130000
DTEND;TZID=Europe/Stockholm:20250923T140000
DTSTAMP:20260425T021749
CREATED:20250905T113428Z
LAST-MODIFIED:20250905T113428Z
UID:10011817-1758632400-1758636000@parkinsonskane.se
SUMMARY:Malmö har bowling hela hösten och våren
DESCRIPTION:Tisdagarna är vigda åt bowling – en uppskattad aktivitet där alla kan vara med. Vi spelar tillsammans\, umgås och har roligt. \nPlats: Baltiska bowlinghallen\, Stadiongatan 27Tid: Tisdagar kl. 13.00–14.00Period: 12 augusti 2025 – 24 april 2026Uppehåll: 29 december\, 13 januariParkering: 90 min gratis vid Stora COOP med P-skiva
URL:https://parkinsonskane.se/evenemang/malmo-har-bowling-hela-hosten-och-varen-2/2025-09-23/
LOCATION:Baltiska Bowlinghallen\, Stadiongatan 27\, Malmö\, Skåne\, 217 62\, Sverige
CATEGORIES:Bowling
ATTACH;FMTTYPE=image/jpeg:https://parkinsonskane.se/wp-content/uploads/2023/09/bowling-malmo.jpg
END:VEVENT
BEGIN:VEVENT
DTSTART;TZID=Europe/Stockholm:20250826T130000
DTEND;TZID=Europe/Stockholm:20250826T140000
DTSTAMP:20260425T021749
CREATED:20250807T133938Z
LAST-MODIFIED:20250807T133938Z
UID:10011813-1756213200-1756216800@parkinsonskane.se
SUMMARY:Malmö har bowling hela hösten och våren
DESCRIPTION:Tisdagarna är vigda åt bowling – en uppskattad aktivitet där alla kan vara med. Vi spelar tillsammans\, umgås och har roligt. \nPlats: Baltiska bowlinghallen\, Stadiongatan 27Tid: Tisdagar kl. 13.00–14.00Period: 12 augusti 2025 – 24 april 2026Uppehåll: 29 december\, 13 januariParkering: 90 min gratis vid Stora COOP med P-skiva
URL:https://parkinsonskane.se/evenemang/malmo-har-bowling-hela-hosten-och-varen/2025-08-26/
LOCATION:Baltiska Bowlinghallen\, Stadiongatan 27\, Malmö\, Skåne\, 217 62\, Sverige
CATEGORIES:Bowling
ATTACH;FMTTYPE=image/jpeg:https://parkinsonskane.se/wp-content/uploads/2023/09/bowling-malmo.jpg
END:VEVENT
BEGIN:VEVENT
DTSTART;TZID=Europe/Stockholm:20250902T130000
DTEND;TZID=Europe/Stockholm:20250902T140000
DTSTAMP:20260425T021749
CREATED:20250807T133938Z
LAST-MODIFIED:20250807T133938Z
UID:10011814-1756818000-1756821600@parkinsonskane.se
SUMMARY:Malmö har bowling hela hösten och våren
DESCRIPTION:Tisdagarna är vigda åt bowling – en uppskattad aktivitet där alla kan vara med. Vi spelar tillsammans\, umgås och har roligt. \nPlats: Baltiska bowlinghallen\, Stadiongatan 27Tid: Tisdagar kl. 13.00–14.00Period: 12 augusti 2025 – 24 april 2026Uppehåll: 29 december\, 13 januariParkering: 90 min gratis vid Stora COOP med P-skiva
URL:https://parkinsonskane.se/evenemang/malmo-har-bowling-hela-hosten-och-varen/2025-09-02/
LOCATION:Baltiska Bowlinghallen\, Stadiongatan 27\, Malmö\, Skåne\, 217 62\, Sverige
CATEGORIES:Bowling
ATTACH;FMTTYPE=image/jpeg:https://parkinsonskane.se/wp-content/uploads/2023/09/bowling-malmo.jpg
END:VEVENT
BEGIN:VEVENT
DTSTART;TZID=Europe/Stockholm:20250812T130000
DTEND;TZID=Europe/Stockholm:20250812T140000
DTSTAMP:20260425T021749
CREATED:20250807T133938Z
LAST-MODIFIED:20250807T133938Z
UID:10011811-1755003600-1755007200@parkinsonskane.se
SUMMARY:Malmö har bowling hela hösten och våren
DESCRIPTION:Tisdagarna är vigda åt bowling – en uppskattad aktivitet där alla kan vara med. Vi spelar tillsammans\, umgås och har roligt. \nPlats: Baltiska bowlinghallen\, Stadiongatan 27Tid: Tisdagar kl. 13.00–14.00Period: 12 augusti 2025 – 24 april 2026Uppehåll: 29 december\, 13 januariParkering: 90 min gratis vid Stora COOP med P-skiva
URL:https://parkinsonskane.se/evenemang/malmo-har-bowling-hela-hosten-och-varen/2025-08-12/
LOCATION:Baltiska Bowlinghallen\, Stadiongatan 27\, Malmö\, Skåne\, 217 62\, Sverige
CATEGORIES:Bowling
ATTACH;FMTTYPE=image/jpeg:https://parkinsonskane.se/wp-content/uploads/2023/09/bowling-malmo.jpg
END:VEVENT
BEGIN:VEVENT
DTSTART;TZID=Europe/Stockholm:20250819T130000
DTEND;TZID=Europe/Stockholm:20250819T140000
DTSTAMP:20260425T021749
CREATED:20250807T133938Z
LAST-MODIFIED:20250807T133938Z
UID:10011812-1755608400-1755612000@parkinsonskane.se
SUMMARY:Malmö har bowling hela hösten och våren
DESCRIPTION:Tisdagarna är vigda åt bowling – en uppskattad aktivitet där alla kan vara med. Vi spelar tillsammans\, umgås och har roligt. \nPlats: Baltiska bowlinghallen\, Stadiongatan 27Tid: Tisdagar kl. 13.00–14.00Period: 12 augusti 2025 – 24 april 2026Uppehåll: 29 december\, 13 januariParkering: 90 min gratis vid Stora COOP med P-skiva
URL:https://parkinsonskane.se/evenemang/malmo-har-bowling-hela-hosten-och-varen/2025-08-19/
LOCATION:Baltiska Bowlinghallen\, Stadiongatan 27\, Malmö\, Skåne\, 217 62\, Sverige
CATEGORIES:Bowling
ATTACH;FMTTYPE=image/jpeg:https://parkinsonskane.se/wp-content/uploads/2023/09/bowling-malmo.jpg
END:VEVENT
BEGIN:VEVENT
DTSTART;TZID=Europe/Stockholm:20250325T130000
DTEND;TZID=Europe/Stockholm:20250325T140000
DTSTAMP:20260425T021749
CREATED:20250225T140310Z
LAST-MODIFIED:20250321T140532Z
UID:10011645-1742907600-1742911200@parkinsonskane.se
SUMMARY:Malmö spelar bowling
DESCRIPTION:Bowlingen startar tisdagen den 14/1 2025 och pågår till den 29/4  mellan kl 13.00–14.00. \nPlats: Baltiska hallen på Stadiongatan 27. \nVi spelar med lånta klot och hyrda skor på gratis banor. \n 
URL:https://parkinsonskane.se/evenemang/malmo-spelar-bowling-5-2-2/2025-03-25/
LOCATION:Baltiska Bowlinghallen\, Stadiongatan 27\, Malmö\, Skåne\, 217 62\, Sverige
CATEGORIES:Bowling
ATTACH;FMTTYPE=image/jpeg:https://parkinsonskane.se/wp-content/uploads/2023/09/bowling-malmo.jpg
END:VEVENT
BEGIN:VEVENT
DTSTART;TZID=Europe/Stockholm:20250401T130000
DTEND;TZID=Europe/Stockholm:20250401T140000
DTSTAMP:20260425T021749
CREATED:20250225T140310Z
LAST-MODIFIED:20250321T140532Z
UID:10011646-1743512400-1743516000@parkinsonskane.se
SUMMARY:Malmö spelar bowling
DESCRIPTION:Bowlingen startar tisdagen den 14/1 2025 och pågår till den 29/4  mellan kl 13.00–14.00. \nPlats: Baltiska hallen på Stadiongatan 27. \nVi spelar med lånta klot och hyrda skor på gratis banor. \n 
URL:https://parkinsonskane.se/evenemang/malmo-spelar-bowling-5-2-2/2025-04-01/
LOCATION:Baltiska Bowlinghallen\, Stadiongatan 27\, Malmö\, Skåne\, 217 62\, Sverige
CATEGORIES:Bowling
ATTACH;FMTTYPE=image/jpeg:https://parkinsonskane.se/wp-content/uploads/2023/09/bowling-malmo.jpg
END:VEVENT
BEGIN:VEVENT
DTSTART;TZID=Europe/Stockholm:20250408T130000
DTEND;TZID=Europe/Stockholm:20250408T140000
DTSTAMP:20260425T021749
CREATED:20250225T140310Z
LAST-MODIFIED:20250321T140532Z
UID:10011647-1744117200-1744120800@parkinsonskane.se
SUMMARY:Malmö spelar bowling
DESCRIPTION:Bowlingen startar tisdagen den 14/1 2025 och pågår till den 29/4  mellan kl 13.00–14.00. \nPlats: Baltiska hallen på Stadiongatan 27. \nVi spelar med lånta klot och hyrda skor på gratis banor. \n 
URL:https://parkinsonskane.se/evenemang/malmo-spelar-bowling-5-2-2/2025-04-08/
LOCATION:Baltiska Bowlinghallen\, Stadiongatan 27\, Malmö\, Skåne\, 217 62\, Sverige
CATEGORIES:Bowling
ATTACH;FMTTYPE=image/jpeg:https://parkinsonskane.se/wp-content/uploads/2023/09/bowling-malmo.jpg
END:VEVENT
BEGIN:VEVENT
DTSTART;TZID=Europe/Stockholm:20250415T130000
DTEND;TZID=Europe/Stockholm:20250415T140000
DTSTAMP:20260425T021749
CREATED:20250225T140310Z
LAST-MODIFIED:20250321T140532Z
UID:10011648-1744722000-1744725600@parkinsonskane.se
SUMMARY:Malmö spelar bowling
DESCRIPTION:Bowlingen startar tisdagen den 14/1 2025 och pågår till den 29/4  mellan kl 13.00–14.00. \nPlats: Baltiska hallen på Stadiongatan 27. \nVi spelar med lånta klot och hyrda skor på gratis banor. \n 
URL:https://parkinsonskane.se/evenemang/malmo-spelar-bowling-5-2-2/2025-04-15/
LOCATION:Baltiska Bowlinghallen\, Stadiongatan 27\, Malmö\, Skåne\, 217 62\, Sverige
CATEGORIES:Bowling
ATTACH;FMTTYPE=image/jpeg:https://parkinsonskane.se/wp-content/uploads/2023/09/bowling-malmo.jpg
END:VEVENT
BEGIN:VEVENT
DTSTART;TZID=Europe/Stockholm:20250422T130000
DTEND;TZID=Europe/Stockholm:20250422T140000
DTSTAMP:20260425T021749
CREATED:20250225T140310Z
LAST-MODIFIED:20250321T140532Z
UID:10011649-1745326800-1745330400@parkinsonskane.se
SUMMARY:Malmö spelar bowling
DESCRIPTION:Bowlingen startar tisdagen den 14/1 2025 och pågår till den 29/4  mellan kl 13.00–14.00. \nPlats: Baltiska hallen på Stadiongatan 27. \nVi spelar med lånta klot och hyrda skor på gratis banor. \n 
URL:https://parkinsonskane.se/evenemang/malmo-spelar-bowling-5-2-2/2025-04-22/
LOCATION:Baltiska Bowlinghallen\, Stadiongatan 27\, Malmö\, Skåne\, 217 62\, Sverige
CATEGORIES:Bowling
ATTACH;FMTTYPE=image/jpeg:https://parkinsonskane.se/wp-content/uploads/2023/09/bowling-malmo.jpg
END:VEVENT
BEGIN:VEVENT
DTSTART;TZID=Europe/Stockholm:20250429T130000
DTEND;TZID=Europe/Stockholm:20250429T140000
DTSTAMP:20260425T021749
CREATED:20250225T140310Z
LAST-MODIFIED:20250321T140532Z
UID:10011650-1745931600-1745935200@parkinsonskane.se
SUMMARY:Malmö spelar bowling
DESCRIPTION:Bowlingen startar tisdagen den 14/1 2025 och pågår till den 29/4  mellan kl 13.00–14.00. \nPlats: Baltiska hallen på Stadiongatan 27. \nVi spelar med lånta klot och hyrda skor på gratis banor. \n 
URL:https://parkinsonskane.se/evenemang/malmo-spelar-bowling-5-2-2/2025-04-29/
LOCATION:Baltiska Bowlinghallen\, Stadiongatan 27\, Malmö\, Skåne\, 217 62\, Sverige
CATEGORIES:Bowling
ATTACH;FMTTYPE=image/jpeg:https://parkinsonskane.se/wp-content/uploads/2023/09/bowling-malmo.jpg
END:VEVENT
BEGIN:VEVENT
DTSTART;TZID=Europe/Stockholm:20250218T130000
DTEND;TZID=Europe/Stockholm:20250218T140000
DTSTAMP:20260425T021749
CREATED:20250202T205825Z
LAST-MODIFIED:20250202T205825Z
UID:10011179-1739883600-1739887200@parkinsonskane.se
SUMMARY:Malmö spelar bowling
DESCRIPTION:Bowlingen startar tisdagen den 14/1 2025 och pågår till den 29/4  mellan kl 13.00–14.00. \nPlats: Baltiska hallen på Stadiongatan 27. \nVi spelar med lånta klot och hyrda skor på gratis banor. \n 
URL:https://parkinsonskane.se/evenemang/malmo-spelar-bowling-5-2/2025-02-18/
LOCATION:Baltiska Bowlinghallen\, Stadiongatan 27\, Malmö\, Skåne\, 217 62\, Sverige
CATEGORIES:Bowling
ATTACH;FMTTYPE=image/jpeg:https://parkinsonskane.se/wp-content/uploads/2023/09/bowling-malmo.jpg
END:VEVENT
BEGIN:VEVENT
DTSTART;TZID=Europe/Stockholm:20250225T130000
DTEND;TZID=Europe/Stockholm:20250225T140000
DTSTAMP:20260425T021749
CREATED:20250202T205825Z
LAST-MODIFIED:20250202T205825Z
UID:10011180-1740488400-1740492000@parkinsonskane.se
SUMMARY:Malmö spelar bowling
DESCRIPTION:Bowlingen startar tisdagen den 14/1 2025 och pågår till den 29/4  mellan kl 13.00–14.00. \nPlats: Baltiska hallen på Stadiongatan 27. \nVi spelar med lånta klot och hyrda skor på gratis banor. \n 
URL:https://parkinsonskane.se/evenemang/malmo-spelar-bowling-5-2/2025-02-25/
LOCATION:Baltiska Bowlinghallen\, Stadiongatan 27\, Malmö\, Skåne\, 217 62\, Sverige
CATEGORIES:Bowling
ATTACH;FMTTYPE=image/jpeg:https://parkinsonskane.se/wp-content/uploads/2023/09/bowling-malmo.jpg
END:VEVENT
BEGIN:VEVENT
DTSTART;TZID=Europe/Stockholm:20250204T130000
DTEND;TZID=Europe/Stockholm:20250204T140000
DTSTAMP:20260425T021749
CREATED:20250202T205825Z
LAST-MODIFIED:20250202T205825Z
UID:10011177-1738674000-1738677600@parkinsonskane.se
SUMMARY:Malmö spelar bowling
DESCRIPTION:Bowlingen startar tisdagen den 14/1 2025 och pågår till den 29/4  mellan kl 13.00–14.00. \nPlats: Baltiska hallen på Stadiongatan 27. \nVi spelar med lånta klot och hyrda skor på gratis banor. \n 
URL:https://parkinsonskane.se/evenemang/malmo-spelar-bowling-5-2/2025-02-04/
LOCATION:Baltiska Bowlinghallen\, Stadiongatan 27\, Malmö\, Skåne\, 217 62\, Sverige
CATEGORIES:Bowling
ATTACH;FMTTYPE=image/jpeg:https://parkinsonskane.se/wp-content/uploads/2023/09/bowling-malmo.jpg
END:VEVENT
BEGIN:VEVENT
DTSTART;TZID=Europe/Stockholm:20250211T130000
DTEND;TZID=Europe/Stockholm:20250211T140000
DTSTAMP:20260425T021749
CREATED:20250202T205825Z
LAST-MODIFIED:20250202T205825Z
UID:10011178-1739278800-1739282400@parkinsonskane.se
SUMMARY:Malmö spelar bowling
DESCRIPTION:Bowlingen startar tisdagen den 14/1 2025 och pågår till den 29/4  mellan kl 13.00–14.00. \nPlats: Baltiska hallen på Stadiongatan 27. \nVi spelar med lånta klot och hyrda skor på gratis banor. \n 
URL:https://parkinsonskane.se/evenemang/malmo-spelar-bowling-5-2/2025-02-11/
LOCATION:Baltiska Bowlinghallen\, Stadiongatan 27\, Malmö\, Skåne\, 217 62\, Sverige
CATEGORIES:Bowling
ATTACH;FMTTYPE=image/jpeg:https://parkinsonskane.se/wp-content/uploads/2023/09/bowling-malmo.jpg
END:VEVENT
END:VCALENDAR