BEGIN:VCALENDAR
VERSION:2.0
PRODID:-//Parkinson Skåne - ECPv6.15.20//NONSGML v1.0//EN
CALSCALE:GREGORIAN
METHOD:PUBLISH
X-WR-CALNAME:Parkinson Skåne
X-ORIGINAL-URL:https://parkinsonskane.se
X-WR-CALDESC:Händelser för Parkinson Skåne
REFRESH-INTERVAL;VALUE=DURATION:PT1H
X-Robots-Tag:noindex
X-PUBLISHED-TTL:PT1H
BEGIN:VTIMEZONE
TZID:Europe/Stockholm
BEGIN:DAYLIGHT
TZOFFSETFROM:+0100
TZOFFSETTO:+0200
TZNAME:CEST
DTSTART:20220327T010000
END:DAYLIGHT
BEGIN:STANDARD
TZOFFSETFROM:+0200
TZOFFSETTO:+0100
TZNAME:CET
DTSTART:20221030T010000
END:STANDARD
BEGIN:DAYLIGHT
TZOFFSETFROM:+0100
TZOFFSETTO:+0200
TZNAME:CEST
DTSTART:20230326T010000
END:DAYLIGHT
BEGIN:STANDARD
TZOFFSETFROM:+0200
TZOFFSETTO:+0100
TZNAME:CET
DTSTART:20231029T010000
END:STANDARD
BEGIN:DAYLIGHT
TZOFFSETFROM:+0100
TZOFFSETTO:+0200
TZNAME:CEST
DTSTART:20240331T010000
END:DAYLIGHT
BEGIN:STANDARD
TZOFFSETFROM:+0200
TZOFFSETTO:+0100
TZNAME:CET
DTSTART:20241027T010000
END:STANDARD
END:VTIMEZONE
BEGIN:VEVENT
DTSTART;TZID=Europe/Stockholm:20231017T130000
DTEND;TZID=Europe/Stockholm:20231017T140000
DTSTAMP:20260425T145845
CREATED:20230918T100610Z
LAST-MODIFIED:20230922T071445Z
UID:10009382-1697547600-1697551200@parkinsonskane.se
SUMMARY:Malmö spelar bowling
DESCRIPTION:Tisdagar fr.o.m 19/9 spelar vi bowling i Baltiska hallen på Stadion gatan 27 mellan 13.00 – 14.00. \nVi spelar med lånta klot och hyrda skor på gratis banor.
URL:https://parkinsonskane.se/evenemang/malmo-har-bowling/2023-10-17/
LOCATION:Baltiska Bowlinghallen\, Stadiongatan 27\, Malmö\, Skåne\, 217 62\, Sverige
CATEGORIES:Bowling
ATTACH;FMTTYPE=image/jpeg:https://parkinsonskane.se/wp-content/uploads/2023/09/bowling-malmo.jpg
END:VEVENT
BEGIN:VEVENT
DTSTART;TZID=Europe/Stockholm:20231024T130000
DTEND;TZID=Europe/Stockholm:20231024T140000
DTSTAMP:20260425T145845
CREATED:20230918T100610Z
LAST-MODIFIED:20230922T071445Z
UID:10009383-1698152400-1698156000@parkinsonskane.se
SUMMARY:Malmö spelar bowling
DESCRIPTION:Tisdagar fr.o.m 19/9 spelar vi bowling i Baltiska hallen på Stadion gatan 27 mellan 13.00 – 14.00. \nVi spelar med lånta klot och hyrda skor på gratis banor.
URL:https://parkinsonskane.se/evenemang/malmo-har-bowling/2023-10-24/
LOCATION:Baltiska Bowlinghallen\, Stadiongatan 27\, Malmö\, Skåne\, 217 62\, Sverige
CATEGORIES:Bowling
ATTACH;FMTTYPE=image/jpeg:https://parkinsonskane.se/wp-content/uploads/2023/09/bowling-malmo.jpg
END:VEVENT
BEGIN:VEVENT
DTSTART;TZID=Europe/Stockholm:20231031T130000
DTEND;TZID=Europe/Stockholm:20231031T140000
DTSTAMP:20260425T145845
CREATED:20230918T100610Z
LAST-MODIFIED:20230922T071445Z
UID:10009384-1698757200-1698760800@parkinsonskane.se
SUMMARY:Malmö spelar bowling
DESCRIPTION:Tisdagar fr.o.m 19/9 spelar vi bowling i Baltiska hallen på Stadion gatan 27 mellan 13.00 – 14.00. \nVi spelar med lånta klot och hyrda skor på gratis banor.
URL:https://parkinsonskane.se/evenemang/malmo-har-bowling/2023-10-31/
LOCATION:Baltiska Bowlinghallen\, Stadiongatan 27\, Malmö\, Skåne\, 217 62\, Sverige
CATEGORIES:Bowling
ATTACH;FMTTYPE=image/jpeg:https://parkinsonskane.se/wp-content/uploads/2023/09/bowling-malmo.jpg
END:VEVENT
BEGIN:VEVENT
DTSTART;TZID=Europe/Stockholm:20231107T130000
DTEND;TZID=Europe/Stockholm:20231107T140000
DTSTAMP:20260425T145845
CREATED:20230918T100610Z
LAST-MODIFIED:20230922T071445Z
UID:10009385-1699362000-1699365600@parkinsonskane.se
SUMMARY:Malmö spelar bowling
DESCRIPTION:Tisdagar fr.o.m 19/9 spelar vi bowling i Baltiska hallen på Stadion gatan 27 mellan 13.00 – 14.00. \nVi spelar med lånta klot och hyrda skor på gratis banor.
URL:https://parkinsonskane.se/evenemang/malmo-har-bowling/2023-11-07/
LOCATION:Baltiska Bowlinghallen\, Stadiongatan 27\, Malmö\, Skåne\, 217 62\, Sverige
CATEGORIES:Bowling
ATTACH;FMTTYPE=image/jpeg:https://parkinsonskane.se/wp-content/uploads/2023/09/bowling-malmo.jpg
END:VEVENT
BEGIN:VEVENT
DTSTART;TZID=Europe/Stockholm:20231114T130000
DTEND;TZID=Europe/Stockholm:20231114T140000
DTSTAMP:20260425T145845
CREATED:20230918T100610Z
LAST-MODIFIED:20230922T071445Z
UID:10009386-1699966800-1699970400@parkinsonskane.se
SUMMARY:Malmö spelar bowling
DESCRIPTION:Tisdagar fr.o.m 19/9 spelar vi bowling i Baltiska hallen på Stadion gatan 27 mellan 13.00 – 14.00. \nVi spelar med lånta klot och hyrda skor på gratis banor.
URL:https://parkinsonskane.se/evenemang/malmo-har-bowling/2023-11-14/
LOCATION:Baltiska Bowlinghallen\, Stadiongatan 27\, Malmö\, Skåne\, 217 62\, Sverige
CATEGORIES:Bowling
ATTACH;FMTTYPE=image/jpeg:https://parkinsonskane.se/wp-content/uploads/2023/09/bowling-malmo.jpg
END:VEVENT
BEGIN:VEVENT
DTSTART;TZID=Europe/Stockholm:20231121T130000
DTEND;TZID=Europe/Stockholm:20231121T140000
DTSTAMP:20260425T145845
CREATED:20230918T100610Z
LAST-MODIFIED:20230922T071445Z
UID:10009387-1700571600-1700575200@parkinsonskane.se
SUMMARY:Malmö spelar bowling
DESCRIPTION:Tisdagar fr.o.m 19/9 spelar vi bowling i Baltiska hallen på Stadion gatan 27 mellan 13.00 – 14.00. \nVi spelar med lånta klot och hyrda skor på gratis banor.
URL:https://parkinsonskane.se/evenemang/malmo-har-bowling/2023-11-21/
LOCATION:Baltiska Bowlinghallen\, Stadiongatan 27\, Malmö\, Skåne\, 217 62\, Sverige
CATEGORIES:Bowling
ATTACH;FMTTYPE=image/jpeg:https://parkinsonskane.se/wp-content/uploads/2023/09/bowling-malmo.jpg
END:VEVENT
END:VCALENDAR