BEGIN:VCALENDAR
VERSION:2.0
PRODID:-//Parkinson Skåne - ECPv6.15.20//NONSGML v1.0//EN
CALSCALE:GREGORIAN
METHOD:PUBLISH
X-ORIGINAL-URL:https://parkinsonskane.se
X-WR-CALDESC:Händelser för Parkinson Skåne
REFRESH-INTERVAL;VALUE=DURATION:PT1H
X-Robots-Tag:noindex
X-PUBLISHED-TTL:PT1H
BEGIN:VTIMEZONE
TZID:Europe/Stockholm
BEGIN:DAYLIGHT
TZOFFSETFROM:+0100
TZOFFSETTO:+0200
TZNAME:CEST
DTSTART:20220327T010000
END:DAYLIGHT
BEGIN:STANDARD
TZOFFSETFROM:+0200
TZOFFSETTO:+0100
TZNAME:CET
DTSTART:20221030T010000
END:STANDARD
BEGIN:DAYLIGHT
TZOFFSETFROM:+0100
TZOFFSETTO:+0200
TZNAME:CEST
DTSTART:20230326T010000
END:DAYLIGHT
BEGIN:STANDARD
TZOFFSETFROM:+0200
TZOFFSETTO:+0100
TZNAME:CET
DTSTART:20231029T010000
END:STANDARD
BEGIN:DAYLIGHT
TZOFFSETFROM:+0100
TZOFFSETTO:+0200
TZNAME:CEST
DTSTART:20240331T010000
END:DAYLIGHT
BEGIN:STANDARD
TZOFFSETFROM:+0200
TZOFFSETTO:+0100
TZNAME:CET
DTSTART:20241027T010000
END:STANDARD
END:VTIMEZONE
BEGIN:VEVENT
DTSTART;TZID=Europe/Stockholm:20230221T133000
DTEND;TZID=Europe/Stockholm:20230221T144500
DTSTAMP:20260425T124945
CREATED:20230118T144250Z
LAST-MODIFIED:20230118T144656Z
UID:10007728-1676986200-1676990700@parkinsonskane.se
SUMMARY:Ängelholm-Båstad har Dans för Parkinson - dansworkshop med Hugo
DESCRIPTION:Hugo Tham leder alla sammankomster och har med sina 45 år av scenisk och pedagogisk erfarenhet mycket kompetens och erfarenhet i ämnet utforskande dans. Vi prövar lustfyllda kravlösa rörelser tillsammans med musik både sittande och stående i stora fina tillgänglighetsanpassade lokaler i Ängelholm. Lokalen ligger på gatuplan med tillgång till parkering precis utanför. \nAlla kan vara med! Välkommen att anmäla intresse för anpassad dans och balans för personer med Parkinson. \nVi börjar tisdagen den 31 januari kl. 13.30. \nNär: Tisdagar 31/1-18/4 kl. 13:30 – 14:45\nLokal: Dansfabriken Nybrovägen 4\, Ängelholm\nKostnad (utan medlemssubvention): 12 tillfällen för 1 450 kr.\nBetalning: HT Danshälsa Swish 123 604 04 71 eller Bankgiro 5573-6888. Uppge ditt namn. \nAnmälan görs direkt till Hugo Tham via mobil 0708 820207 eller via e-post:\nhugotham@icloud.com
URL:https://parkinsonskane.se/evenemang/angelholm-har-dans-for-parkinson-dansworkshop-med-hugo/2023-02-21/
LOCATION:Dansfabriken\, Nybrovägen 4\, Ängelholm\, Skåne\, 262 63\, Sverige
CATEGORIES:Dans
ATTACH;FMTTYPE=image/jpeg:https://parkinsonskane.se/wp-content/uploads/2022/11/dans-p-ht22.jpg
END:VEVENT
BEGIN:VEVENT
DTSTART;TZID=Europe/Stockholm:20230228T133000
DTEND;TZID=Europe/Stockholm:20230228T144500
DTSTAMP:20260425T124945
CREATED:20230118T144250Z
LAST-MODIFIED:20230118T144656Z
UID:10007729-1677591000-1677595500@parkinsonskane.se
SUMMARY:Ängelholm-Båstad har Dans för Parkinson - dansworkshop med Hugo
DESCRIPTION:Hugo Tham leder alla sammankomster och har med sina 45 år av scenisk och pedagogisk erfarenhet mycket kompetens och erfarenhet i ämnet utforskande dans. Vi prövar lustfyllda kravlösa rörelser tillsammans med musik både sittande och stående i stora fina tillgänglighetsanpassade lokaler i Ängelholm. Lokalen ligger på gatuplan med tillgång till parkering precis utanför. \nAlla kan vara med! Välkommen att anmäla intresse för anpassad dans och balans för personer med Parkinson. \nVi börjar tisdagen den 31 januari kl. 13.30. \nNär: Tisdagar 31/1-18/4 kl. 13:30 – 14:45\nLokal: Dansfabriken Nybrovägen 4\, Ängelholm\nKostnad (utan medlemssubvention): 12 tillfällen för 1 450 kr.\nBetalning: HT Danshälsa Swish 123 604 04 71 eller Bankgiro 5573-6888. Uppge ditt namn. \nAnmälan görs direkt till Hugo Tham via mobil 0708 820207 eller via e-post:\nhugotham@icloud.com
URL:https://parkinsonskane.se/evenemang/angelholm-har-dans-for-parkinson-dansworkshop-med-hugo/2023-02-28/
LOCATION:Dansfabriken\, Nybrovägen 4\, Ängelholm\, Skåne\, 262 63\, Sverige
CATEGORIES:Dans
ATTACH;FMTTYPE=image/jpeg:https://parkinsonskane.se/wp-content/uploads/2022/11/dans-p-ht22.jpg
END:VEVENT
BEGIN:VEVENT
DTSTART;TZID=Europe/Stockholm:20230307T133000
DTEND;TZID=Europe/Stockholm:20230307T144500
DTSTAMP:20260425T124945
CREATED:20230118T144250Z
LAST-MODIFIED:20230118T144656Z
UID:10007730-1678195800-1678200300@parkinsonskane.se
SUMMARY:Ängelholm-Båstad har Dans för Parkinson - dansworkshop med Hugo
DESCRIPTION:Hugo Tham leder alla sammankomster och har med sina 45 år av scenisk och pedagogisk erfarenhet mycket kompetens och erfarenhet i ämnet utforskande dans. Vi prövar lustfyllda kravlösa rörelser tillsammans med musik både sittande och stående i stora fina tillgänglighetsanpassade lokaler i Ängelholm. Lokalen ligger på gatuplan med tillgång till parkering precis utanför. \nAlla kan vara med! Välkommen att anmäla intresse för anpassad dans och balans för personer med Parkinson. \nVi börjar tisdagen den 31 januari kl. 13.30. \nNär: Tisdagar 31/1-18/4 kl. 13:30 – 14:45\nLokal: Dansfabriken Nybrovägen 4\, Ängelholm\nKostnad (utan medlemssubvention): 12 tillfällen för 1 450 kr.\nBetalning: HT Danshälsa Swish 123 604 04 71 eller Bankgiro 5573-6888. Uppge ditt namn. \nAnmälan görs direkt till Hugo Tham via mobil 0708 820207 eller via e-post:\nhugotham@icloud.com
URL:https://parkinsonskane.se/evenemang/angelholm-har-dans-for-parkinson-dansworkshop-med-hugo/2023-03-07/
LOCATION:Dansfabriken\, Nybrovägen 4\, Ängelholm\, Skåne\, 262 63\, Sverige
CATEGORIES:Dans
ATTACH;FMTTYPE=image/jpeg:https://parkinsonskane.se/wp-content/uploads/2022/11/dans-p-ht22.jpg
END:VEVENT
BEGIN:VEVENT
DTSTART;TZID=Europe/Stockholm:20230314T133000
DTEND;TZID=Europe/Stockholm:20230314T144500
DTSTAMP:20260425T124945
CREATED:20230118T144250Z
LAST-MODIFIED:20230118T144656Z
UID:10007731-1678800600-1678805100@parkinsonskane.se
SUMMARY:Ängelholm-Båstad har Dans för Parkinson - dansworkshop med Hugo
DESCRIPTION:Hugo Tham leder alla sammankomster och har med sina 45 år av scenisk och pedagogisk erfarenhet mycket kompetens och erfarenhet i ämnet utforskande dans. Vi prövar lustfyllda kravlösa rörelser tillsammans med musik både sittande och stående i stora fina tillgänglighetsanpassade lokaler i Ängelholm. Lokalen ligger på gatuplan med tillgång till parkering precis utanför. \nAlla kan vara med! Välkommen att anmäla intresse för anpassad dans och balans för personer med Parkinson. \nVi börjar tisdagen den 31 januari kl. 13.30. \nNär: Tisdagar 31/1-18/4 kl. 13:30 – 14:45\nLokal: Dansfabriken Nybrovägen 4\, Ängelholm\nKostnad (utan medlemssubvention): 12 tillfällen för 1 450 kr.\nBetalning: HT Danshälsa Swish 123 604 04 71 eller Bankgiro 5573-6888. Uppge ditt namn. \nAnmälan görs direkt till Hugo Tham via mobil 0708 820207 eller via e-post:\nhugotham@icloud.com
URL:https://parkinsonskane.se/evenemang/angelholm-har-dans-for-parkinson-dansworkshop-med-hugo/2023-03-14/
LOCATION:Dansfabriken\, Nybrovägen 4\, Ängelholm\, Skåne\, 262 63\, Sverige
CATEGORIES:Dans
ATTACH;FMTTYPE=image/jpeg:https://parkinsonskane.se/wp-content/uploads/2022/11/dans-p-ht22.jpg
END:VEVENT
BEGIN:VEVENT
DTSTART;TZID=Europe/Stockholm:20230321T133000
DTEND;TZID=Europe/Stockholm:20230321T144500
DTSTAMP:20260425T124945
CREATED:20230118T144250Z
LAST-MODIFIED:20230118T144656Z
UID:10007732-1679405400-1679409900@parkinsonskane.se
SUMMARY:Ängelholm-Båstad har Dans för Parkinson - dansworkshop med Hugo
DESCRIPTION:Hugo Tham leder alla sammankomster och har med sina 45 år av scenisk och pedagogisk erfarenhet mycket kompetens och erfarenhet i ämnet utforskande dans. Vi prövar lustfyllda kravlösa rörelser tillsammans med musik både sittande och stående i stora fina tillgänglighetsanpassade lokaler i Ängelholm. Lokalen ligger på gatuplan med tillgång till parkering precis utanför. \nAlla kan vara med! Välkommen att anmäla intresse för anpassad dans och balans för personer med Parkinson. \nVi börjar tisdagen den 31 januari kl. 13.30. \nNär: Tisdagar 31/1-18/4 kl. 13:30 – 14:45\nLokal: Dansfabriken Nybrovägen 4\, Ängelholm\nKostnad (utan medlemssubvention): 12 tillfällen för 1 450 kr.\nBetalning: HT Danshälsa Swish 123 604 04 71 eller Bankgiro 5573-6888. Uppge ditt namn. \nAnmälan görs direkt till Hugo Tham via mobil 0708 820207 eller via e-post:\nhugotham@icloud.com
URL:https://parkinsonskane.se/evenemang/angelholm-har-dans-for-parkinson-dansworkshop-med-hugo/2023-03-21/
LOCATION:Dansfabriken\, Nybrovägen 4\, Ängelholm\, Skåne\, 262 63\, Sverige
CATEGORIES:Dans
ATTACH;FMTTYPE=image/jpeg:https://parkinsonskane.se/wp-content/uploads/2022/11/dans-p-ht22.jpg
END:VEVENT
BEGIN:VEVENT
DTSTART;TZID=Europe/Stockholm:20230328T133000
DTEND;TZID=Europe/Stockholm:20230328T144500
DTSTAMP:20260425T124945
CREATED:20230118T144250Z
LAST-MODIFIED:20230118T144656Z
UID:10007733-1680010200-1680014700@parkinsonskane.se
SUMMARY:Ängelholm-Båstad har Dans för Parkinson - dansworkshop med Hugo
DESCRIPTION:Hugo Tham leder alla sammankomster och har med sina 45 år av scenisk och pedagogisk erfarenhet mycket kompetens och erfarenhet i ämnet utforskande dans. Vi prövar lustfyllda kravlösa rörelser tillsammans med musik både sittande och stående i stora fina tillgänglighetsanpassade lokaler i Ängelholm. Lokalen ligger på gatuplan med tillgång till parkering precis utanför. \nAlla kan vara med! Välkommen att anmäla intresse för anpassad dans och balans för personer med Parkinson. \nVi börjar tisdagen den 31 januari kl. 13.30. \nNär: Tisdagar 31/1-18/4 kl. 13:30 – 14:45\nLokal: Dansfabriken Nybrovägen 4\, Ängelholm\nKostnad (utan medlemssubvention): 12 tillfällen för 1 450 kr.\nBetalning: HT Danshälsa Swish 123 604 04 71 eller Bankgiro 5573-6888. Uppge ditt namn. \nAnmälan görs direkt till Hugo Tham via mobil 0708 820207 eller via e-post:\nhugotham@icloud.com
URL:https://parkinsonskane.se/evenemang/angelholm-har-dans-for-parkinson-dansworkshop-med-hugo/2023-03-28/
LOCATION:Dansfabriken\, Nybrovägen 4\, Ängelholm\, Skåne\, 262 63\, Sverige
CATEGORIES:Dans
ATTACH;FMTTYPE=image/jpeg:https://parkinsonskane.se/wp-content/uploads/2022/11/dans-p-ht22.jpg
END:VEVENT
BEGIN:VEVENT
DTSTART;TZID=Europe/Stockholm:20230404T133000
DTEND;TZID=Europe/Stockholm:20230404T144500
DTSTAMP:20260425T124945
CREATED:20230118T144250Z
LAST-MODIFIED:20230118T144656Z
UID:10007734-1680615000-1680619500@parkinsonskane.se
SUMMARY:Ängelholm-Båstad har Dans för Parkinson - dansworkshop med Hugo
DESCRIPTION:Hugo Tham leder alla sammankomster och har med sina 45 år av scenisk och pedagogisk erfarenhet mycket kompetens och erfarenhet i ämnet utforskande dans. Vi prövar lustfyllda kravlösa rörelser tillsammans med musik både sittande och stående i stora fina tillgänglighetsanpassade lokaler i Ängelholm. Lokalen ligger på gatuplan med tillgång till parkering precis utanför. \nAlla kan vara med! Välkommen att anmäla intresse för anpassad dans och balans för personer med Parkinson. \nVi börjar tisdagen den 31 januari kl. 13.30. \nNär: Tisdagar 31/1-18/4 kl. 13:30 – 14:45\nLokal: Dansfabriken Nybrovägen 4\, Ängelholm\nKostnad (utan medlemssubvention): 12 tillfällen för 1 450 kr.\nBetalning: HT Danshälsa Swish 123 604 04 71 eller Bankgiro 5573-6888. Uppge ditt namn. \nAnmälan görs direkt till Hugo Tham via mobil 0708 820207 eller via e-post:\nhugotham@icloud.com
URL:https://parkinsonskane.se/evenemang/angelholm-har-dans-for-parkinson-dansworkshop-med-hugo/2023-04-04/
LOCATION:Dansfabriken\, Nybrovägen 4\, Ängelholm\, Skåne\, 262 63\, Sverige
CATEGORIES:Dans
ATTACH;FMTTYPE=image/jpeg:https://parkinsonskane.se/wp-content/uploads/2022/11/dans-p-ht22.jpg
END:VEVENT
BEGIN:VEVENT
DTSTART;TZID=Europe/Stockholm:20230411T133000
DTEND;TZID=Europe/Stockholm:20230411T144500
DTSTAMP:20260425T124945
CREATED:20230118T144250Z
LAST-MODIFIED:20230118T144656Z
UID:10007735-1681219800-1681224300@parkinsonskane.se
SUMMARY:Ängelholm-Båstad har Dans för Parkinson - dansworkshop med Hugo
DESCRIPTION:Hugo Tham leder alla sammankomster och har med sina 45 år av scenisk och pedagogisk erfarenhet mycket kompetens och erfarenhet i ämnet utforskande dans. Vi prövar lustfyllda kravlösa rörelser tillsammans med musik både sittande och stående i stora fina tillgänglighetsanpassade lokaler i Ängelholm. Lokalen ligger på gatuplan med tillgång till parkering precis utanför. \nAlla kan vara med! Välkommen att anmäla intresse för anpassad dans och balans för personer med Parkinson. \nVi börjar tisdagen den 31 januari kl. 13.30. \nNär: Tisdagar 31/1-18/4 kl. 13:30 – 14:45\nLokal: Dansfabriken Nybrovägen 4\, Ängelholm\nKostnad (utan medlemssubvention): 12 tillfällen för 1 450 kr.\nBetalning: HT Danshälsa Swish 123 604 04 71 eller Bankgiro 5573-6888. Uppge ditt namn. \nAnmälan görs direkt till Hugo Tham via mobil 0708 820207 eller via e-post:\nhugotham@icloud.com
URL:https://parkinsonskane.se/evenemang/angelholm-har-dans-for-parkinson-dansworkshop-med-hugo/2023-04-11/
LOCATION:Dansfabriken\, Nybrovägen 4\, Ängelholm\, Skåne\, 262 63\, Sverige
CATEGORIES:Dans
ATTACH;FMTTYPE=image/jpeg:https://parkinsonskane.se/wp-content/uploads/2022/11/dans-p-ht22.jpg
END:VEVENT
BEGIN:VEVENT
DTSTART;TZID=Europe/Stockholm:20230131T133000
DTEND;TZID=Europe/Stockholm:20230131T144500
DTSTAMP:20260425T124945
CREATED:20230118T144250Z
LAST-MODIFIED:20230118T144656Z
UID:10007725-1675171800-1675176300@parkinsonskane.se
SUMMARY:Ängelholm-Båstad har Dans för Parkinson - dansworkshop med Hugo
DESCRIPTION:Hugo Tham leder alla sammankomster och har med sina 45 år av scenisk och pedagogisk erfarenhet mycket kompetens och erfarenhet i ämnet utforskande dans. Vi prövar lustfyllda kravlösa rörelser tillsammans med musik både sittande och stående i stora fina tillgänglighetsanpassade lokaler i Ängelholm. Lokalen ligger på gatuplan med tillgång till parkering precis utanför. \nAlla kan vara med! Välkommen att anmäla intresse för anpassad dans och balans för personer med Parkinson. \nVi börjar tisdagen den 31 januari kl. 13.30. \nNär: Tisdagar 31/1-18/4 kl. 13:30 – 14:45\nLokal: Dansfabriken Nybrovägen 4\, Ängelholm\nKostnad (utan medlemssubvention): 12 tillfällen för 1 450 kr.\nBetalning: HT Danshälsa Swish 123 604 04 71 eller Bankgiro 5573-6888. Uppge ditt namn. \nAnmälan görs direkt till Hugo Tham via mobil 0708 820207 eller via e-post:\nhugotham@icloud.com
URL:https://parkinsonskane.se/evenemang/angelholm-har-dans-for-parkinson-dansworkshop-med-hugo/2023-01-31/
LOCATION:Dansfabriken\, Nybrovägen 4\, Ängelholm\, Skåne\, 262 63\, Sverige
CATEGORIES:Dans
ATTACH;FMTTYPE=image/jpeg:https://parkinsonskane.se/wp-content/uploads/2022/11/dans-p-ht22.jpg
END:VEVENT
BEGIN:VEVENT
DTSTART;TZID=Europe/Stockholm:20230418T133000
DTEND;TZID=Europe/Stockholm:20230418T144500
DTSTAMP:20260425T124945
CREATED:20230118T144250Z
LAST-MODIFIED:20230118T144656Z
UID:10007736-1681824600-1681829100@parkinsonskane.se
SUMMARY:Ängelholm-Båstad har Dans för Parkinson - dansworkshop med Hugo
DESCRIPTION:Hugo Tham leder alla sammankomster och har med sina 45 år av scenisk och pedagogisk erfarenhet mycket kompetens och erfarenhet i ämnet utforskande dans. Vi prövar lustfyllda kravlösa rörelser tillsammans med musik både sittande och stående i stora fina tillgänglighetsanpassade lokaler i Ängelholm. Lokalen ligger på gatuplan med tillgång till parkering precis utanför. \nAlla kan vara med! Välkommen att anmäla intresse för anpassad dans och balans för personer med Parkinson. \nVi börjar tisdagen den 31 januari kl. 13.30. \nNär: Tisdagar 31/1-18/4 kl. 13:30 – 14:45\nLokal: Dansfabriken Nybrovägen 4\, Ängelholm\nKostnad (utan medlemssubvention): 12 tillfällen för 1 450 kr.\nBetalning: HT Danshälsa Swish 123 604 04 71 eller Bankgiro 5573-6888. Uppge ditt namn. \nAnmälan görs direkt till Hugo Tham via mobil 0708 820207 eller via e-post:\nhugotham@icloud.com
URL:https://parkinsonskane.se/evenemang/angelholm-har-dans-for-parkinson-dansworkshop-med-hugo/2023-04-18/
LOCATION:Dansfabriken\, Nybrovägen 4\, Ängelholm\, Skåne\, 262 63\, Sverige
CATEGORIES:Dans
ATTACH;FMTTYPE=image/jpeg:https://parkinsonskane.se/wp-content/uploads/2022/11/dans-p-ht22.jpg
END:VEVENT
BEGIN:VEVENT
DTSTART;TZID=Europe/Stockholm:20230207T133000
DTEND;TZID=Europe/Stockholm:20230207T144500
DTSTAMP:20260425T124945
CREATED:20230118T144250Z
LAST-MODIFIED:20230118T144656Z
UID:10007726-1675776600-1675781100@parkinsonskane.se
SUMMARY:Ängelholm-Båstad har Dans för Parkinson - dansworkshop med Hugo
DESCRIPTION:Hugo Tham leder alla sammankomster och har med sina 45 år av scenisk och pedagogisk erfarenhet mycket kompetens och erfarenhet i ämnet utforskande dans. Vi prövar lustfyllda kravlösa rörelser tillsammans med musik både sittande och stående i stora fina tillgänglighetsanpassade lokaler i Ängelholm. Lokalen ligger på gatuplan med tillgång till parkering precis utanför. \nAlla kan vara med! Välkommen att anmäla intresse för anpassad dans och balans för personer med Parkinson. \nVi börjar tisdagen den 31 januari kl. 13.30. \nNär: Tisdagar 31/1-18/4 kl. 13:30 – 14:45\nLokal: Dansfabriken Nybrovägen 4\, Ängelholm\nKostnad (utan medlemssubvention): 12 tillfällen för 1 450 kr.\nBetalning: HT Danshälsa Swish 123 604 04 71 eller Bankgiro 5573-6888. Uppge ditt namn. \nAnmälan görs direkt till Hugo Tham via mobil 0708 820207 eller via e-post:\nhugotham@icloud.com
URL:https://parkinsonskane.se/evenemang/angelholm-har-dans-for-parkinson-dansworkshop-med-hugo/2023-02-07/
LOCATION:Dansfabriken\, Nybrovägen 4\, Ängelholm\, Skåne\, 262 63\, Sverige
CATEGORIES:Dans
ATTACH;FMTTYPE=image/jpeg:https://parkinsonskane.se/wp-content/uploads/2022/11/dans-p-ht22.jpg
END:VEVENT
END:VCALENDAR