BEGIN:VCALENDAR
VERSION:2.0
PRODID:-//Parkinson Skåne - ECPv6.15.20//NONSGML v1.0//EN
CALSCALE:GREGORIAN
METHOD:PUBLISH
X-WR-CALNAME:Parkinson Skåne
X-ORIGINAL-URL:https://parkinsonskane.se
X-WR-CALDESC:Händelser för Parkinson Skåne
REFRESH-INTERVAL;VALUE=DURATION:PT1H
X-Robots-Tag:noindex
X-PUBLISHED-TTL:PT1H
BEGIN:VTIMEZONE
TZID:Europe/Stockholm
BEGIN:DAYLIGHT
TZOFFSETFROM:+0100
TZOFFSETTO:+0200
TZNAME:CEST
DTSTART:20250330T010000
END:DAYLIGHT
BEGIN:STANDARD
TZOFFSETFROM:+0200
TZOFFSETTO:+0100
TZNAME:CET
DTSTART:20251026T010000
END:STANDARD
BEGIN:DAYLIGHT
TZOFFSETFROM:+0100
TZOFFSETTO:+0200
TZNAME:CEST
DTSTART:20260329T010000
END:DAYLIGHT
BEGIN:STANDARD
TZOFFSETFROM:+0200
TZOFFSETTO:+0100
TZNAME:CET
DTSTART:20261025T010000
END:STANDARD
BEGIN:DAYLIGHT
TZOFFSETFROM:+0100
TZOFFSETTO:+0200
TZNAME:CEST
DTSTART:20270328T010000
END:DAYLIGHT
BEGIN:STANDARD
TZOFFSETFROM:+0200
TZOFFSETTO:+0100
TZNAME:CET
DTSTART:20271031T010000
END:STANDARD
END:VTIMEZONE
BEGIN:VEVENT
DTSTART;TZID=Europe/Stockholm:20260505T124500
DTEND;TZID=Europe/Stockholm:20260505T130000
DTSTAMP:20260425T021529
CREATED:20260327T161713Z
LAST-MODIFIED:20260327T161714Z
UID:10012494-1777985100-1777986000@parkinsonskane.se
SUMMARY:Eslöv har bowling
DESCRIPTION:Eslöv har bowling varannan tisdag kl. 13.00\, med samling kl. 12.45. Första tillfället är den 13 januari och sista den 19 maj. Kostnaden är 300 kr för 10 tillfällen. \nPlats:\nEslövs Bowlinghall\, Eslöv \nKontakt och anmälan:\nAnmälan görs alltid senast fredagen före aktuell speldag till\nChrister Nilsson\, 070-765 28 08 \nBetalning för de fasta aktiviteterna görs till föreningens bankgiro 551-3387 eller via Swish 123 171 3114. \nDu är alltid välkommen till våra aktiviteter även om du för tillfället inte kan delta aktivt – det är viktigt att träffas och prata en stund.
URL:https://parkinsonskane.se/evenemang/eslov-har-bowling-5-2-2-2/2026-05-05/
LOCATION:Eslövs Bowlinghall\, Västergatan 54\, Eslöv\, Skåne\, 241 31\, Sverige
CATEGORIES:Bowling
ATTACH;FMTTYPE=image/jpeg:https://parkinsonskane.se/wp-content/uploads/2024/07/eslov-bowl.jpg
END:VEVENT
BEGIN:VEVENT
DTSTART;TZID=Europe/Stockholm:20260519T124500
DTEND;TZID=Europe/Stockholm:20260519T130000
DTSTAMP:20260425T021529
CREATED:20260327T161713Z
LAST-MODIFIED:20260327T161714Z
UID:10012495-1779194700-1779195600@parkinsonskane.se
SUMMARY:Eslöv har bowling
DESCRIPTION:Eslöv har bowling varannan tisdag kl. 13.00\, med samling kl. 12.45. Första tillfället är den 13 januari och sista den 19 maj. Kostnaden är 300 kr för 10 tillfällen. \nPlats:\nEslövs Bowlinghall\, Eslöv \nKontakt och anmälan:\nAnmälan görs alltid senast fredagen före aktuell speldag till\nChrister Nilsson\, 070-765 28 08 \nBetalning för de fasta aktiviteterna görs till föreningens bankgiro 551-3387 eller via Swish 123 171 3114. \nDu är alltid välkommen till våra aktiviteter även om du för tillfället inte kan delta aktivt – det är viktigt att träffas och prata en stund.
URL:https://parkinsonskane.se/evenemang/eslov-har-bowling-5-2-2-2/2026-05-19/
LOCATION:Eslövs Bowlinghall\, Västergatan 54\, Eslöv\, Skåne\, 241 31\, Sverige
CATEGORIES:Bowling
ATTACH;FMTTYPE=image/jpeg:https://parkinsonskane.se/wp-content/uploads/2024/07/eslov-bowl.jpg
END:VEVENT
END:VCALENDAR