BEGIN:VCALENDAR
VERSION:2.0
PRODID:-//Parkinson Skåne - ECPv6.15.20//NONSGML v1.0//EN
CALSCALE:GREGORIAN
METHOD:PUBLISH
X-WR-CALNAME:Parkinson Skåne
X-ORIGINAL-URL:https://parkinsonskane.se
X-WR-CALDESC:Händelser för Parkinson Skåne
REFRESH-INTERVAL;VALUE=DURATION:PT1H
X-Robots-Tag:noindex
X-PUBLISHED-TTL:PT1H
BEGIN:VTIMEZONE
TZID:Europe/Stockholm
BEGIN:DAYLIGHT
TZOFFSETFROM:+0100
TZOFFSETTO:+0200
TZNAME:CEST
DTSTART:20250330T010000
END:DAYLIGHT
BEGIN:STANDARD
TZOFFSETFROM:+0200
TZOFFSETTO:+0100
TZNAME:CET
DTSTART:20251026T010000
END:STANDARD
BEGIN:DAYLIGHT
TZOFFSETFROM:+0100
TZOFFSETTO:+0200
TZNAME:CEST
DTSTART:20260329T010000
END:DAYLIGHT
BEGIN:STANDARD
TZOFFSETFROM:+0200
TZOFFSETTO:+0100
TZNAME:CET
DTSTART:20261025T010000
END:STANDARD
BEGIN:DAYLIGHT
TZOFFSETFROM:+0100
TZOFFSETTO:+0200
TZNAME:CEST
DTSTART:20270328T010000
END:DAYLIGHT
BEGIN:STANDARD
TZOFFSETFROM:+0200
TZOFFSETTO:+0100
TZNAME:CET
DTSTART:20271031T010000
END:STANDARD
END:VTIMEZONE
BEGIN:VEVENT
DTSTART;TZID=Europe/Stockholm:20260401T163000
DTEND;TZID=Europe/Stockholm:20260401T180000
DTSTAMP:20260425T000446
CREATED:20260327T161514Z
LAST-MODIFIED:20260327T161514Z
UID:10012981-1775061000-1775066400@parkinsonskane.se
SUMMARY:Tangokurs i Lund – grundkurs i argentinsk tango
DESCRIPTION:Nu finns möjlighet att prova argentinsk tango!\nEn helt ny grundkurs där rörelse\, musik och gemenskap står i centrum – särskilt anpassad för personer som lever med Parkinsons sjukdom. \nKursen har fokus på balans\, koordination\, musikalitet och kommunikation. Under kursens gång varvas dans med kortare inslag om tangons betydelse för personer med Parkinsons sjukdom. Några enkla figurer lärs ut\, så att tango blir möjlig på ett tryggt och lustfyllt sätt. \nInstruktörerna är erfarna tangodansare med god kännedom om Parkinsons sjukdom och andra funktionsnedsättningar\, och anpassar rörelserna efter deltagarnas behov. \nKursen är öppen för alla medlemmar inom Parkinson Skåne. Anhöriga är varmt välkomna och du behöver inte anmäla dig i par. Medlemskap i Parkinsonförbundet är en förutsättning för att delta. \nKursen genomförs av Parkinson Malmö med stöd från Crafoordska stiftelsen. \nPlats:\nEstniska huset\, Bytaregatan 28\, Lund\n(Nära Clemens torg och tågstationen. Parkeringsgarage finns under ICA.) \nDatum och tid:\nOnsdagar kl. 16.30–18:00 (kort paus)\n4/3\, 11/3\, 18/3\, 25/3\, 1/4 \, 8/4\, 15/4 \nTa med:\nNågot att dricka samt skor som går att dansa i (inte för hala\, ingen gummisula). \nAnmälan:\nmalmo@parkinsonskane.se
URL:https://parkinsonskane.se/evenemang/tangokurs-i-lund-grundkurs-i-argentinsk-tango-2-2-2/2026-04-01/
LOCATION:Estniska huset\, Bytaregatan 28\, LUND\, 22221\, Sverige
CATEGORIES:Dans
ATTACH;FMTTYPE=image/jpeg:https://parkinsonskane.se/wp-content/uploads/2025/10/tango-syd.jpg
END:VEVENT
BEGIN:VEVENT
DTSTART;TZID=Europe/Stockholm:20260408T163000
DTEND;TZID=Europe/Stockholm:20260408T180000
DTSTAMP:20260425T000446
CREATED:20260327T161514Z
LAST-MODIFIED:20260327T161514Z
UID:10012982-1775665800-1775671200@parkinsonskane.se
SUMMARY:Tangokurs i Lund – grundkurs i argentinsk tango
DESCRIPTION:Nu finns möjlighet att prova argentinsk tango!\nEn helt ny grundkurs där rörelse\, musik och gemenskap står i centrum – särskilt anpassad för personer som lever med Parkinsons sjukdom. \nKursen har fokus på balans\, koordination\, musikalitet och kommunikation. Under kursens gång varvas dans med kortare inslag om tangons betydelse för personer med Parkinsons sjukdom. Några enkla figurer lärs ut\, så att tango blir möjlig på ett tryggt och lustfyllt sätt. \nInstruktörerna är erfarna tangodansare med god kännedom om Parkinsons sjukdom och andra funktionsnedsättningar\, och anpassar rörelserna efter deltagarnas behov. \nKursen är öppen för alla medlemmar inom Parkinson Skåne. Anhöriga är varmt välkomna och du behöver inte anmäla dig i par. Medlemskap i Parkinsonförbundet är en förutsättning för att delta. \nKursen genomförs av Parkinson Malmö med stöd från Crafoordska stiftelsen. \nPlats:\nEstniska huset\, Bytaregatan 28\, Lund\n(Nära Clemens torg och tågstationen. Parkeringsgarage finns under ICA.) \nDatum och tid:\nOnsdagar kl. 16.30–18:00 (kort paus)\n4/3\, 11/3\, 18/3\, 25/3\, 1/4 \, 8/4\, 15/4 \nTa med:\nNågot att dricka samt skor som går att dansa i (inte för hala\, ingen gummisula). \nAnmälan:\nmalmo@parkinsonskane.se
URL:https://parkinsonskane.se/evenemang/tangokurs-i-lund-grundkurs-i-argentinsk-tango-2-2-2/2026-04-08/
LOCATION:Estniska huset\, Bytaregatan 28\, LUND\, 22221\, Sverige
CATEGORIES:Dans
ATTACH;FMTTYPE=image/jpeg:https://parkinsonskane.se/wp-content/uploads/2025/10/tango-syd.jpg
END:VEVENT
BEGIN:VEVENT
DTSTART;TZID=Europe/Stockholm:20260415T163000
DTEND;TZID=Europe/Stockholm:20260415T180000
DTSTAMP:20260425T000446
CREATED:20260327T161514Z
LAST-MODIFIED:20260327T161514Z
UID:10012983-1776270600-1776276000@parkinsonskane.se
SUMMARY:Tangokurs i Lund – grundkurs i argentinsk tango
DESCRIPTION:Nu finns möjlighet att prova argentinsk tango!\nEn helt ny grundkurs där rörelse\, musik och gemenskap står i centrum – särskilt anpassad för personer som lever med Parkinsons sjukdom. \nKursen har fokus på balans\, koordination\, musikalitet och kommunikation. Under kursens gång varvas dans med kortare inslag om tangons betydelse för personer med Parkinsons sjukdom. Några enkla figurer lärs ut\, så att tango blir möjlig på ett tryggt och lustfyllt sätt. \nInstruktörerna är erfarna tangodansare med god kännedom om Parkinsons sjukdom och andra funktionsnedsättningar\, och anpassar rörelserna efter deltagarnas behov. \nKursen är öppen för alla medlemmar inom Parkinson Skåne. Anhöriga är varmt välkomna och du behöver inte anmäla dig i par. Medlemskap i Parkinsonförbundet är en förutsättning för att delta. \nKursen genomförs av Parkinson Malmö med stöd från Crafoordska stiftelsen. \nPlats:\nEstniska huset\, Bytaregatan 28\, Lund\n(Nära Clemens torg och tågstationen. Parkeringsgarage finns under ICA.) \nDatum och tid:\nOnsdagar kl. 16.30–18:00 (kort paus)\n4/3\, 11/3\, 18/3\, 25/3\, 1/4 \, 8/4\, 15/4 \nTa med:\nNågot att dricka samt skor som går att dansa i (inte för hala\, ingen gummisula). \nAnmälan:\nmalmo@parkinsonskane.se
URL:https://parkinsonskane.se/evenemang/tangokurs-i-lund-grundkurs-i-argentinsk-tango-2-2-2/2026-04-15/
LOCATION:Estniska huset\, Bytaregatan 28\, LUND\, 22221\, Sverige
CATEGORIES:Dans
ATTACH;FMTTYPE=image/jpeg:https://parkinsonskane.se/wp-content/uploads/2025/10/tango-syd.jpg
END:VEVENT
BEGIN:VEVENT
DTSTART;TZID=Europe/Stockholm:20260325T163000
DTEND;TZID=Europe/Stockholm:20260325T180000
DTSTAMP:20260425T000446
CREATED:20260322T084339Z
LAST-MODIFIED:20260322T084339Z
UID:10012980-1774456200-1774461600@parkinsonskane.se
SUMMARY:Tangokurs i Lund – grundkurs i argentinsk tango
DESCRIPTION:Nu finns möjlighet att prova argentinsk tango!\nEn helt ny grundkurs där rörelse\, musik och gemenskap står i centrum – särskilt anpassad för personer som lever med Parkinsons sjukdom. \nKursen har fokus på balans\, koordination\, musikalitet och kommunikation. Under kursens gång varvas dans med kortare inslag om tangons betydelse för personer med Parkinsons sjukdom. Några enkla figurer lärs ut\, så att tango blir möjlig på ett tryggt och lustfyllt sätt. \nInstruktörerna är erfarna tangodansare med god kännedom om Parkinsons sjukdom och andra funktionsnedsättningar\, och anpassar rörelserna efter deltagarnas behov. \nKursen är öppen för alla medlemmar inom Parkinson Skåne. Anhöriga är varmt välkomna och du behöver inte anmäla dig i par. Medlemskap i Parkinsonförbundet är en förutsättning för att delta. \nKursen genomförs av Parkinson Malmö med stöd från Crafoordska stiftelsen. \nPlats:\nEstniska huset\, Bytaregatan 28\, Lund\n(Nära Clemens torg och tågstationen. Parkeringsgarage finns under ICA.) \nDatum och tid:\nOnsdagar kl. 16.30–18:00 (kort paus)\n4/3\, 11/3\, 18/3\, 25/3\, 1/4 \, 8/4\, 15/4 \nTa med:\nNågot att dricka samt skor som går att dansa i (inte för hala\, ingen gummisula). \nAnmälan:\nmalmo@parkinsonskane.se
URL:https://parkinsonskane.se/evenemang/tangokurs-i-lund-grundkurs-i-argentinsk-tango-2-2/
LOCATION:Estniska huset\, Bytaregatan 28\, LUND\, 22221\, Sverige
CATEGORIES:Dans
ATTACH;FMTTYPE=image/jpeg:https://parkinsonskane.se/wp-content/uploads/2025/10/tango-syd.jpg
END:VEVENT
BEGIN:VEVENT
DTSTART;TZID=Europe/Stockholm:20260311T163000
DTEND;TZID=Europe/Stockholm:20260311T180000
DTSTAMP:20260425T000446
CREATED:20260305T114536Z
LAST-MODIFIED:20260305T114537Z
UID:10012973-1773246600-1773252000@parkinsonskane.se
SUMMARY:Tangokurs i Lund – grundkurs i argentinsk tango
DESCRIPTION:Nu finns möjlighet att prova argentinsk tango!\nEn helt ny grundkurs där rörelse\, musik och gemenskap står i centrum – särskilt anpassad för personer som lever med Parkinsons sjukdom. \nKursen har fokus på balans\, koordination\, musikalitet och kommunikation. Under kursens gång varvas dans med kortare inslag om tangons betydelse för personer med Parkinsons sjukdom. Några enkla figurer lärs ut\, så att tango blir möjlig på ett tryggt och lustfyllt sätt. \nInstruktörerna är erfarna tangodansare med god kännedom om Parkinsons sjukdom och andra funktionsnedsättningar\, och anpassar rörelserna efter deltagarnas behov. \nKursen är öppen för alla medlemmar inom Parkinson Skåne. Anhöriga är varmt välkomna och du behöver inte anmäla dig i par. Medlemskap i Parkinsonförbundet är en förutsättning för att delta. \nKursen genomförs av Parkinson Malmö med stöd från Crafoordska stiftelsen. \nPlats:\nEstniska huset\, Bytaregatan 28\, Lund\n(Nära Clemens torg och tågstationen. Parkeringsgarage finns under ICA.) \nDatum och tid:\nOnsdagar kl. 16.30–18:00 (kort paus)\n4/3\, 11/3\, 18/3\, 25/3\, 1/4 \, 8/4\, 15/4 \nTa med:\nNågot att dricka samt skor som går att dansa i (inte för hala\, ingen gummisula). \nAnmälan:\nmalmo@parkinsonskane.se
URL:https://parkinsonskane.se/evenemang/tangokurs-i-lund-grundkurs-i-argentinsk-tango-2/2026-03-11/
LOCATION:Estniska huset\, Bytaregatan 28\, LUND\, 22221\, Sverige
CATEGORIES:Dans
ATTACH;FMTTYPE=image/jpeg:https://parkinsonskane.se/wp-content/uploads/2025/10/tango-syd.jpg
END:VEVENT
BEGIN:VEVENT
DTSTART;TZID=Europe/Stockholm:20260318T163000
DTEND;TZID=Europe/Stockholm:20260318T180000
DTSTAMP:20260425T000446
CREATED:20260305T114536Z
LAST-MODIFIED:20260305T114537Z
UID:10012979-1773851400-1773856800@parkinsonskane.se
SUMMARY:Tangokurs i Lund – grundkurs i argentinsk tango
DESCRIPTION:Nu finns möjlighet att prova argentinsk tango!\nEn helt ny grundkurs där rörelse\, musik och gemenskap står i centrum – särskilt anpassad för personer som lever med Parkinsons sjukdom. \nKursen har fokus på balans\, koordination\, musikalitet och kommunikation. Under kursens gång varvas dans med kortare inslag om tangons betydelse för personer med Parkinsons sjukdom. Några enkla figurer lärs ut\, så att tango blir möjlig på ett tryggt och lustfyllt sätt. \nInstruktörerna är erfarna tangodansare med god kännedom om Parkinsons sjukdom och andra funktionsnedsättningar\, och anpassar rörelserna efter deltagarnas behov. \nKursen är öppen för alla medlemmar inom Parkinson Skåne. Anhöriga är varmt välkomna och du behöver inte anmäla dig i par. Medlemskap i Parkinsonförbundet är en förutsättning för att delta. \nKursen genomförs av Parkinson Malmö med stöd från Crafoordska stiftelsen. \nPlats:\nEstniska huset\, Bytaregatan 28\, Lund\n(Nära Clemens torg och tågstationen. Parkeringsgarage finns under ICA.) \nDatum och tid:\nOnsdagar kl. 16.30–18:00 (kort paus)\n4/3\, 11/3\, 18/3\, 25/3\, 1/4 \, 8/4\, 15/4 \nTa med:\nNågot att dricka samt skor som går att dansa i (inte för hala\, ingen gummisula). \nAnmälan:\nmalmo@parkinsonskane.se
URL:https://parkinsonskane.se/evenemang/tangokurs-i-lund-grundkurs-i-argentinsk-tango-2/2026-03-18/
LOCATION:Estniska huset\, Bytaregatan 28\, LUND\, 22221\, Sverige
CATEGORIES:Dans
ATTACH;FMTTYPE=image/jpeg:https://parkinsonskane.se/wp-content/uploads/2025/10/tango-syd.jpg
END:VEVENT
BEGIN:VEVENT
DTSTART;TZID=Europe/Stockholm:20260304T170000
DTEND;TZID=Europe/Stockholm:20260304T183000
DTSTAMP:20260425T000446
CREATED:20260116T091848Z
LAST-MODIFIED:20260304T080615Z
UID:10012972-1772643600-1772649000@parkinsonskane.se
SUMMARY:Tangokurs i Lund – grundkurs i argentinsk tango
DESCRIPTION:Nu finns möjlighet att prova argentinsk tango!\nEn helt ny grundkurs där rörelse\, musik och gemenskap står i centrum – särskilt anpassad för personer som lever med Parkinsons sjukdom. \nKursen har fokus på balans\, koordination\, musikalitet och kommunikation. Under kursens gång varvas dans med kortare inslag om tangons betydelse för personer med Parkinsons sjukdom. Några enkla figurer lärs ut\, så att tango blir möjlig på ett tryggt och lustfyllt sätt. \nInstruktörerna är erfarna tangodansare med god kännedom om Parkinsons sjukdom och andra funktionsnedsättningar\, och anpassar rörelserna efter deltagarnas behov. \nKursen är öppen för alla medlemmar inom Parkinson Skåne. Anhöriga är varmt välkomna och du behöver inte anmäla dig i par. Medlemskap i Parkinsonförbundet är en förutsättning för att delta. \nKursen genomförs av Parkinson Malmö med stöd från Crafoordska stiftelsen. \nPlats:\nEstniska huset\, Bytaregatan 28\, Lund\n(Nära Clemens torg och tågstationen. Parkeringsgarage finns under ICA.) \nDatum och tid:\nOnsdagar kl. 17.00–18:30 (kort paus)\n4/3\, 11/3\, 18/3\, 25/3\, 1/4 \, 8/4\, 15/4 \nTa med:\nNågot att dricka samt skor som går att dansa i (inte för hala\, ingen gummisula). \nAnmälan:\nmalmo@parkinsonskane.se
URL:https://parkinsonskane.se/evenemang/tangokurs-i-lund-grundkurs-i-argentinsk-tango/
LOCATION:Estniska huset\, Bytaregatan 28\, LUND\, 22221\, Sverige
CATEGORIES:Dans
ATTACH;FMTTYPE=image/jpeg:https://parkinsonskane.se/wp-content/uploads/2025/10/tango-syd.jpg
END:VEVENT
END:VCALENDAR