BEGIN:VCALENDAR
VERSION:2.0
PRODID:-//Parkinson Skåne - ECPv6.15.20//NONSGML v1.0//EN
CALSCALE:GREGORIAN
METHOD:PUBLISH
X-WR-CALNAME:Parkinson Skåne
X-ORIGINAL-URL:https://parkinsonskane.se
X-WR-CALDESC:Händelser för Parkinson Skåne
REFRESH-INTERVAL;VALUE=DURATION:PT1H
X-Robots-Tag:noindex
X-PUBLISHED-TTL:PT1H
BEGIN:VTIMEZONE
TZID:Europe/Stockholm
BEGIN:DAYLIGHT
TZOFFSETFROM:+0100
TZOFFSETTO:+0200
TZNAME:CEST
DTSTART:20230326T010000
END:DAYLIGHT
BEGIN:STANDARD
TZOFFSETFROM:+0200
TZOFFSETTO:+0100
TZNAME:CET
DTSTART:20231029T010000
END:STANDARD
BEGIN:DAYLIGHT
TZOFFSETFROM:+0100
TZOFFSETTO:+0200
TZNAME:CEST
DTSTART:20240331T010000
END:DAYLIGHT
BEGIN:STANDARD
TZOFFSETFROM:+0200
TZOFFSETTO:+0100
TZNAME:CET
DTSTART:20241027T010000
END:STANDARD
BEGIN:DAYLIGHT
TZOFFSETFROM:+0100
TZOFFSETTO:+0200
TZNAME:CEST
DTSTART:20250330T010000
END:DAYLIGHT
BEGIN:STANDARD
TZOFFSETFROM:+0200
TZOFFSETTO:+0100
TZNAME:CET
DTSTART:20251026T010000
END:STANDARD
BEGIN:DAYLIGHT
TZOFFSETFROM:+0100
TZOFFSETTO:+0200
TZNAME:CEST
DTSTART:20260329T010000
END:DAYLIGHT
BEGIN:STANDARD
TZOFFSETFROM:+0200
TZOFFSETTO:+0100
TZNAME:CET
DTSTART:20261025T010000
END:STANDARD
END:VTIMEZONE
BEGIN:VEVENT
DTSTART;TZID=Europe/Stockholm:20250617T120000
DTEND;TZID=Europe/Stockholm:20250617T150000
DTSTAMP:20260425T021452
CREATED:20250411T082130Z
LAST-MODIFIED:20250602T074848Z
UID:10011537-1750161600-1750172400@parkinsonskane.se
SUMMARY:Helsingborg har månadsmöte med lunch och stavgång i Fredriksdalsparken
DESCRIPTION:Nu i juni har vi vårt månadsmöte i Fredrikdalsparken där vi först går en promenad\, om man vill med stavar. Därefter intar vi dagens rätt (eller något annat) på Restaurang Gisela Trapp. \nFöreningen har stavar till utlåning. Ange i anmälan om du vill låna ett par samt om du vill ha korta eller långa då de finns i två storlekar. \nVar: Fredriksdalsparken\, Vi träffas vid huvudingången.\nNär: Tisdagen den 17 juni kl.12. Vi bänkar oss för lunch kl 13.\nKostnad: Denna dag är det fritt inträde till Fredriksdal. \nDagens lunch\, fisk denna dag\, sponsras av Parkinsonföreningen. Egen kostnad blir 60 kronor. \nAnmälan: till gullvie@telia.com senast tisdagen den 10/6 . \nVälkomna! \nStyrelsen/Lotta Fredlund
URL:https://parkinsonskane.se/evenemang/helsingborg-har-medlemsmoten-2/
LOCATION:Fredriksdal\, Gisela Trapps väg 1\, Helsingborg\, 254 37
CATEGORIES:Måmadsmöte
ATTACH;FMTTYPE=image/jpeg:https://parkinsonskane.se/wp-content/uploads/2025/04/Helsingborg-stavar.jpg
END:VEVENT
BEGIN:VEVENT
DTSTART;TZID=Europe/Stockholm:20240611T113000
DTEND;TZID=Europe/Stockholm:20240611T133000
DTSTAMP:20260425T021452
CREATED:20240325T103853Z
LAST-MODIFIED:20240529T080711Z
UID:10010319-1718105400-1718112600@parkinsonskane.se
SUMMARY:Helsingborg har stavgång/promenad i Fredriksdalsparken
DESCRIPTION:Efter en promenad i parken äter vi lunch tillsammans. \nNär: tisdagen den 11/6 kl 11.30-13.30. \nHur: Vi promenerar med eller utan stavar. Föreningen har stavar till utlåning. Ange i anmälan om du vill låna stavar och vilken storlek\, lång eller kort\, du vill ha. \nKostnad: Det är fritt inträde till Fredriksdal denna dag. Dagens lunch kostar 139 kronor\, där föreningen sponsrar med 80 kronor. \nVar:  Vi träffas utanför huvudentrén. \nKort sagt en aktivitet fylld av frisk luft\, motion\, god mat och social samvaro. \nAnmälan: till gullvie@telia.com  eller sms:a till 0705-42 41 74 senast torsdagen den 6 juni. \nVälkomna!\nStyrelsen \n  \n 
URL:https://parkinsonskane.se/evenemang/helsingborg-har-manadsmote-med-stavgang-fredriksdalsparken/
LOCATION:Fredriksdal\, Gisela Trapps väg 1\, Helsingborg\, 254 37
CATEGORIES:Månadsmöte,Utflykt
ATTACH;FMTTYPE=image/jpeg:https://parkinsonskane.se/wp-content/uploads/2024/03/Helsingborg-Fredriksdal.jpg
END:VEVENT
END:VCALENDAR