BEGIN:VCALENDAR
VERSION:2.0
PRODID:-//Parkinson Skåne - ECPv6.15.20//NONSGML v1.0//EN
CALSCALE:GREGORIAN
METHOD:PUBLISH
X-ORIGINAL-URL:https://parkinsonskane.se
X-WR-CALDESC:Händelser för Parkinson Skåne
REFRESH-INTERVAL;VALUE=DURATION:PT1H
X-Robots-Tag:noindex
X-PUBLISHED-TTL:PT1H
BEGIN:VTIMEZONE
TZID:Europe/Stockholm
BEGIN:DAYLIGHT
TZOFFSETFROM:+0100
TZOFFSETTO:+0200
TZNAME:CEST
DTSTART:20230326T010000
END:DAYLIGHT
BEGIN:STANDARD
TZOFFSETFROM:+0200
TZOFFSETTO:+0100
TZNAME:CET
DTSTART:20231029T010000
END:STANDARD
BEGIN:DAYLIGHT
TZOFFSETFROM:+0100
TZOFFSETTO:+0200
TZNAME:CEST
DTSTART:20240331T010000
END:DAYLIGHT
BEGIN:STANDARD
TZOFFSETFROM:+0200
TZOFFSETTO:+0100
TZNAME:CET
DTSTART:20241027T010000
END:STANDARD
BEGIN:DAYLIGHT
TZOFFSETFROM:+0100
TZOFFSETTO:+0200
TZNAME:CEST
DTSTART:20250330T010000
END:DAYLIGHT
BEGIN:STANDARD
TZOFFSETFROM:+0200
TZOFFSETTO:+0100
TZNAME:CET
DTSTART:20251026T010000
END:STANDARD
END:VTIMEZONE
BEGIN:VEVENT
DTSTART;TZID=Europe/Stockholm:20241009T140000
DTEND;TZID=Europe/Stockholm:20241009T160000
DTSTAMP:20260425T152513
CREATED:20240916T090910Z
LAST-MODIFIED:20240916T090910Z
UID:10011051-1728482400-1728489600@parkinsonskane.se
SUMMARY:Sydöst har mannekänguppvisning med Seniorshopen
DESCRIPTION:Välkomna till mannekänguppvisning och visning av kläder från populära Seniorshopen Gärsnäs!\nKläderna är snygga och anpassade till olika sorters funktionsvariationer. \nPlats: Grönby Församlingshem\, Grönbyvägen 69-0\, 23172 Anderslöv\nDatum: 9 oktober 2024\nTid: 14.00 \nFöreningen bjuder på kaffe och fika. \nSista anmälningsdag är den 30 september 2024. \nAnmäl er till Birthe på birtes1@hotmail.com eller 076-314 52 75. OBS! mailar ni och inte får bekräftelse inom 3 dagar\, vänligen ring Birthe. \nStyrelsen för Parkinson Sydöst.
URL:https://parkinsonskane.se/evenemang/sydost-har-mannekanguppvisning-med-seniorshopen/
LOCATION:Grönby Församlingshem\, Grönbyvägen 69-0\, Anderslöv\, 23172
CATEGORIES:Mode
ATTACH;FMTTYPE=image/jpeg:https://parkinsonskane.se/wp-content/uploads/2024/09/sydost-mode.jpg
END:VEVENT
END:VCALENDAR