BEGIN:VCALENDAR
VERSION:2.0
PRODID:-//Parkinson Skåne - ECPv6.15.20//NONSGML v1.0//EN
CALSCALE:GREGORIAN
METHOD:PUBLISH
X-ORIGINAL-URL:https://parkinsonskane.se
X-WR-CALDESC:Händelser för Parkinson Skåne
REFRESH-INTERVAL;VALUE=DURATION:PT1H
X-Robots-Tag:noindex
X-PUBLISHED-TTL:PT1H
BEGIN:VTIMEZONE
TZID:Europe/Stockholm
BEGIN:DAYLIGHT
TZOFFSETFROM:+0100
TZOFFSETTO:+0200
TZNAME:CEST
DTSTART:20220327T010000
END:DAYLIGHT
BEGIN:STANDARD
TZOFFSETFROM:+0200
TZOFFSETTO:+0100
TZNAME:CET
DTSTART:20221030T010000
END:STANDARD
BEGIN:DAYLIGHT
TZOFFSETFROM:+0100
TZOFFSETTO:+0200
TZNAME:CEST
DTSTART:20230326T010000
END:DAYLIGHT
BEGIN:STANDARD
TZOFFSETFROM:+0200
TZOFFSETTO:+0100
TZNAME:CET
DTSTART:20231029T010000
END:STANDARD
BEGIN:DAYLIGHT
TZOFFSETFROM:+0100
TZOFFSETTO:+0200
TZNAME:CEST
DTSTART:20240331T010000
END:DAYLIGHT
BEGIN:STANDARD
TZOFFSETFROM:+0200
TZOFFSETTO:+0100
TZNAME:CET
DTSTART:20241027T010000
END:STANDARD
END:VTIMEZONE
BEGIN:VEVENT
DTSTART;TZID=Europe/Stockholm:20230420T171500
DTEND;TZID=Europe/Stockholm:20230420T181500
DTSTAMP:20260426T034738
CREATED:20230203T185751Z
LAST-MODIFIED:20230203T185751Z
UID:10008158-1682010900-1682014500@parkinsonskane.se
SUMMARY:Lomma har Mera LIV – Lugnt Inre Välmående
DESCRIPTION:Mera LIV 2023 \nMera LIV i Lomma kommer att genomföras 2/3 – 4/5 kl. 17.15-18.15. \nVi anordnar funktionell träning där vi har roligt tillsammans. Vi mixar ro- och stillhetsövningar\, sköna rörelser till musik\, olika balansövningar och andra medvetna rörelser. \nÖvningarna anpassar vi för både sittande och stående. Tillsammans landar vi i ett här och nu – i lugnt inre välmående. Vi bjuder på fika efter passen. \nAktiviteterna är kostnadsfria för medlemmar. Alla kan delta i de enkla övningarna – var och en deltar utifrån sin egen förmåga. \nLomma\n \nTorsdagar kl 17.15–18.15 (2/3–4/5)\nHavsblick\, Centrumgatan 4\nLedare: Karina Simonsen\nAnmälan:  karinajsimonsen@msn.com
URL:https://parkinsonskane.se/evenemang/lomma-har-mera-liv-lugnt-inre-valmaende/2023-04-20/
LOCATION:Havsblick\, Centrumgatan 4\, Lomma\, Skåne\, 234 33\, Sverige
CATEGORIES:Mera LIV
ATTACH;FMTTYPE=image/jpeg:https://parkinsonskane.se/wp-content/uploads/2022/12/meraliv.jpg
END:VEVENT
BEGIN:VEVENT
DTSTART;TZID=Europe/Stockholm:20230427T171500
DTEND;TZID=Europe/Stockholm:20230427T181500
DTSTAMP:20260426T034738
CREATED:20230203T185751Z
LAST-MODIFIED:20230203T185751Z
UID:10008159-1682615700-1682619300@parkinsonskane.se
SUMMARY:Lomma har Mera LIV – Lugnt Inre Välmående
DESCRIPTION:Mera LIV 2023 \nMera LIV i Lomma kommer att genomföras 2/3 – 4/5 kl. 17.15-18.15. \nVi anordnar funktionell träning där vi har roligt tillsammans. Vi mixar ro- och stillhetsövningar\, sköna rörelser till musik\, olika balansövningar och andra medvetna rörelser. \nÖvningarna anpassar vi för både sittande och stående. Tillsammans landar vi i ett här och nu – i lugnt inre välmående. Vi bjuder på fika efter passen. \nAktiviteterna är kostnadsfria för medlemmar. Alla kan delta i de enkla övningarna – var och en deltar utifrån sin egen förmåga. \nLomma\n \nTorsdagar kl 17.15–18.15 (2/3–4/5)\nHavsblick\, Centrumgatan 4\nLedare: Karina Simonsen\nAnmälan:  karinajsimonsen@msn.com
URL:https://parkinsonskane.se/evenemang/lomma-har-mera-liv-lugnt-inre-valmaende/2023-04-27/
LOCATION:Havsblick\, Centrumgatan 4\, Lomma\, Skåne\, 234 33\, Sverige
CATEGORIES:Mera LIV
ATTACH;FMTTYPE=image/jpeg:https://parkinsonskane.se/wp-content/uploads/2022/12/meraliv.jpg
END:VEVENT
BEGIN:VEVENT
DTSTART;TZID=Europe/Stockholm:20230504T171500
DTEND;TZID=Europe/Stockholm:20230504T181500
DTSTAMP:20260426T034738
CREATED:20230203T185751Z
LAST-MODIFIED:20230203T185751Z
UID:10008160-1683220500-1683224100@parkinsonskane.se
SUMMARY:Lomma har Mera LIV – Lugnt Inre Välmående
DESCRIPTION:Mera LIV 2023 \nMera LIV i Lomma kommer att genomföras 2/3 – 4/5 kl. 17.15-18.15. \nVi anordnar funktionell träning där vi har roligt tillsammans. Vi mixar ro- och stillhetsövningar\, sköna rörelser till musik\, olika balansövningar och andra medvetna rörelser. \nÖvningarna anpassar vi för både sittande och stående. Tillsammans landar vi i ett här och nu – i lugnt inre välmående. Vi bjuder på fika efter passen. \nAktiviteterna är kostnadsfria för medlemmar. Alla kan delta i de enkla övningarna – var och en deltar utifrån sin egen förmåga. \nLomma\n \nTorsdagar kl 17.15–18.15 (2/3–4/5)\nHavsblick\, Centrumgatan 4\nLedare: Karina Simonsen\nAnmälan:  karinajsimonsen@msn.com
URL:https://parkinsonskane.se/evenemang/lomma-har-mera-liv-lugnt-inre-valmaende/2023-05-04/
LOCATION:Havsblick\, Centrumgatan 4\, Lomma\, Skåne\, 234 33\, Sverige
CATEGORIES:Mera LIV
ATTACH;FMTTYPE=image/jpeg:https://parkinsonskane.se/wp-content/uploads/2022/12/meraliv.jpg
END:VEVENT
BEGIN:VEVENT
DTSTART;TZID=Europe/Stockholm:20230302T171500
DTEND;TZID=Europe/Stockholm:20230302T181500
DTSTAMP:20260426T034738
CREATED:20230203T185751Z
LAST-MODIFIED:20230203T185751Z
UID:10008151-1677777300-1677780900@parkinsonskane.se
SUMMARY:Lomma har Mera LIV – Lugnt Inre Välmående
DESCRIPTION:Mera LIV 2023 \nMera LIV i Lomma kommer att genomföras 2/3 – 4/5 kl. 17.15-18.15. \nVi anordnar funktionell träning där vi har roligt tillsammans. Vi mixar ro- och stillhetsövningar\, sköna rörelser till musik\, olika balansövningar och andra medvetna rörelser. \nÖvningarna anpassar vi för både sittande och stående. Tillsammans landar vi i ett här och nu – i lugnt inre välmående. Vi bjuder på fika efter passen. \nAktiviteterna är kostnadsfria för medlemmar. Alla kan delta i de enkla övningarna – var och en deltar utifrån sin egen förmåga. \nLomma\n \nTorsdagar kl 17.15–18.15 (2/3–4/5)\nHavsblick\, Centrumgatan 4\nLedare: Karina Simonsen\nAnmälan:  karinajsimonsen@msn.com
URL:https://parkinsonskane.se/evenemang/lomma-har-mera-liv-lugnt-inre-valmaende/2023-03-02/
LOCATION:Havsblick\, Centrumgatan 4\, Lomma\, Skåne\, 234 33\, Sverige
CATEGORIES:Mera LIV
ATTACH;FMTTYPE=image/jpeg:https://parkinsonskane.se/wp-content/uploads/2022/12/meraliv.jpg
END:VEVENT
BEGIN:VEVENT
DTSTART;TZID=Europe/Stockholm:20230309T171500
DTEND;TZID=Europe/Stockholm:20230309T181500
DTSTAMP:20260426T034738
CREATED:20230203T185751Z
LAST-MODIFIED:20230203T185751Z
UID:10008152-1678382100-1678385700@parkinsonskane.se
SUMMARY:Lomma har Mera LIV – Lugnt Inre Välmående
DESCRIPTION:Mera LIV 2023 \nMera LIV i Lomma kommer att genomföras 2/3 – 4/5 kl. 17.15-18.15. \nVi anordnar funktionell träning där vi har roligt tillsammans. Vi mixar ro- och stillhetsövningar\, sköna rörelser till musik\, olika balansövningar och andra medvetna rörelser. \nÖvningarna anpassar vi för både sittande och stående. Tillsammans landar vi i ett här och nu – i lugnt inre välmående. Vi bjuder på fika efter passen. \nAktiviteterna är kostnadsfria för medlemmar. Alla kan delta i de enkla övningarna – var och en deltar utifrån sin egen förmåga. \nLomma\n \nTorsdagar kl 17.15–18.15 (2/3–4/5)\nHavsblick\, Centrumgatan 4\nLedare: Karina Simonsen\nAnmälan:  karinajsimonsen@msn.com
URL:https://parkinsonskane.se/evenemang/lomma-har-mera-liv-lugnt-inre-valmaende/2023-03-09/
LOCATION:Havsblick\, Centrumgatan 4\, Lomma\, Skåne\, 234 33\, Sverige
CATEGORIES:Mera LIV
ATTACH;FMTTYPE=image/jpeg:https://parkinsonskane.se/wp-content/uploads/2022/12/meraliv.jpg
END:VEVENT
BEGIN:VEVENT
DTSTART;TZID=Europe/Stockholm:20230316T171500
DTEND;TZID=Europe/Stockholm:20230316T181500
DTSTAMP:20260426T034738
CREATED:20230203T185751Z
LAST-MODIFIED:20230203T185751Z
UID:10008153-1678986900-1678990500@parkinsonskane.se
SUMMARY:Lomma har Mera LIV – Lugnt Inre Välmående
DESCRIPTION:Mera LIV 2023 \nMera LIV i Lomma kommer att genomföras 2/3 – 4/5 kl. 17.15-18.15. \nVi anordnar funktionell träning där vi har roligt tillsammans. Vi mixar ro- och stillhetsövningar\, sköna rörelser till musik\, olika balansövningar och andra medvetna rörelser. \nÖvningarna anpassar vi för både sittande och stående. Tillsammans landar vi i ett här och nu – i lugnt inre välmående. Vi bjuder på fika efter passen. \nAktiviteterna är kostnadsfria för medlemmar. Alla kan delta i de enkla övningarna – var och en deltar utifrån sin egen förmåga. \nLomma\n \nTorsdagar kl 17.15–18.15 (2/3–4/5)\nHavsblick\, Centrumgatan 4\nLedare: Karina Simonsen\nAnmälan:  karinajsimonsen@msn.com
URL:https://parkinsonskane.se/evenemang/lomma-har-mera-liv-lugnt-inre-valmaende/2023-03-16/
LOCATION:Havsblick\, Centrumgatan 4\, Lomma\, Skåne\, 234 33\, Sverige
CATEGORIES:Mera LIV
ATTACH;FMTTYPE=image/jpeg:https://parkinsonskane.se/wp-content/uploads/2022/12/meraliv.jpg
END:VEVENT
BEGIN:VEVENT
DTSTART;TZID=Europe/Stockholm:20230323T171500
DTEND;TZID=Europe/Stockholm:20230323T181500
DTSTAMP:20260426T034738
CREATED:20230203T185751Z
LAST-MODIFIED:20230203T185751Z
UID:10008154-1679591700-1679595300@parkinsonskane.se
SUMMARY:Lomma har Mera LIV – Lugnt Inre Välmående
DESCRIPTION:Mera LIV 2023 \nMera LIV i Lomma kommer att genomföras 2/3 – 4/5 kl. 17.15-18.15. \nVi anordnar funktionell träning där vi har roligt tillsammans. Vi mixar ro- och stillhetsövningar\, sköna rörelser till musik\, olika balansövningar och andra medvetna rörelser. \nÖvningarna anpassar vi för både sittande och stående. Tillsammans landar vi i ett här och nu – i lugnt inre välmående. Vi bjuder på fika efter passen. \nAktiviteterna är kostnadsfria för medlemmar. Alla kan delta i de enkla övningarna – var och en deltar utifrån sin egen förmåga. \nLomma\n \nTorsdagar kl 17.15–18.15 (2/3–4/5)\nHavsblick\, Centrumgatan 4\nLedare: Karina Simonsen\nAnmälan:  karinajsimonsen@msn.com
URL:https://parkinsonskane.se/evenemang/lomma-har-mera-liv-lugnt-inre-valmaende/2023-03-23/
LOCATION:Havsblick\, Centrumgatan 4\, Lomma\, Skåne\, 234 33\, Sverige
CATEGORIES:Mera LIV
ATTACH;FMTTYPE=image/jpeg:https://parkinsonskane.se/wp-content/uploads/2022/12/meraliv.jpg
END:VEVENT
BEGIN:VEVENT
DTSTART;TZID=Europe/Stockholm:20230330T171500
DTEND;TZID=Europe/Stockholm:20230330T181500
DTSTAMP:20260426T034738
CREATED:20230203T185751Z
LAST-MODIFIED:20230203T185751Z
UID:10008155-1680196500-1680200100@parkinsonskane.se
SUMMARY:Lomma har Mera LIV – Lugnt Inre Välmående
DESCRIPTION:Mera LIV 2023 \nMera LIV i Lomma kommer att genomföras 2/3 – 4/5 kl. 17.15-18.15. \nVi anordnar funktionell träning där vi har roligt tillsammans. Vi mixar ro- och stillhetsövningar\, sköna rörelser till musik\, olika balansövningar och andra medvetna rörelser. \nÖvningarna anpassar vi för både sittande och stående. Tillsammans landar vi i ett här och nu – i lugnt inre välmående. Vi bjuder på fika efter passen. \nAktiviteterna är kostnadsfria för medlemmar. Alla kan delta i de enkla övningarna – var och en deltar utifrån sin egen förmåga. \nLomma\n \nTorsdagar kl 17.15–18.15 (2/3–4/5)\nHavsblick\, Centrumgatan 4\nLedare: Karina Simonsen\nAnmälan:  karinajsimonsen@msn.com
URL:https://parkinsonskane.se/evenemang/lomma-har-mera-liv-lugnt-inre-valmaende/2023-03-30/
LOCATION:Havsblick\, Centrumgatan 4\, Lomma\, Skåne\, 234 33\, Sverige
CATEGORIES:Mera LIV
ATTACH;FMTTYPE=image/jpeg:https://parkinsonskane.se/wp-content/uploads/2022/12/meraliv.jpg
END:VEVENT
BEGIN:VEVENT
DTSTART;TZID=Europe/Stockholm:20230406T171500
DTEND;TZID=Europe/Stockholm:20230406T181500
DTSTAMP:20260426T034738
CREATED:20230203T185751Z
LAST-MODIFIED:20230203T185751Z
UID:10008156-1680801300-1680804900@parkinsonskane.se
SUMMARY:Lomma har Mera LIV – Lugnt Inre Välmående
DESCRIPTION:Mera LIV 2023 \nMera LIV i Lomma kommer att genomföras 2/3 – 4/5 kl. 17.15-18.15. \nVi anordnar funktionell träning där vi har roligt tillsammans. Vi mixar ro- och stillhetsövningar\, sköna rörelser till musik\, olika balansövningar och andra medvetna rörelser. \nÖvningarna anpassar vi för både sittande och stående. Tillsammans landar vi i ett här och nu – i lugnt inre välmående. Vi bjuder på fika efter passen. \nAktiviteterna är kostnadsfria för medlemmar. Alla kan delta i de enkla övningarna – var och en deltar utifrån sin egen förmåga. \nLomma\n \nTorsdagar kl 17.15–18.15 (2/3–4/5)\nHavsblick\, Centrumgatan 4\nLedare: Karina Simonsen\nAnmälan:  karinajsimonsen@msn.com
URL:https://parkinsonskane.se/evenemang/lomma-har-mera-liv-lugnt-inre-valmaende/2023-04-06/
LOCATION:Havsblick\, Centrumgatan 4\, Lomma\, Skåne\, 234 33\, Sverige
CATEGORIES:Mera LIV
ATTACH;FMTTYPE=image/jpeg:https://parkinsonskane.se/wp-content/uploads/2022/12/meraliv.jpg
END:VEVENT
BEGIN:VEVENT
DTSTART;TZID=Europe/Stockholm:20230413T171500
DTEND;TZID=Europe/Stockholm:20230413T181500
DTSTAMP:20260426T034738
CREATED:20230203T185751Z
LAST-MODIFIED:20230203T185751Z
UID:10008157-1681406100-1681409700@parkinsonskane.se
SUMMARY:Lomma har Mera LIV – Lugnt Inre Välmående
DESCRIPTION:Mera LIV 2023 \nMera LIV i Lomma kommer att genomföras 2/3 – 4/5 kl. 17.15-18.15. \nVi anordnar funktionell träning där vi har roligt tillsammans. Vi mixar ro- och stillhetsövningar\, sköna rörelser till musik\, olika balansövningar och andra medvetna rörelser. \nÖvningarna anpassar vi för både sittande och stående. Tillsammans landar vi i ett här och nu – i lugnt inre välmående. Vi bjuder på fika efter passen. \nAktiviteterna är kostnadsfria för medlemmar. Alla kan delta i de enkla övningarna – var och en deltar utifrån sin egen förmåga. \nLomma\n \nTorsdagar kl 17.15–18.15 (2/3–4/5)\nHavsblick\, Centrumgatan 4\nLedare: Karina Simonsen\nAnmälan:  karinajsimonsen@msn.com
URL:https://parkinsonskane.se/evenemang/lomma-har-mera-liv-lugnt-inre-valmaende/2023-04-13/
LOCATION:Havsblick\, Centrumgatan 4\, Lomma\, Skåne\, 234 33\, Sverige
CATEGORIES:Mera LIV
ATTACH;FMTTYPE=image/jpeg:https://parkinsonskane.se/wp-content/uploads/2022/12/meraliv.jpg
END:VEVENT
END:VCALENDAR