BEGIN:VCALENDAR
VERSION:2.0
PRODID:-//Parkinson Skåne - ECPv6.15.20//NONSGML v1.0//EN
CALSCALE:GREGORIAN
METHOD:PUBLISH
X-ORIGINAL-URL:https://parkinsonskane.se
X-WR-CALDESC:Händelser för Parkinson Skåne
REFRESH-INTERVAL;VALUE=DURATION:PT1H
X-Robots-Tag:noindex
X-PUBLISHED-TTL:PT1H
BEGIN:VTIMEZONE
TZID:Europe/Stockholm
BEGIN:DAYLIGHT
TZOFFSETFROM:+0100
TZOFFSETTO:+0200
TZNAME:CEST
DTSTART:20220327T010000
END:DAYLIGHT
BEGIN:STANDARD
TZOFFSETFROM:+0200
TZOFFSETTO:+0100
TZNAME:CET
DTSTART:20221030T010000
END:STANDARD
BEGIN:DAYLIGHT
TZOFFSETFROM:+0100
TZOFFSETTO:+0200
TZNAME:CEST
DTSTART:20230326T010000
END:DAYLIGHT
BEGIN:STANDARD
TZOFFSETFROM:+0200
TZOFFSETTO:+0100
TZNAME:CET
DTSTART:20231029T010000
END:STANDARD
BEGIN:DAYLIGHT
TZOFFSETFROM:+0100
TZOFFSETTO:+0200
TZNAME:CEST
DTSTART:20240331T010000
END:DAYLIGHT
BEGIN:STANDARD
TZOFFSETFROM:+0200
TZOFFSETTO:+0100
TZNAME:CET
DTSTART:20241027T010000
END:STANDARD
END:VTIMEZONE
BEGIN:VEVENT
DTSTART;TZID=Europe/Stockholm:20230809T130000
DTEND;TZID=Europe/Stockholm:20230809T150000
DTSTAMP:20260425T204844
CREATED:20230727T213748Z
LAST-MODIFIED:20230727T213748Z
UID:10008739-1691586000-1691593200@parkinsonskane.se
SUMMARY:Helsingborg bjuder in till Helsingborgs Idrottsmuseum och samtal med fika
DESCRIPTION:Parkinson Skåne\, lokalföreningen Parkinson Helsingborg med omnejd\, bjuder in till Helsingborgs Idrottsmuseum med fika. \nNär: Onsdagen den 9 augusti kl 13.00\nVar: Vi träffas i foajèn till Idrottens Hus (Helsingborgs Idrottsmuseum)\nKostnadsfritt: Entré och guidning med fika och kaka \nDet som ska diskuteras är följande:\nMotverka ofrivillig ensamhet bland de äldre men även yngre Parkinsonsjuka. \nPlats: Helsingborgs Idrottsmuseum\, Mellersta Stenbocksgatan 10\, 25437 Helsingborg.\nAnmäl dig till Gullvie: tel. 0705 42 41 74 eller via mail: gullvie@telia.com senast den 6 augusti
URL:https://parkinsonskane.se/evenemang/helsingborg-bjuder-in-till-helsingborgs-idrottsmuseum-och-samtal-med-fika/
LOCATION:Helsingborgs Idrottsmuseum\, Mellersta Stenbocksgatan 10\, Helsingborg\, Skåne\, 254 37\, Sverige
CATEGORIES:Medlemsträff
ATTACH;FMTTYPE=image/jpeg:https://parkinsonskane.se/wp-content/uploads/2023/01/tal.jpg
END:VEVENT
END:VCALENDAR