BEGIN:VCALENDAR
VERSION:2.0
PRODID:-//Parkinson Skåne - ECPv6.15.20//NONSGML v1.0//EN
CALSCALE:GREGORIAN
METHOD:PUBLISH
X-ORIGINAL-URL:https://parkinsonskane.se
X-WR-CALDESC:Händelser för Parkinson Skåne
REFRESH-INTERVAL;VALUE=DURATION:PT1H
X-Robots-Tag:noindex
X-PUBLISHED-TTL:PT1H
BEGIN:VTIMEZONE
TZID:Europe/Stockholm
BEGIN:DAYLIGHT
TZOFFSETFROM:+0100
TZOFFSETTO:+0200
TZNAME:CEST
DTSTART:20250330T010000
END:DAYLIGHT
BEGIN:STANDARD
TZOFFSETFROM:+0200
TZOFFSETTO:+0100
TZNAME:CET
DTSTART:20251026T010000
END:STANDARD
BEGIN:DAYLIGHT
TZOFFSETFROM:+0100
TZOFFSETTO:+0200
TZNAME:CEST
DTSTART:20260329T010000
END:DAYLIGHT
BEGIN:STANDARD
TZOFFSETFROM:+0200
TZOFFSETTO:+0100
TZNAME:CET
DTSTART:20261025T010000
END:STANDARD
BEGIN:DAYLIGHT
TZOFFSETFROM:+0100
TZOFFSETTO:+0200
TZNAME:CEST
DTSTART:20270328T010000
END:DAYLIGHT
BEGIN:STANDARD
TZOFFSETFROM:+0200
TZOFFSETTO:+0100
TZNAME:CET
DTSTART:20271031T010000
END:STANDARD
END:VTIMEZONE
BEGIN:VEVENT
DTSTART;TZID=Europe/Stockholm:20260511T110000
DTEND;TZID=Europe/Stockholm:20260511T120000
DTSTAMP:20260424T185935
CREATED:20260317T175541Z
LAST-MODIFIED:20260317T175541Z
UID:10012891-1778497200-1778500800@parkinsonskane.se
SUMMARY:Helsingborg har boxning på måndagar
DESCRIPTION:Boxningsträning anpassad för personer med Parkinson. Träningen hålls i Idrottens Hus – följ skyltar med “Boxning”. Efter passet finns möjlighet till gemensam fika. \nMåndagar och torsdagar kl. 11.00–12.00\, t o m 25/6\nIdrottens Hus\, Mellersta Stenbocksgatan 10\, Helsingborg \nKlädsel: gympakläder och gympaskor.\nUtrustning finns att låna på plats. \nVälkomna!
URL:https://parkinsonskane.se/evenemang/helsingborg-har-boxning-pa-mandagar-3-2-2-2-2/2026-05-11/
LOCATION:Idrottens hus Helsingborg\, Mellersta Stenbocksgatan 10\, Helsingborg\, 254 37
CATEGORIES:Boxträning
ATTACH;FMTTYPE=image/jpeg:https://parkinsonskane.se/wp-content/uploads/2022/11/boxning_helsingborg.jpg
END:VEVENT
BEGIN:VEVENT
DTSTART;TZID=Europe/Stockholm:20260518T110000
DTEND;TZID=Europe/Stockholm:20260518T120000
DTSTAMP:20260424T185935
CREATED:20260317T175541Z
LAST-MODIFIED:20260317T175541Z
UID:10012892-1779102000-1779105600@parkinsonskane.se
SUMMARY:Helsingborg har boxning på måndagar
DESCRIPTION:Boxningsträning anpassad för personer med Parkinson. Träningen hålls i Idrottens Hus – följ skyltar med “Boxning”. Efter passet finns möjlighet till gemensam fika. \nMåndagar och torsdagar kl. 11.00–12.00\, t o m 25/6\nIdrottens Hus\, Mellersta Stenbocksgatan 10\, Helsingborg \nKlädsel: gympakläder och gympaskor.\nUtrustning finns att låna på plats. \nVälkomna!
URL:https://parkinsonskane.se/evenemang/helsingborg-har-boxning-pa-mandagar-3-2-2-2-2/2026-05-18/
LOCATION:Idrottens hus Helsingborg\, Mellersta Stenbocksgatan 10\, Helsingborg\, 254 37
CATEGORIES:Boxträning
ATTACH;FMTTYPE=image/jpeg:https://parkinsonskane.se/wp-content/uploads/2022/11/boxning_helsingborg.jpg
END:VEVENT
BEGIN:VEVENT
DTSTART;TZID=Europe/Stockholm:20260525T110000
DTEND;TZID=Europe/Stockholm:20260525T120000
DTSTAMP:20260424T185935
CREATED:20260317T175541Z
LAST-MODIFIED:20260317T175541Z
UID:10012893-1779706800-1779710400@parkinsonskane.se
SUMMARY:Helsingborg har boxning på måndagar
DESCRIPTION:Boxningsträning anpassad för personer med Parkinson. Träningen hålls i Idrottens Hus – följ skyltar med “Boxning”. Efter passet finns möjlighet till gemensam fika. \nMåndagar och torsdagar kl. 11.00–12.00\, t o m 25/6\nIdrottens Hus\, Mellersta Stenbocksgatan 10\, Helsingborg \nKlädsel: gympakläder och gympaskor.\nUtrustning finns att låna på plats. \nVälkomna!
URL:https://parkinsonskane.se/evenemang/helsingborg-har-boxning-pa-mandagar-3-2-2-2-2/2026-05-25/
LOCATION:Idrottens hus Helsingborg\, Mellersta Stenbocksgatan 10\, Helsingborg\, 254 37
CATEGORIES:Boxträning
ATTACH;FMTTYPE=image/jpeg:https://parkinsonskane.se/wp-content/uploads/2022/11/boxning_helsingborg.jpg
END:VEVENT
BEGIN:VEVENT
DTSTART;TZID=Europe/Stockholm:20260601T110000
DTEND;TZID=Europe/Stockholm:20260601T120000
DTSTAMP:20260424T185935
CREATED:20260317T175541Z
LAST-MODIFIED:20260317T175541Z
UID:10012894-1780311600-1780315200@parkinsonskane.se
SUMMARY:Helsingborg har boxning på måndagar
DESCRIPTION:Boxningsträning anpassad för personer med Parkinson. Träningen hålls i Idrottens Hus – följ skyltar med “Boxning”. Efter passet finns möjlighet till gemensam fika. \nMåndagar och torsdagar kl. 11.00–12.00\, t o m 25/6\nIdrottens Hus\, Mellersta Stenbocksgatan 10\, Helsingborg \nKlädsel: gympakläder och gympaskor.\nUtrustning finns att låna på plats. \nVälkomna!
URL:https://parkinsonskane.se/evenemang/helsingborg-har-boxning-pa-mandagar-3-2-2-2-2/2026-06-01/
LOCATION:Idrottens hus Helsingborg\, Mellersta Stenbocksgatan 10\, Helsingborg\, 254 37
CATEGORIES:Boxträning
ATTACH;FMTTYPE=image/jpeg:https://parkinsonskane.se/wp-content/uploads/2022/11/boxning_helsingborg.jpg
END:VEVENT
BEGIN:VEVENT
DTSTART;TZID=Europe/Stockholm:20260608T110000
DTEND;TZID=Europe/Stockholm:20260608T120000
DTSTAMP:20260424T185935
CREATED:20260317T175541Z
LAST-MODIFIED:20260317T175541Z
UID:10012895-1780916400-1780920000@parkinsonskane.se
SUMMARY:Helsingborg har boxning på måndagar
DESCRIPTION:Boxningsträning anpassad för personer med Parkinson. Träningen hålls i Idrottens Hus – följ skyltar med “Boxning”. Efter passet finns möjlighet till gemensam fika. \nMåndagar och torsdagar kl. 11.00–12.00\, t o m 25/6\nIdrottens Hus\, Mellersta Stenbocksgatan 10\, Helsingborg \nKlädsel: gympakläder och gympaskor.\nUtrustning finns att låna på plats. \nVälkomna!
URL:https://parkinsonskane.se/evenemang/helsingborg-har-boxning-pa-mandagar-3-2-2-2-2/2026-06-08/
LOCATION:Idrottens hus Helsingborg\, Mellersta Stenbocksgatan 10\, Helsingborg\, 254 37
CATEGORIES:Boxträning
ATTACH;FMTTYPE=image/jpeg:https://parkinsonskane.se/wp-content/uploads/2022/11/boxning_helsingborg.jpg
END:VEVENT
BEGIN:VEVENT
DTSTART;TZID=Europe/Stockholm:20260615T110000
DTEND;TZID=Europe/Stockholm:20260615T120000
DTSTAMP:20260424T185935
CREATED:20260317T175541Z
LAST-MODIFIED:20260317T175541Z
UID:10012896-1781521200-1781524800@parkinsonskane.se
SUMMARY:Helsingborg har boxning på måndagar
DESCRIPTION:Boxningsträning anpassad för personer med Parkinson. Träningen hålls i Idrottens Hus – följ skyltar med “Boxning”. Efter passet finns möjlighet till gemensam fika. \nMåndagar och torsdagar kl. 11.00–12.00\, t o m 25/6\nIdrottens Hus\, Mellersta Stenbocksgatan 10\, Helsingborg \nKlädsel: gympakläder och gympaskor.\nUtrustning finns att låna på plats. \nVälkomna!
URL:https://parkinsonskane.se/evenemang/helsingborg-har-boxning-pa-mandagar-3-2-2-2-2/2026-06-15/
LOCATION:Idrottens hus Helsingborg\, Mellersta Stenbocksgatan 10\, Helsingborg\, 254 37
CATEGORIES:Boxträning
ATTACH;FMTTYPE=image/jpeg:https://parkinsonskane.se/wp-content/uploads/2022/11/boxning_helsingborg.jpg
END:VEVENT
BEGIN:VEVENT
DTSTART;TZID=Europe/Stockholm:20260622T110000
DTEND;TZID=Europe/Stockholm:20260622T120000
DTSTAMP:20260424T185935
CREATED:20260317T175541Z
LAST-MODIFIED:20260317T175541Z
UID:10012897-1782126000-1782129600@parkinsonskane.se
SUMMARY:Helsingborg har boxning på måndagar
DESCRIPTION:Boxningsträning anpassad för personer med Parkinson. Träningen hålls i Idrottens Hus – följ skyltar med “Boxning”. Efter passet finns möjlighet till gemensam fika. \nMåndagar och torsdagar kl. 11.00–12.00\, t o m 25/6\nIdrottens Hus\, Mellersta Stenbocksgatan 10\, Helsingborg \nKlädsel: gympakläder och gympaskor.\nUtrustning finns att låna på plats. \nVälkomna!
URL:https://parkinsonskane.se/evenemang/helsingborg-har-boxning-pa-mandagar-3-2-2-2-2/2026-06-22/
LOCATION:Idrottens hus Helsingborg\, Mellersta Stenbocksgatan 10\, Helsingborg\, 254 37
CATEGORIES:Boxträning
ATTACH;FMTTYPE=image/jpeg:https://parkinsonskane.se/wp-content/uploads/2022/11/boxning_helsingborg.jpg
END:VEVENT
BEGIN:VEVENT
DTSTART;TZID=Europe/Stockholm:20260427T110000
DTEND;TZID=Europe/Stockholm:20260427T120000
DTSTAMP:20260424T185935
CREATED:20260317T175541Z
LAST-MODIFIED:20260317T175541Z
UID:10012889-1777287600-1777291200@parkinsonskane.se
SUMMARY:Helsingborg har boxning på måndagar
DESCRIPTION:Boxningsträning anpassad för personer med Parkinson. Träningen hålls i Idrottens Hus – följ skyltar med “Boxning”. Efter passet finns möjlighet till gemensam fika. \nMåndagar och torsdagar kl. 11.00–12.00\, t o m 25/6\nIdrottens Hus\, Mellersta Stenbocksgatan 10\, Helsingborg \nKlädsel: gympakläder och gympaskor.\nUtrustning finns att låna på plats. \nVälkomna!
URL:https://parkinsonskane.se/evenemang/helsingborg-har-boxning-pa-mandagar-3-2-2-2-2/2026-04-27/
LOCATION:Idrottens hus Helsingborg\, Mellersta Stenbocksgatan 10\, Helsingborg\, 254 37
CATEGORIES:Boxträning
ATTACH;FMTTYPE=image/jpeg:https://parkinsonskane.se/wp-content/uploads/2022/11/boxning_helsingborg.jpg
END:VEVENT
BEGIN:VEVENT
DTSTART;TZID=Europe/Stockholm:20260504T110000
DTEND;TZID=Europe/Stockholm:20260504T120000
DTSTAMP:20260424T185935
CREATED:20260317T175541Z
LAST-MODIFIED:20260317T175541Z
UID:10012890-1777892400-1777896000@parkinsonskane.se
SUMMARY:Helsingborg har boxning på måndagar
DESCRIPTION:Boxningsträning anpassad för personer med Parkinson. Träningen hålls i Idrottens Hus – följ skyltar med “Boxning”. Efter passet finns möjlighet till gemensam fika. \nMåndagar och torsdagar kl. 11.00–12.00\, t o m 25/6\nIdrottens Hus\, Mellersta Stenbocksgatan 10\, Helsingborg \nKlädsel: gympakläder och gympaskor.\nUtrustning finns att låna på plats. \nVälkomna!
URL:https://parkinsonskane.se/evenemang/helsingborg-har-boxning-pa-mandagar-3-2-2-2-2/2026-05-04/
LOCATION:Idrottens hus Helsingborg\, Mellersta Stenbocksgatan 10\, Helsingborg\, 254 37
CATEGORIES:Boxträning
ATTACH;FMTTYPE=image/jpeg:https://parkinsonskane.se/wp-content/uploads/2022/11/boxning_helsingborg.jpg
END:VEVENT
BEGIN:VEVENT
DTSTART;TZID=Europe/Stockholm:20260528T110000
DTEND;TZID=Europe/Stockholm:20260528T120000
DTSTAMP:20260424T185935
CREATED:20260317T175608Z
LAST-MODIFIED:20260317T175608Z
UID:10012931-1779966000-1779969600@parkinsonskane.se
SUMMARY:Helsingborg har boxning på torsdagar
DESCRIPTION:Boxningsträning anpassad för personer med Parkinson. Träningen hålls i Idrottens Hus – följ skyltar med “Boxning”. Efter passet finns möjlighet till gemensam fika. \nMåndagar och torsdagar kl. 11.00–12.00\, t o m 25/6\nIdrottens Hus\, Mellersta Stenbocksgatan 10\, Helsingborg \nKlädsel: gympakläder och gympaskor.\nUtrustning finns att låna på plats. \nVälkomna!
URL:https://parkinsonskane.se/evenemang/helsingborg-har-boxning-pa-torsdagar-4-2-2-2/2026-05-28/
LOCATION:Idrottens hus Helsingborg\, Mellersta Stenbocksgatan 10\, Helsingborg\, 254 37
CATEGORIES:Boxträning
ATTACH;FMTTYPE=image/jpeg:https://parkinsonskane.se/wp-content/uploads/2022/11/boxning_helsingborg.jpg
END:VEVENT
BEGIN:VEVENT
DTSTART;TZID=Europe/Stockholm:20260604T110000
DTEND;TZID=Europe/Stockholm:20260604T120000
DTSTAMP:20260424T185935
CREATED:20260317T175608Z
LAST-MODIFIED:20260317T175608Z
UID:10012932-1780570800-1780574400@parkinsonskane.se
SUMMARY:Helsingborg har boxning på torsdagar
DESCRIPTION:Boxningsträning anpassad för personer med Parkinson. Träningen hålls i Idrottens Hus – följ skyltar med “Boxning”. Efter passet finns möjlighet till gemensam fika. \nMåndagar och torsdagar kl. 11.00–12.00\, t o m 25/6\nIdrottens Hus\, Mellersta Stenbocksgatan 10\, Helsingborg \nKlädsel: gympakläder och gympaskor.\nUtrustning finns att låna på plats. \nVälkomna!
URL:https://parkinsonskane.se/evenemang/helsingborg-har-boxning-pa-torsdagar-4-2-2-2/2026-06-04/
LOCATION:Idrottens hus Helsingborg\, Mellersta Stenbocksgatan 10\, Helsingborg\, 254 37
CATEGORIES:Boxträning
ATTACH;FMTTYPE=image/jpeg:https://parkinsonskane.se/wp-content/uploads/2022/11/boxning_helsingborg.jpg
END:VEVENT
BEGIN:VEVENT
DTSTART;TZID=Europe/Stockholm:20260611T110000
DTEND;TZID=Europe/Stockholm:20260611T120000
DTSTAMP:20260424T185935
CREATED:20260317T175608Z
LAST-MODIFIED:20260317T175608Z
UID:10012933-1781175600-1781179200@parkinsonskane.se
SUMMARY:Helsingborg har boxning på torsdagar
DESCRIPTION:Boxningsträning anpassad för personer med Parkinson. Träningen hålls i Idrottens Hus – följ skyltar med “Boxning”. Efter passet finns möjlighet till gemensam fika. \nMåndagar och torsdagar kl. 11.00–12.00\, t o m 25/6\nIdrottens Hus\, Mellersta Stenbocksgatan 10\, Helsingborg \nKlädsel: gympakläder och gympaskor.\nUtrustning finns att låna på plats. \nVälkomna!
URL:https://parkinsonskane.se/evenemang/helsingborg-har-boxning-pa-torsdagar-4-2-2-2/2026-06-11/
LOCATION:Idrottens hus Helsingborg\, Mellersta Stenbocksgatan 10\, Helsingborg\, 254 37
CATEGORIES:Boxträning
ATTACH;FMTTYPE=image/jpeg:https://parkinsonskane.se/wp-content/uploads/2022/11/boxning_helsingborg.jpg
END:VEVENT
BEGIN:VEVENT
DTSTART;TZID=Europe/Stockholm:20260618T110000
DTEND;TZID=Europe/Stockholm:20260618T120000
DTSTAMP:20260424T185935
CREATED:20260317T175608Z
LAST-MODIFIED:20260317T175608Z
UID:10012934-1781780400-1781784000@parkinsonskane.se
SUMMARY:Helsingborg har boxning på torsdagar
DESCRIPTION:Boxningsträning anpassad för personer med Parkinson. Träningen hålls i Idrottens Hus – följ skyltar med “Boxning”. Efter passet finns möjlighet till gemensam fika. \nMåndagar och torsdagar kl. 11.00–12.00\, t o m 25/6\nIdrottens Hus\, Mellersta Stenbocksgatan 10\, Helsingborg \nKlädsel: gympakläder och gympaskor.\nUtrustning finns att låna på plats. \nVälkomna!
URL:https://parkinsonskane.se/evenemang/helsingborg-har-boxning-pa-torsdagar-4-2-2-2/2026-06-18/
LOCATION:Idrottens hus Helsingborg\, Mellersta Stenbocksgatan 10\, Helsingborg\, 254 37
CATEGORIES:Boxträning
ATTACH;FMTTYPE=image/jpeg:https://parkinsonskane.se/wp-content/uploads/2022/11/boxning_helsingborg.jpg
END:VEVENT
BEGIN:VEVENT
DTSTART;TZID=Europe/Stockholm:20260625T110000
DTEND;TZID=Europe/Stockholm:20260625T120000
DTSTAMP:20260424T185935
CREATED:20260317T175608Z
LAST-MODIFIED:20260317T175608Z
UID:10012935-1782385200-1782388800@parkinsonskane.se
SUMMARY:Helsingborg har boxning på torsdagar
DESCRIPTION:Boxningsträning anpassad för personer med Parkinson. Träningen hålls i Idrottens Hus – följ skyltar med “Boxning”. Efter passet finns möjlighet till gemensam fika. \nMåndagar och torsdagar kl. 11.00–12.00\, t o m 25/6\nIdrottens Hus\, Mellersta Stenbocksgatan 10\, Helsingborg \nKlädsel: gympakläder och gympaskor.\nUtrustning finns att låna på plats. \nVälkomna!
URL:https://parkinsonskane.se/evenemang/helsingborg-har-boxning-pa-torsdagar-4-2-2-2/2026-06-25/
LOCATION:Idrottens hus Helsingborg\, Mellersta Stenbocksgatan 10\, Helsingborg\, 254 37
CATEGORIES:Boxträning
ATTACH;FMTTYPE=image/jpeg:https://parkinsonskane.se/wp-content/uploads/2022/11/boxning_helsingborg.jpg
END:VEVENT
BEGIN:VEVENT
DTSTART;TZID=Europe/Stockholm:20260430T110000
DTEND;TZID=Europe/Stockholm:20260430T120000
DTSTAMP:20260424T185935
CREATED:20260317T175608Z
LAST-MODIFIED:20260317T175608Z
UID:10012927-1777546800-1777550400@parkinsonskane.se
SUMMARY:Helsingborg har boxning på torsdagar
DESCRIPTION:Boxningsträning anpassad för personer med Parkinson. Träningen hålls i Idrottens Hus – följ skyltar med “Boxning”. Efter passet finns möjlighet till gemensam fika. \nMåndagar och torsdagar kl. 11.00–12.00\, t o m 25/6\nIdrottens Hus\, Mellersta Stenbocksgatan 10\, Helsingborg \nKlädsel: gympakläder och gympaskor.\nUtrustning finns att låna på plats. \nVälkomna!
URL:https://parkinsonskane.se/evenemang/helsingborg-har-boxning-pa-torsdagar-4-2-2-2/2026-04-30/
LOCATION:Idrottens hus Helsingborg\, Mellersta Stenbocksgatan 10\, Helsingborg\, 254 37
CATEGORIES:Boxträning
ATTACH;FMTTYPE=image/jpeg:https://parkinsonskane.se/wp-content/uploads/2022/11/boxning_helsingborg.jpg
END:VEVENT
BEGIN:VEVENT
DTSTART;TZID=Europe/Stockholm:20260507T110000
DTEND;TZID=Europe/Stockholm:20260507T120000
DTSTAMP:20260424T185935
CREATED:20260317T175608Z
LAST-MODIFIED:20260317T175608Z
UID:10012928-1778151600-1778155200@parkinsonskane.se
SUMMARY:Helsingborg har boxning på torsdagar
DESCRIPTION:Boxningsträning anpassad för personer med Parkinson. Träningen hålls i Idrottens Hus – följ skyltar med “Boxning”. Efter passet finns möjlighet till gemensam fika. \nMåndagar och torsdagar kl. 11.00–12.00\, t o m 25/6\nIdrottens Hus\, Mellersta Stenbocksgatan 10\, Helsingborg \nKlädsel: gympakläder och gympaskor.\nUtrustning finns att låna på plats. \nVälkomna!
URL:https://parkinsonskane.se/evenemang/helsingborg-har-boxning-pa-torsdagar-4-2-2-2/2026-05-07/
LOCATION:Idrottens hus Helsingborg\, Mellersta Stenbocksgatan 10\, Helsingborg\, 254 37
CATEGORIES:Boxträning
ATTACH;FMTTYPE=image/jpeg:https://parkinsonskane.se/wp-content/uploads/2022/11/boxning_helsingborg.jpg
END:VEVENT
BEGIN:VEVENT
DTSTART;TZID=Europe/Stockholm:20260514T110000
DTEND;TZID=Europe/Stockholm:20260514T120000
DTSTAMP:20260424T185935
CREATED:20260317T175608Z
LAST-MODIFIED:20260317T175608Z
UID:10012929-1778756400-1778760000@parkinsonskane.se
SUMMARY:Helsingborg har boxning på torsdagar
DESCRIPTION:Boxningsträning anpassad för personer med Parkinson. Träningen hålls i Idrottens Hus – följ skyltar med “Boxning”. Efter passet finns möjlighet till gemensam fika. \nMåndagar och torsdagar kl. 11.00–12.00\, t o m 25/6\nIdrottens Hus\, Mellersta Stenbocksgatan 10\, Helsingborg \nKlädsel: gympakläder och gympaskor.\nUtrustning finns att låna på plats. \nVälkomna!
URL:https://parkinsonskane.se/evenemang/helsingborg-har-boxning-pa-torsdagar-4-2-2-2/2026-05-14/
LOCATION:Idrottens hus Helsingborg\, Mellersta Stenbocksgatan 10\, Helsingborg\, 254 37
CATEGORIES:Boxträning
ATTACH;FMTTYPE=image/jpeg:https://parkinsonskane.se/wp-content/uploads/2022/11/boxning_helsingborg.jpg
END:VEVENT
BEGIN:VEVENT
DTSTART;TZID=Europe/Stockholm:20260521T110000
DTEND;TZID=Europe/Stockholm:20260521T120000
DTSTAMP:20260424T185935
CREATED:20260317T175608Z
LAST-MODIFIED:20260317T175608Z
UID:10012930-1779361200-1779364800@parkinsonskane.se
SUMMARY:Helsingborg har boxning på torsdagar
DESCRIPTION:Boxningsträning anpassad för personer med Parkinson. Träningen hålls i Idrottens Hus – följ skyltar med “Boxning”. Efter passet finns möjlighet till gemensam fika. \nMåndagar och torsdagar kl. 11.00–12.00\, t o m 25/6\nIdrottens Hus\, Mellersta Stenbocksgatan 10\, Helsingborg \nKlädsel: gympakläder och gympaskor.\nUtrustning finns att låna på plats. \nVälkomna!
URL:https://parkinsonskane.se/evenemang/helsingborg-har-boxning-pa-torsdagar-4-2-2-2/2026-05-21/
LOCATION:Idrottens hus Helsingborg\, Mellersta Stenbocksgatan 10\, Helsingborg\, 254 37
CATEGORIES:Boxträning
ATTACH;FMTTYPE=image/jpeg:https://parkinsonskane.se/wp-content/uploads/2022/11/boxning_helsingborg.jpg
END:VEVENT
END:VCALENDAR