BEGIN:VCALENDAR
VERSION:2.0
PRODID:-//Parkinson Skåne - ECPv6.15.20//NONSGML v1.0//EN
CALSCALE:GREGORIAN
METHOD:PUBLISH
X-WR-CALNAME:Parkinson Skåne
X-ORIGINAL-URL:https://parkinsonskane.se
X-WR-CALDESC:Händelser för Parkinson Skåne
REFRESH-INTERVAL;VALUE=DURATION:PT1H
X-Robots-Tag:noindex
X-PUBLISHED-TTL:PT1H
BEGIN:VTIMEZONE
TZID:Europe/Stockholm
BEGIN:DAYLIGHT
TZOFFSETFROM:+0100
TZOFFSETTO:+0200
TZNAME:CEST
DTSTART:20240331T010000
END:DAYLIGHT
BEGIN:STANDARD
TZOFFSETFROM:+0200
TZOFFSETTO:+0100
TZNAME:CET
DTSTART:20241027T010000
END:STANDARD
BEGIN:DAYLIGHT
TZOFFSETFROM:+0100
TZOFFSETTO:+0200
TZNAME:CEST
DTSTART:20250330T010000
END:DAYLIGHT
BEGIN:STANDARD
TZOFFSETFROM:+0200
TZOFFSETTO:+0100
TZNAME:CET
DTSTART:20251026T010000
END:STANDARD
BEGIN:DAYLIGHT
TZOFFSETFROM:+0100
TZOFFSETTO:+0200
TZNAME:CEST
DTSTART:20260329T010000
END:DAYLIGHT
BEGIN:STANDARD
TZOFFSETFROM:+0200
TZOFFSETTO:+0100
TZNAME:CET
DTSTART:20261025T010000
END:STANDARD
END:VTIMEZONE
BEGIN:VEVENT
DTSTART;TZID=Europe/Stockholm:20251126T190000
DTEND;TZID=Europe/Stockholm:20251126T210000
DTSTAMP:20260425T032739
CREATED:20251021T113316Z
LAST-MODIFIED:20251021T113406Z
UID:10012384-1764183600-1764190800@parkinsonskane.se
SUMMARY:Landskrona går på teaterföreställningen French Connection. OBS! Utsålt
DESCRIPTION:Teaterutflykt: French Connection – Jan Sigurd & Anna-Lena Brundin \nOnsdag den 26 november 2025\, kl. 19.00\nLandskrona teater\, Salongen \nParkinsonföreningen i Landskrona går gemensamt på föreställningen French Connection med Jan Sigurd och Anna-Lena Brundin. Konserten bjuder på en stämningsfull blandning av chanson-jazz – franska melodier och svensk jazz i Monica Zetterlunds anda. \nEntrén öppnar kl. 18.00.\nFöreställningen är utsåld. \nArrangörer: Jazz i Landskrona och Landskrona teater. \nVi ser fram emot en inspirerande kväll med musik\, värme och fransk atmosfär tillsammans!
URL:https://parkinsonskane.se/evenemang/landskrona-gar-pa-teaterforestallningne-french-connection-obs-utsalt/
LOCATION:Landskrona Teater\, Järnvägsgatan 2\, Landskrona\, 261 32
CATEGORIES:Teater
ATTACH;FMTTYPE=image/jpeg:https://parkinsonskane.se/wp-content/uploads/2025/10/teater.jpg
END:VEVENT
END:VCALENDAR