BEGIN:VCALENDAR
VERSION:2.0
PRODID:-//Parkinson Skåne - ECPv6.15.20//NONSGML v1.0//EN
CALSCALE:GREGORIAN
METHOD:PUBLISH
X-WR-CALNAME:Parkinson Skåne
X-ORIGINAL-URL:https://parkinsonskane.se
X-WR-CALDESC:Händelser för Parkinson Skåne
REFRESH-INTERVAL;VALUE=DURATION:PT1H
X-Robots-Tag:noindex
X-PUBLISHED-TTL:PT1H
BEGIN:VTIMEZONE
TZID:Europe/Stockholm
BEGIN:DAYLIGHT
TZOFFSETFROM:+0100
TZOFFSETTO:+0200
TZNAME:CEST
DTSTART:20220327T010000
END:DAYLIGHT
BEGIN:STANDARD
TZOFFSETFROM:+0200
TZOFFSETTO:+0100
TZNAME:CET
DTSTART:20221030T010000
END:STANDARD
BEGIN:DAYLIGHT
TZOFFSETFROM:+0100
TZOFFSETTO:+0200
TZNAME:CEST
DTSTART:20230326T010000
END:DAYLIGHT
BEGIN:STANDARD
TZOFFSETFROM:+0200
TZOFFSETTO:+0100
TZNAME:CET
DTSTART:20231029T010000
END:STANDARD
BEGIN:DAYLIGHT
TZOFFSETFROM:+0100
TZOFFSETTO:+0200
TZNAME:CEST
DTSTART:20240331T010000
END:DAYLIGHT
BEGIN:STANDARD
TZOFFSETFROM:+0200
TZOFFSETTO:+0100
TZNAME:CET
DTSTART:20241027T010000
END:STANDARD
BEGIN:DAYLIGHT
TZOFFSETFROM:+0100
TZOFFSETTO:+0200
TZNAME:CEST
DTSTART:20250330T010000
END:DAYLIGHT
BEGIN:STANDARD
TZOFFSETFROM:+0200
TZOFFSETTO:+0100
TZNAME:CET
DTSTART:20251026T010000
END:STANDARD
BEGIN:DAYLIGHT
TZOFFSETFROM:+0100
TZOFFSETTO:+0200
TZNAME:CEST
DTSTART:20260329T010000
END:DAYLIGHT
BEGIN:STANDARD
TZOFFSETFROM:+0200
TZOFFSETTO:+0100
TZNAME:CET
DTSTART:20261025T010000
END:STANDARD
END:VTIMEZONE
BEGIN:VEVENT
DTSTART;TZID=Europe/Stockholm:20250617T130000
DTEND;TZID=Europe/Stockholm:20250617T150000
DTSTAMP:20260425T012042
CREATED:20250523T103830Z
LAST-MODIFIED:20250526T093219Z
UID:10011739-1750165200-1750172400@parkinsonskane.se
SUMMARY:Landskrona har säsongsavslutning på Lill-Olas – OBS! Nytt datum
DESCRIPTION:Nu avslutar vi vårens aktiviteter. Det har blivit tradition att vi träffas på Lill-Olas och grillar korv och fikar. Självklart gör vi så även i år. \nTid: Tisdag 27/5 kl 13.00\nInställt p g a vädret! Nytt datum: tisdag 17 juni kl 13.00.\nPlats: Lill-Olas\, DHR’s klubbhus i Borstahusen \nPraktisk info\nAktiviteten är kostnadsfri.\nKlä er efter väderlek. Vi sitter i första hand ute\, men om vädrets makter inte är med oss\, så dukar vi upp inomhus.\nDHR’s klubbhus ligger allra längst ner på parkeringen på vänster sida. Ring 070-5907007 om du inte hittar.\nSkicka ett sms till Margareta Trönell 070-3880671 om du önskar delta. Vi ser fram emot din anmälan snarast\, men senast på söndag den 15/6. \nVi brukar ha väldigt trevligt och hoppas att vi den här gången får se många nya ansikten! \nVälkomna!\nHenrik Schlasberg\nOrdförande Parkinson Landskrona
URL:https://parkinsonskane.se/evenemang/landskrona-har-sasongsavslutning-pa-lill-olas-2/
LOCATION:Lill-Olas\, Lill-olas väg 59\, Landskrona\, Skåne\, 261 60\, Sverige
CATEGORIES:Utflykt
ATTACH;FMTTYPE=image/jpeg:https://parkinsonskane.se/wp-content/uploads/2023/09/grillning-strand.jpg
END:VEVENT
BEGIN:VEVENT
DTSTART;TZID=Europe/Stockholm:20240821T130000
DTEND;TZID=Europe/Stockholm:20240821T150000
DTSTAMP:20260425T012042
CREATED:20240819T064314Z
LAST-MODIFIED:20240819T071542Z
UID:10010751-1724245200-1724252400@parkinsonskane.se
SUMMARY:Landskrona har kick-off på Lill-Olas
DESCRIPTION:Nu sätter vi igång höstens aktiviteter. Det har blivit tradition att vi träffas på Lill-Olas och grillar korv och fikar. Självklart gör vi så även i år. \nTid: Onsdag 21/8 kl 13.00\nPlats: Lill-Olas\, DHR’s klubbhus i Borstahusen\nPraktisk info: Aktiviteten är kostnadsfri.\nVi kommer att sitta ute så klä er efter väderlek.\nDHR’s klubbhus ligger allra längst ner på parkeringen på vänster sida. Ring 070-5907007 om du inte hittar. \nSkicka ett sms till Margareta Trönell 070-3880671 om du önskar delta. Vi ser fram emot din anmälan snarast\, men senast på måndag 19/8. \nVi brukar ha väldigt trevligt och hoppas att vi den här gången får se många nya ansikten! \nVÄLKOMNA!\nHenrik Schlasberg\nOrdförande Parkinson Landskrona
URL:https://parkinsonskane.se/evenemang/landskrona-har-kick-off-pa-lill-olas-2/
LOCATION:Lill-Olas\, Lill-olas väg 59\, Landskrona\, Skåne\, 261 60\, Sverige
CATEGORIES:Medlemsträff
ATTACH;FMTTYPE=image/jpeg:https://parkinsonskane.se/wp-content/uploads/2024/08/grillning-landskrona.jpg
END:VEVENT
BEGIN:VEVENT
DTSTART;TZID=Europe/Stockholm:20230914T130000
DTEND;TZID=Europe/Stockholm:20230914T160000
DTSTAMP:20260425T012042
CREATED:20230904T134242Z
LAST-MODIFIED:20230904T134242Z
UID:10009261-1694696400-1694707200@parkinsonskane.se
SUMMARY:Landskrona har kick-off på Lill-Olas
DESCRIPTION:Torsdagen den 14 september kl 13 inleder vi höstsäsongen med en trevlig eftermiddag på Lill-Olas i Borstahusen. Om vädret tillåter kommer Tryggare vardag inleda med ett 30 min långt träningspass. Därefter grillar vi korv och bjuder på kaffe och kaka. Eftersom aktiviteten är väderberoende kommer vi hålla till i DHR’s stuga. Här kan vi sitta ute\, inne\, eller ute under tak. \nBra att veta: \nDetta är en Parkinsonaktivitet och är kostnadsfri för våra medlemmar.  \nHandikappföreningens stuga ligger på parkeringen längst norrut. Kör in genom grinden på vänster sida mellan DHR’s stuga och ett dagis. \nHandikapptoaletter finns i stugan.  \nEv specialkost medtages själv. \nAnmälan sker till henrik.schlasberg@gmail.com  alt på telefon 070-6320058 Senast den 10 september.
URL:https://parkinsonskane.se/evenemang/landskrona-har-kick-off-pa-lill-olas/
LOCATION:Lill-Olas\, Lill-olas väg 59\, Landskrona\, Skåne\, 261 60\, Sverige
CATEGORIES:Medlemsträff
ATTACH;FMTTYPE=image/jpeg:https://parkinsonskane.se/wp-content/uploads/2023/09/grillning-strand.jpg
END:VEVENT
BEGIN:VEVENT
DTSTART;TZID=Europe/Stockholm:20230608T130000
DTEND;TZID=Europe/Stockholm:20230608T170000
DTSTAMP:20260425T012042
CREATED:20230529T154838Z
LAST-MODIFIED:20230529T154938Z
UID:10008652-1686229200-1686243600@parkinsonskane.se
SUMMARY:Landskrona har säsongsavslutning på Lill-Olas
DESCRIPTION:Torsdagen den 8 juni kl 13 avslutar vi vårsäsongen med en trevlig eftermiddag på Lill-Olas i Borstahusen. \n\nTryggare vardag inleder med ett 30 min långt träningspass. Därefter grillar vi korv och bjuder på kaffe och kaka. Eftersom aktiviteten är väderberoende kommer vi hålla till i DHR’s stuga. Här kan vi sitta ute\, inne\, eller ute under tak. \n  \nBra att veta: \nDetta är en Parkinson aktivitet och är kostnadsfri för våra medlemmar.  \nHandikappföreningens stuga ligger längst norrut mot Ålabodarna. Man kör förbi igenom lekskolan och in genom grinden. \nHandikapptoaletter finns i stugan.  \nEv specialkost medtages själv \n  \nAnmälan sker till henrik.schlasberg@gmail.com alt på telefon 070-6320058 senast den 2 juni. \nVälkomna!
URL:https://parkinsonskane.se/evenemang/landskrona-har-sasongsavslutning-pa-lill-olas/
LOCATION:Lill-Olas\, Lill-olas väg 59\, Landskrona\, Skåne\, 261 60\, Sverige
CATEGORIES:Medlemsträff
ATTACH;FMTTYPE=image/jpeg:https://parkinsonskane.se/wp-content/uploads/2023/05/grill1.jpg
END:VEVENT
END:VCALENDAR