BEGIN:VCALENDAR
VERSION:2.0
PRODID:-//Parkinson Skåne - ECPv6.15.20//NONSGML v1.0//EN
CALSCALE:GREGORIAN
METHOD:PUBLISH
X-WR-CALNAME:Parkinson Skåne
X-ORIGINAL-URL:https://parkinsonskane.se
X-WR-CALDESC:Händelser för Parkinson Skåne
REFRESH-INTERVAL;VALUE=DURATION:PT1H
X-Robots-Tag:noindex
X-PUBLISHED-TTL:PT1H
BEGIN:VTIMEZONE
TZID:Europe/Stockholm
BEGIN:DAYLIGHT
TZOFFSETFROM:+0100
TZOFFSETTO:+0200
TZNAME:CEST
DTSTART:20220327T010000
END:DAYLIGHT
BEGIN:STANDARD
TZOFFSETFROM:+0200
TZOFFSETTO:+0100
TZNAME:CET
DTSTART:20221030T010000
END:STANDARD
BEGIN:DAYLIGHT
TZOFFSETFROM:+0100
TZOFFSETTO:+0200
TZNAME:CEST
DTSTART:20230326T010000
END:DAYLIGHT
BEGIN:STANDARD
TZOFFSETFROM:+0200
TZOFFSETTO:+0100
TZNAME:CET
DTSTART:20231029T010000
END:STANDARD
BEGIN:DAYLIGHT
TZOFFSETFROM:+0100
TZOFFSETTO:+0200
TZNAME:CEST
DTSTART:20240331T010000
END:DAYLIGHT
BEGIN:STANDARD
TZOFFSETFROM:+0200
TZOFFSETTO:+0100
TZNAME:CET
DTSTART:20241027T010000
END:STANDARD
END:VTIMEZONE
BEGIN:VEVENT
DTSTART;TZID=Europe/Stockholm:20231004T173000
DTEND;TZID=Europe/Stockholm:20231004T183000
DTSTAMP:20260425T220325
CREATED:20230915T101927Z
LAST-MODIFIED:20230915T105225Z
UID:10009358-1696440600-1696444200@parkinsonskane.se
SUMMARY:Malmö spelar GåBoll
DESCRIPTION:Från den 20/9 tränar vi GåBoll på Mellanhedens IP 17.30–18.30.\nVid dåligt väder är vi inomhus. \nKontakt GåBoll: Jakob tel 0707123441
URL:https://parkinsonskane.se/evenemang/malmo-spelar-gaboll/2023-10-04/
LOCATION:Mellanhedens IP\, Gyllebogatan\, Malmö\, Skåne\, 217 73\, Sverige
CATEGORIES:GåBoll
ATTACH;FMTTYPE=image/jpeg:https://parkinsonskane.se/wp-content/uploads/2023/09/gaboll-film.jpg
END:VEVENT
BEGIN:VEVENT
DTSTART;TZID=Europe/Stockholm:20231011T173000
DTEND;TZID=Europe/Stockholm:20231011T183000
DTSTAMP:20260425T220325
CREATED:20230915T101927Z
LAST-MODIFIED:20230915T105225Z
UID:10009359-1697045400-1697049000@parkinsonskane.se
SUMMARY:Malmö spelar GåBoll
DESCRIPTION:Från den 20/9 tränar vi GåBoll på Mellanhedens IP 17.30–18.30.\nVid dåligt väder är vi inomhus. \nKontakt GåBoll: Jakob tel 0707123441
URL:https://parkinsonskane.se/evenemang/malmo-spelar-gaboll/2023-10-11/
LOCATION:Mellanhedens IP\, Gyllebogatan\, Malmö\, Skåne\, 217 73\, Sverige
CATEGORIES:GåBoll
ATTACH;FMTTYPE=image/jpeg:https://parkinsonskane.se/wp-content/uploads/2023/09/gaboll-film.jpg
END:VEVENT
BEGIN:VEVENT
DTSTART;TZID=Europe/Stockholm:20231018T173000
DTEND;TZID=Europe/Stockholm:20231018T183000
DTSTAMP:20260425T220325
CREATED:20230915T101927Z
LAST-MODIFIED:20230915T105225Z
UID:10009360-1697650200-1697653800@parkinsonskane.se
SUMMARY:Malmö spelar GåBoll
DESCRIPTION:Från den 20/9 tränar vi GåBoll på Mellanhedens IP 17.30–18.30.\nVid dåligt väder är vi inomhus. \nKontakt GåBoll: Jakob tel 0707123441
URL:https://parkinsonskane.se/evenemang/malmo-spelar-gaboll/2023-10-18/
LOCATION:Mellanhedens IP\, Gyllebogatan\, Malmö\, Skåne\, 217 73\, Sverige
CATEGORIES:GåBoll
ATTACH;FMTTYPE=image/jpeg:https://parkinsonskane.se/wp-content/uploads/2023/09/gaboll-film.jpg
END:VEVENT
BEGIN:VEVENT
DTSTART;TZID=Europe/Stockholm:20231025T173000
DTEND;TZID=Europe/Stockholm:20231025T183000
DTSTAMP:20260425T220325
CREATED:20230915T101927Z
LAST-MODIFIED:20230915T105225Z
UID:10009361-1698255000-1698258600@parkinsonskane.se
SUMMARY:Malmö spelar GåBoll
DESCRIPTION:Från den 20/9 tränar vi GåBoll på Mellanhedens IP 17.30–18.30.\nVid dåligt väder är vi inomhus. \nKontakt GåBoll: Jakob tel 0707123441
URL:https://parkinsonskane.se/evenemang/malmo-spelar-gaboll/2023-10-25/
LOCATION:Mellanhedens IP\, Gyllebogatan\, Malmö\, Skåne\, 217 73\, Sverige
CATEGORIES:GåBoll
ATTACH;FMTTYPE=image/jpeg:https://parkinsonskane.se/wp-content/uploads/2023/09/gaboll-film.jpg
END:VEVENT
BEGIN:VEVENT
DTSTART;TZID=Europe/Stockholm:20230920T173000
DTEND;TZID=Europe/Stockholm:20230920T183000
DTSTAMP:20260425T220325
CREATED:20230915T101927Z
LAST-MODIFIED:20230915T105225Z
UID:10009356-1695231000-1695234600@parkinsonskane.se
SUMMARY:Malmö spelar GåBoll
DESCRIPTION:Från den 20/9 tränar vi GåBoll på Mellanhedens IP 17.30–18.30.\nVid dåligt väder är vi inomhus. \nKontakt GåBoll: Jakob tel 0707123441
URL:https://parkinsonskane.se/evenemang/malmo-spelar-gaboll/2023-09-20/
LOCATION:Mellanhedens IP\, Gyllebogatan\, Malmö\, Skåne\, 217 73\, Sverige
CATEGORIES:GåBoll
ATTACH;FMTTYPE=image/jpeg:https://parkinsonskane.se/wp-content/uploads/2023/09/gaboll-film.jpg
END:VEVENT
BEGIN:VEVENT
DTSTART;TZID=Europe/Stockholm:20230927T173000
DTEND;TZID=Europe/Stockholm:20230927T183000
DTSTAMP:20260425T220325
CREATED:20230915T101927Z
LAST-MODIFIED:20230915T105225Z
UID:10009357-1695835800-1695839400@parkinsonskane.se
SUMMARY:Malmö spelar GåBoll
DESCRIPTION:Från den 20/9 tränar vi GåBoll på Mellanhedens IP 17.30–18.30.\nVid dåligt väder är vi inomhus. \nKontakt GåBoll: Jakob tel 0707123441
URL:https://parkinsonskane.se/evenemang/malmo-spelar-gaboll/2023-09-27/
LOCATION:Mellanhedens IP\, Gyllebogatan\, Malmö\, Skåne\, 217 73\, Sverige
CATEGORIES:GåBoll
ATTACH;FMTTYPE=image/jpeg:https://parkinsonskane.se/wp-content/uploads/2023/09/gaboll-film.jpg
END:VEVENT
END:VCALENDAR