BEGIN:VCALENDAR
VERSION:2.0
PRODID:-//Parkinson Skåne - ECPv6.15.20//NONSGML v1.0//EN
CALSCALE:GREGORIAN
METHOD:PUBLISH
X-ORIGINAL-URL:https://parkinsonskane.se
X-WR-CALDESC:Händelser för Parkinson Skåne
REFRESH-INTERVAL;VALUE=DURATION:PT1H
X-Robots-Tag:noindex
X-PUBLISHED-TTL:PT1H
BEGIN:VTIMEZONE
TZID:Europe/Stockholm
BEGIN:DAYLIGHT
TZOFFSETFROM:+0100
TZOFFSETTO:+0200
TZNAME:CEST
DTSTART:20210328T010000
END:DAYLIGHT
BEGIN:STANDARD
TZOFFSETFROM:+0200
TZOFFSETTO:+0100
TZNAME:CET
DTSTART:20211031T010000
END:STANDARD
BEGIN:DAYLIGHT
TZOFFSETFROM:+0100
TZOFFSETTO:+0200
TZNAME:CEST
DTSTART:20220327T010000
END:DAYLIGHT
BEGIN:STANDARD
TZOFFSETFROM:+0200
TZOFFSETTO:+0100
TZNAME:CET
DTSTART:20221030T010000
END:STANDARD
BEGIN:DAYLIGHT
TZOFFSETFROM:+0100
TZOFFSETTO:+0200
TZNAME:CEST
DTSTART:20230326T010000
END:DAYLIGHT
BEGIN:STANDARD
TZOFFSETFROM:+0200
TZOFFSETTO:+0100
TZNAME:CET
DTSTART:20231029T010000
END:STANDARD
BEGIN:DAYLIGHT
TZOFFSETFROM:+0100
TZOFFSETTO:+0200
TZNAME:CEST
DTSTART:20240331T010000
END:DAYLIGHT
BEGIN:STANDARD
TZOFFSETFROM:+0200
TZOFFSETTO:+0100
TZNAME:CET
DTSTART:20241027T010000
END:STANDARD
END:VTIMEZONE
BEGIN:VEVENT
DTSTART;TZID=Europe/Stockholm:20230222T190000
DTEND;TZID=Europe/Stockholm:20230222T200000
DTSTAMP:20260425T164306
CREATED:20221209T141019Z
LAST-MODIFIED:20230129T202235Z
UID:10005826-1677092400-1677096000@parkinsonskane.se
SUMMARY:Malmö har GåBoll inomhus
DESCRIPTION:GåBoll inomhus varje onsdag kl 19.00–20.00\nPlats: Mellanhedsskolan\, Gyllebogången 1 \nGåboll speciellt framtagen för personer med Parkinson. \nKlädsel: fritidskläder med gymnastikskor eller liknande.\nDeltagandet är kostnadsfritt.\nAnhöriga\, barn och barnbarn är välkomna. \nKom och pröva! Bli medlem i Parkinson Malmö Facebook för mer information.
URL:https://parkinsonskane.se/evenemang/malmo-har-gaboll-inomhus/2023-02-22/
LOCATION:Mellanhedsskolan\, Gyllebogången 1\, Malmö\, Skåne\, 217 73\, Sverige
CATEGORIES:GåBoll
ATTACH;FMTTYPE=image/jpeg:https://parkinsonskane.se/wp-content/uploads/2022/11/gaboll-kalendariet.jpg
END:VEVENT
BEGIN:VEVENT
DTSTART;TZID=Europe/Stockholm:20221214T190000
DTEND;TZID=Europe/Stockholm:20221214T200000
DTSTAMP:20260425T164306
CREATED:20221209T141019Z
LAST-MODIFIED:20230129T202235Z
UID:10005816-1671044400-1671048000@parkinsonskane.se
SUMMARY:Malmö har GåBoll inomhus
DESCRIPTION:GåBoll inomhus varje onsdag kl 19.00–20.00\nPlats: Mellanhedsskolan\, Gyllebogången 1 \nGåboll speciellt framtagen för personer med Parkinson. \nKlädsel: fritidskläder med gymnastikskor eller liknande.\nDeltagandet är kostnadsfritt.\nAnhöriga\, barn och barnbarn är välkomna. \nKom och pröva! Bli medlem i Parkinson Malmö Facebook för mer information.
URL:https://parkinsonskane.se/evenemang/malmo-har-gaboll-inomhus/2022-12-14/
LOCATION:Mellanhedsskolan\, Gyllebogången 1\, Malmö\, Skåne\, 217 73\, Sverige
CATEGORIES:GåBoll
ATTACH;FMTTYPE=image/jpeg:https://parkinsonskane.se/wp-content/uploads/2022/11/gaboll-kalendariet.jpg
END:VEVENT
BEGIN:VEVENT
DTSTART;TZID=Europe/Stockholm:20230301T190000
DTEND;TZID=Europe/Stockholm:20230301T200000
DTSTAMP:20260425T164306
CREATED:20221209T141019Z
LAST-MODIFIED:20230129T202235Z
UID:10005827-1677697200-1677700800@parkinsonskane.se
SUMMARY:Malmö har GåBoll inomhus
DESCRIPTION:GåBoll inomhus varje onsdag kl 19.00–20.00\nPlats: Mellanhedsskolan\, Gyllebogången 1 \nGåboll speciellt framtagen för personer med Parkinson. \nKlädsel: fritidskläder med gymnastikskor eller liknande.\nDeltagandet är kostnadsfritt.\nAnhöriga\, barn och barnbarn är välkomna. \nKom och pröva! Bli medlem i Parkinson Malmö Facebook för mer information.
URL:https://parkinsonskane.se/evenemang/malmo-har-gaboll-inomhus/2023-03-01/
LOCATION:Mellanhedsskolan\, Gyllebogången 1\, Malmö\, Skåne\, 217 73\, Sverige
CATEGORIES:GåBoll
ATTACH;FMTTYPE=image/jpeg:https://parkinsonskane.se/wp-content/uploads/2022/11/gaboll-kalendariet.jpg
END:VEVENT
BEGIN:VEVENT
DTSTART;TZID=Europe/Stockholm:20221221T190000
DTEND;TZID=Europe/Stockholm:20221221T200000
DTSTAMP:20260425T164306
CREATED:20221209T141019Z
LAST-MODIFIED:20230129T202235Z
UID:10005817-1671649200-1671652800@parkinsonskane.se
SUMMARY:Malmö har GåBoll inomhus
DESCRIPTION:GåBoll inomhus varje onsdag kl 19.00–20.00\nPlats: Mellanhedsskolan\, Gyllebogången 1 \nGåboll speciellt framtagen för personer med Parkinson. \nKlädsel: fritidskläder med gymnastikskor eller liknande.\nDeltagandet är kostnadsfritt.\nAnhöriga\, barn och barnbarn är välkomna. \nKom och pröva! Bli medlem i Parkinson Malmö Facebook för mer information.
URL:https://parkinsonskane.se/evenemang/malmo-har-gaboll-inomhus/2022-12-21/
LOCATION:Mellanhedsskolan\, Gyllebogången 1\, Malmö\, Skåne\, 217 73\, Sverige
CATEGORIES:GåBoll
ATTACH;FMTTYPE=image/jpeg:https://parkinsonskane.se/wp-content/uploads/2022/11/gaboll-kalendariet.jpg
END:VEVENT
BEGIN:VEVENT
DTSTART;TZID=Europe/Stockholm:20230308T190000
DTEND;TZID=Europe/Stockholm:20230308T200000
DTSTAMP:20260425T164306
CREATED:20221209T141019Z
LAST-MODIFIED:20230129T202235Z
UID:10005828-1678302000-1678305600@parkinsonskane.se
SUMMARY:Malmö har GåBoll inomhus
DESCRIPTION:GåBoll inomhus varje onsdag kl 19.00–20.00\nPlats: Mellanhedsskolan\, Gyllebogången 1 \nGåboll speciellt framtagen för personer med Parkinson. \nKlädsel: fritidskläder med gymnastikskor eller liknande.\nDeltagandet är kostnadsfritt.\nAnhöriga\, barn och barnbarn är välkomna. \nKom och pröva! Bli medlem i Parkinson Malmö Facebook för mer information.
URL:https://parkinsonskane.se/evenemang/malmo-har-gaboll-inomhus/2023-03-08/
LOCATION:Mellanhedsskolan\, Gyllebogången 1\, Malmö\, Skåne\, 217 73\, Sverige
CATEGORIES:GåBoll
ATTACH;FMTTYPE=image/jpeg:https://parkinsonskane.se/wp-content/uploads/2022/11/gaboll-kalendariet.jpg
END:VEVENT
BEGIN:VEVENT
DTSTART;TZID=Europe/Stockholm:20221228T190000
DTEND;TZID=Europe/Stockholm:20221228T200000
DTSTAMP:20260425T164306
CREATED:20221209T141019Z
LAST-MODIFIED:20230129T202235Z
UID:10005818-1672254000-1672257600@parkinsonskane.se
SUMMARY:Malmö har GåBoll inomhus
DESCRIPTION:GåBoll inomhus varje onsdag kl 19.00–20.00\nPlats: Mellanhedsskolan\, Gyllebogången 1 \nGåboll speciellt framtagen för personer med Parkinson. \nKlädsel: fritidskläder med gymnastikskor eller liknande.\nDeltagandet är kostnadsfritt.\nAnhöriga\, barn och barnbarn är välkomna. \nKom och pröva! Bli medlem i Parkinson Malmö Facebook för mer information.
URL:https://parkinsonskane.se/evenemang/malmo-har-gaboll-inomhus/2022-12-28/
LOCATION:Mellanhedsskolan\, Gyllebogången 1\, Malmö\, Skåne\, 217 73\, Sverige
CATEGORIES:GåBoll
ATTACH;FMTTYPE=image/jpeg:https://parkinsonskane.se/wp-content/uploads/2022/11/gaboll-kalendariet.jpg
END:VEVENT
BEGIN:VEVENT
DTSTART;TZID=Europe/Stockholm:20230315T190000
DTEND;TZID=Europe/Stockholm:20230315T200000
DTSTAMP:20260425T164306
CREATED:20221209T141019Z
LAST-MODIFIED:20230129T202235Z
UID:10005829-1678906800-1678910400@parkinsonskane.se
SUMMARY:Malmö har GåBoll inomhus
DESCRIPTION:GåBoll inomhus varje onsdag kl 19.00–20.00\nPlats: Mellanhedsskolan\, Gyllebogången 1 \nGåboll speciellt framtagen för personer med Parkinson. \nKlädsel: fritidskläder med gymnastikskor eller liknande.\nDeltagandet är kostnadsfritt.\nAnhöriga\, barn och barnbarn är välkomna. \nKom och pröva! Bli medlem i Parkinson Malmö Facebook för mer information.
URL:https://parkinsonskane.se/evenemang/malmo-har-gaboll-inomhus/2023-03-15/
LOCATION:Mellanhedsskolan\, Gyllebogången 1\, Malmö\, Skåne\, 217 73\, Sverige
CATEGORIES:GåBoll
ATTACH;FMTTYPE=image/jpeg:https://parkinsonskane.se/wp-content/uploads/2022/11/gaboll-kalendariet.jpg
END:VEVENT
BEGIN:VEVENT
DTSTART;TZID=Europe/Stockholm:20230104T190000
DTEND;TZID=Europe/Stockholm:20230104T200000
DTSTAMP:20260425T164306
CREATED:20221209T141019Z
LAST-MODIFIED:20230129T202235Z
UID:10005819-1672858800-1672862400@parkinsonskane.se
SUMMARY:Malmö har GåBoll inomhus
DESCRIPTION:GåBoll inomhus varje onsdag kl 19.00–20.00\nPlats: Mellanhedsskolan\, Gyllebogången 1 \nGåboll speciellt framtagen för personer med Parkinson. \nKlädsel: fritidskläder med gymnastikskor eller liknande.\nDeltagandet är kostnadsfritt.\nAnhöriga\, barn och barnbarn är välkomna. \nKom och pröva! Bli medlem i Parkinson Malmö Facebook för mer information.
URL:https://parkinsonskane.se/evenemang/malmo-har-gaboll-inomhus/2023-01-04/
LOCATION:Mellanhedsskolan\, Gyllebogången 1\, Malmö\, Skåne\, 217 73\, Sverige
CATEGORIES:GåBoll
ATTACH;FMTTYPE=image/jpeg:https://parkinsonskane.se/wp-content/uploads/2022/11/gaboll-kalendariet.jpg
END:VEVENT
BEGIN:VEVENT
DTSTART;TZID=Europe/Stockholm:20230322T190000
DTEND;TZID=Europe/Stockholm:20230322T200000
DTSTAMP:20260425T164306
CREATED:20221209T141019Z
LAST-MODIFIED:20230129T202235Z
UID:10005830-1679511600-1679515200@parkinsonskane.se
SUMMARY:Malmö har GåBoll inomhus
DESCRIPTION:GåBoll inomhus varje onsdag kl 19.00–20.00\nPlats: Mellanhedsskolan\, Gyllebogången 1 \nGåboll speciellt framtagen för personer med Parkinson. \nKlädsel: fritidskläder med gymnastikskor eller liknande.\nDeltagandet är kostnadsfritt.\nAnhöriga\, barn och barnbarn är välkomna. \nKom och pröva! Bli medlem i Parkinson Malmö Facebook för mer information.
URL:https://parkinsonskane.se/evenemang/malmo-har-gaboll-inomhus/2023-03-22/
LOCATION:Mellanhedsskolan\, Gyllebogången 1\, Malmö\, Skåne\, 217 73\, Sverige
CATEGORIES:GåBoll
ATTACH;FMTTYPE=image/jpeg:https://parkinsonskane.se/wp-content/uploads/2022/11/gaboll-kalendariet.jpg
END:VEVENT
BEGIN:VEVENT
DTSTART;TZID=Europe/Stockholm:20230111T190000
DTEND;TZID=Europe/Stockholm:20230111T200000
DTSTAMP:20260425T164306
CREATED:20221209T141019Z
LAST-MODIFIED:20230129T202235Z
UID:10005820-1673463600-1673467200@parkinsonskane.se
SUMMARY:Malmö har GåBoll inomhus
DESCRIPTION:GåBoll inomhus varje onsdag kl 19.00–20.00\nPlats: Mellanhedsskolan\, Gyllebogången 1 \nGåboll speciellt framtagen för personer med Parkinson. \nKlädsel: fritidskläder med gymnastikskor eller liknande.\nDeltagandet är kostnadsfritt.\nAnhöriga\, barn och barnbarn är välkomna. \nKom och pröva! Bli medlem i Parkinson Malmö Facebook för mer information.
URL:https://parkinsonskane.se/evenemang/malmo-har-gaboll-inomhus/2023-01-11/
LOCATION:Mellanhedsskolan\, Gyllebogången 1\, Malmö\, Skåne\, 217 73\, Sverige
CATEGORIES:GåBoll
ATTACH;FMTTYPE=image/jpeg:https://parkinsonskane.se/wp-content/uploads/2022/11/gaboll-kalendariet.jpg
END:VEVENT
BEGIN:VEVENT
DTSTART;TZID=Europe/Stockholm:20230329T190000
DTEND;TZID=Europe/Stockholm:20230329T200000
DTSTAMP:20260425T164306
CREATED:20221209T141019Z
LAST-MODIFIED:20230129T202235Z
UID:10005831-1680116400-1680120000@parkinsonskane.se
SUMMARY:Malmö har GåBoll inomhus
DESCRIPTION:GåBoll inomhus varje onsdag kl 19.00–20.00\nPlats: Mellanhedsskolan\, Gyllebogången 1 \nGåboll speciellt framtagen för personer med Parkinson. \nKlädsel: fritidskläder med gymnastikskor eller liknande.\nDeltagandet är kostnadsfritt.\nAnhöriga\, barn och barnbarn är välkomna. \nKom och pröva! Bli medlem i Parkinson Malmö Facebook för mer information.
URL:https://parkinsonskane.se/evenemang/malmo-har-gaboll-inomhus/2023-03-29/
LOCATION:Mellanhedsskolan\, Gyllebogången 1\, Malmö\, Skåne\, 217 73\, Sverige
CATEGORIES:GåBoll
ATTACH;FMTTYPE=image/jpeg:https://parkinsonskane.se/wp-content/uploads/2022/11/gaboll-kalendariet.jpg
END:VEVENT
BEGIN:VEVENT
DTSTART;TZID=Europe/Stockholm:20230118T190000
DTEND;TZID=Europe/Stockholm:20230118T200000
DTSTAMP:20260425T164306
CREATED:20221209T141019Z
LAST-MODIFIED:20230129T202235Z
UID:10005821-1674068400-1674072000@parkinsonskane.se
SUMMARY:Malmö har GåBoll inomhus
DESCRIPTION:GåBoll inomhus varje onsdag kl 19.00–20.00\nPlats: Mellanhedsskolan\, Gyllebogången 1 \nGåboll speciellt framtagen för personer med Parkinson. \nKlädsel: fritidskläder med gymnastikskor eller liknande.\nDeltagandet är kostnadsfritt.\nAnhöriga\, barn och barnbarn är välkomna. \nKom och pröva! Bli medlem i Parkinson Malmö Facebook för mer information.
URL:https://parkinsonskane.se/evenemang/malmo-har-gaboll-inomhus/2023-01-18/
LOCATION:Mellanhedsskolan\, Gyllebogången 1\, Malmö\, Skåne\, 217 73\, Sverige
CATEGORIES:GåBoll
ATTACH;FMTTYPE=image/jpeg:https://parkinsonskane.se/wp-content/uploads/2022/11/gaboll-kalendariet.jpg
END:VEVENT
BEGIN:VEVENT
DTSTART;TZID=Europe/Stockholm:20230125T190000
DTEND;TZID=Europe/Stockholm:20230125T200000
DTSTAMP:20260425T164306
CREATED:20221209T141019Z
LAST-MODIFIED:20230129T202235Z
UID:10005822-1674673200-1674676800@parkinsonskane.se
SUMMARY:Malmö har GåBoll inomhus
DESCRIPTION:GåBoll inomhus varje onsdag kl 19.00–20.00\nPlats: Mellanhedsskolan\, Gyllebogången 1 \nGåboll speciellt framtagen för personer med Parkinson. \nKlädsel: fritidskläder med gymnastikskor eller liknande.\nDeltagandet är kostnadsfritt.\nAnhöriga\, barn och barnbarn är välkomna. \nKom och pröva! Bli medlem i Parkinson Malmö Facebook för mer information.
URL:https://parkinsonskane.se/evenemang/malmo-har-gaboll-inomhus/2023-01-25/
LOCATION:Mellanhedsskolan\, Gyllebogången 1\, Malmö\, Skåne\, 217 73\, Sverige
CATEGORIES:GåBoll
ATTACH;FMTTYPE=image/jpeg:https://parkinsonskane.se/wp-content/uploads/2022/11/gaboll-kalendariet.jpg
END:VEVENT
BEGIN:VEVENT
DTSTART;TZID=Europe/Stockholm:20230201T190000
DTEND;TZID=Europe/Stockholm:20230201T200000
DTSTAMP:20260425T164306
CREATED:20221209T141019Z
LAST-MODIFIED:20230129T202235Z
UID:10005823-1675278000-1675281600@parkinsonskane.se
SUMMARY:Malmö har GåBoll inomhus
DESCRIPTION:GåBoll inomhus varje onsdag kl 19.00–20.00\nPlats: Mellanhedsskolan\, Gyllebogången 1 \nGåboll speciellt framtagen för personer med Parkinson. \nKlädsel: fritidskläder med gymnastikskor eller liknande.\nDeltagandet är kostnadsfritt.\nAnhöriga\, barn och barnbarn är välkomna. \nKom och pröva! Bli medlem i Parkinson Malmö Facebook för mer information.
URL:https://parkinsonskane.se/evenemang/malmo-har-gaboll-inomhus/2023-02-01/
LOCATION:Mellanhedsskolan\, Gyllebogången 1\, Malmö\, Skåne\, 217 73\, Sverige
CATEGORIES:GåBoll
ATTACH;FMTTYPE=image/jpeg:https://parkinsonskane.se/wp-content/uploads/2022/11/gaboll-kalendariet.jpg
END:VEVENT
BEGIN:VEVENT
DTSTART;TZID=Europe/Stockholm:20230208T190000
DTEND;TZID=Europe/Stockholm:20230208T200000
DTSTAMP:20260425T164306
CREATED:20221209T141019Z
LAST-MODIFIED:20230129T202235Z
UID:10005824-1675882800-1675886400@parkinsonskane.se
SUMMARY:Malmö har GåBoll inomhus
DESCRIPTION:GåBoll inomhus varje onsdag kl 19.00–20.00\nPlats: Mellanhedsskolan\, Gyllebogången 1 \nGåboll speciellt framtagen för personer med Parkinson. \nKlädsel: fritidskläder med gymnastikskor eller liknande.\nDeltagandet är kostnadsfritt.\nAnhöriga\, barn och barnbarn är välkomna. \nKom och pröva! Bli medlem i Parkinson Malmö Facebook för mer information.
URL:https://parkinsonskane.se/evenemang/malmo-har-gaboll-inomhus/2023-02-08/
LOCATION:Mellanhedsskolan\, Gyllebogången 1\, Malmö\, Skåne\, 217 73\, Sverige
CATEGORIES:GåBoll
ATTACH;FMTTYPE=image/jpeg:https://parkinsonskane.se/wp-content/uploads/2022/11/gaboll-kalendariet.jpg
END:VEVENT
BEGIN:VEVENT
DTSTART;TZID=Europe/Stockholm:20230215T190000
DTEND;TZID=Europe/Stockholm:20230215T200000
DTSTAMP:20260425T164306
CREATED:20221209T141019Z
LAST-MODIFIED:20230129T202235Z
UID:10005825-1676487600-1676491200@parkinsonskane.se
SUMMARY:Malmö har GåBoll inomhus
DESCRIPTION:GåBoll inomhus varje onsdag kl 19.00–20.00\nPlats: Mellanhedsskolan\, Gyllebogången 1 \nGåboll speciellt framtagen för personer med Parkinson. \nKlädsel: fritidskläder med gymnastikskor eller liknande.\nDeltagandet är kostnadsfritt.\nAnhöriga\, barn och barnbarn är välkomna. \nKom och pröva! Bli medlem i Parkinson Malmö Facebook för mer information.
URL:https://parkinsonskane.se/evenemang/malmo-har-gaboll-inomhus/2023-02-15/
LOCATION:Mellanhedsskolan\, Gyllebogången 1\, Malmö\, Skåne\, 217 73\, Sverige
CATEGORIES:GåBoll
ATTACH;FMTTYPE=image/jpeg:https://parkinsonskane.se/wp-content/uploads/2022/11/gaboll-kalendariet.jpg
END:VEVENT
END:VCALENDAR