BEGIN:VCALENDAR
VERSION:2.0
PRODID:-//Parkinson Skåne - ECPv6.15.20//NONSGML v1.0//EN
CALSCALE:GREGORIAN
METHOD:PUBLISH
X-WR-CALNAME:Parkinson Skåne
X-ORIGINAL-URL:https://parkinsonskane.se
X-WR-CALDESC:Händelser för Parkinson Skåne
REFRESH-INTERVAL;VALUE=DURATION:PT1H
X-Robots-Tag:noindex
X-PUBLISHED-TTL:PT1H
BEGIN:VTIMEZONE
TZID:Europe/Stockholm
BEGIN:DAYLIGHT
TZOFFSETFROM:+0100
TZOFFSETTO:+0200
TZNAME:CEST
DTSTART:20230326T010000
END:DAYLIGHT
BEGIN:STANDARD
TZOFFSETFROM:+0200
TZOFFSETTO:+0100
TZNAME:CET
DTSTART:20231029T010000
END:STANDARD
BEGIN:DAYLIGHT
TZOFFSETFROM:+0100
TZOFFSETTO:+0200
TZNAME:CEST
DTSTART:20240331T010000
END:DAYLIGHT
BEGIN:STANDARD
TZOFFSETFROM:+0200
TZOFFSETTO:+0100
TZNAME:CET
DTSTART:20241027T010000
END:STANDARD
BEGIN:DAYLIGHT
TZOFFSETFROM:+0100
TZOFFSETTO:+0200
TZNAME:CEST
DTSTART:20250330T010000
END:DAYLIGHT
BEGIN:STANDARD
TZOFFSETFROM:+0200
TZOFFSETTO:+0100
TZNAME:CET
DTSTART:20251026T010000
END:STANDARD
BEGIN:DAYLIGHT
TZOFFSETFROM:+0100
TZOFFSETTO:+0200
TZNAME:CEST
DTSTART:20260329T010000
END:DAYLIGHT
BEGIN:STANDARD
TZOFFSETFROM:+0200
TZOFFSETTO:+0100
TZNAME:CET
DTSTART:20261025T010000
END:STANDARD
BEGIN:DAYLIGHT
TZOFFSETFROM:+0100
TZOFFSETTO:+0200
TZNAME:CEST
DTSTART:20270328T010000
END:DAYLIGHT
BEGIN:STANDARD
TZOFFSETFROM:+0200
TZOFFSETTO:+0100
TZNAME:CET
DTSTART:20271031T010000
END:STANDARD
END:VTIMEZONE
BEGIN:VEVENT
DTSTART;TZID=Europe/Stockholm:20260316T170000
DTEND;TZID=Europe/Stockholm:20260316T183000
DTSTAMP:20260424T201957
CREATED:20260210T203932Z
LAST-MODIFIED:20260210T203932Z
UID:10012855-1773680400-1773685800@parkinsonskane.se
SUMMARY:Hässleholm har röstträning
DESCRIPTION:Träna din röststyrka med hjälp av sång \nVi erbjuder röstträning där sång används som ett verktyg för att stärka röst\, andning och uttryck. Kursen leds av kantor och körledare Joachim Nilsson och passar alla\, inga förkunskaper krävs. \nLedare: Kantor och körledare Joachim Nilsson\nPlats: Missionskyrkan i Vinslöv\nTid: kl. 17.00–18.30 \nDatum:\nMåndag 9/2\nMåndag 16/3\nOnsdag 29/4\nOnsdag 27/5\nMåndag 8/6 \nAvgift:\n300 kr för hela kursen\nEnstaka tillfälle: 60 kr/gång \nBetalas med Swish (QR-kod finns på plats). Märk betalningen med ”sång”. \nAnmälan:\nIngen föranmälan krävs.
URL:https://parkinsonskane.se/evenemang/hassleholm-har-rosttraning-2/
LOCATION:Missionskyrkan Vinslöv\, Södra Järnvägsgatan 19\, Vinslöv\, 288 31
CATEGORIES:Sång
ATTACH;FMTTYPE=image/jpeg:https://parkinsonskane.se/wp-content/uploads/2025/09/tal-sang.jpg
END:VEVENT
BEGIN:VEVENT
DTSTART;TZID=Europe/Stockholm:20251210T170000
DTEND;TZID=Europe/Stockholm:20251210T183000
DTSTAMP:20260424T201958
CREATED:20251124T141722Z
LAST-MODIFIED:20251124T141722Z
UID:10012295-1765386000-1765391400@parkinsonskane.se
SUMMARY:Hässleholm har röstträning och körsång i Vinslöv
DESCRIPTION:Nu startar röstträningen/körsången med kantor Joacim igen. Vi ses i Vinslövs missionskyrka kl. 17.00–18.30 följande datum: 8/10\, 19/11 och 10/12. Du som har Parkinson och du som är anhörig är lika välkomna – det är både nyttigt och väldigt roligt. Ingen föranmälan behövs. Kom som du är och var med! \nPlats: Vinslövs missionskyrka\nTid: 17.00–18.30\nDatum: 8/10\, 19/11\, 10/12\nAnmälan: Ingen – droppa in! \n 
URL:https://parkinsonskane.se/evenemang/hassleholm-har-rosttraning-och-korsang-i-vinslov-2-2/
LOCATION:Missionskyrkan Vinslöv\, Södra Järnvägsgatan 19\, Vinslöv\, 288 31
CATEGORIES:Sång
ATTACH;FMTTYPE=image/jpeg:https://parkinsonskane.se/wp-content/uploads/2025/09/tal-sang.jpg
END:VEVENT
BEGIN:VEVENT
DTSTART;TZID=Europe/Stockholm:20251119T170000
DTEND;TZID=Europe/Stockholm:20251119T183000
DTSTAMP:20260424T201958
CREATED:20251027T151853Z
LAST-MODIFIED:20251027T151853Z
UID:10012294-1763571600-1763577000@parkinsonskane.se
SUMMARY:Hässleholm har röstträning och körsång i Vinslöv
DESCRIPTION:Nu startar röstträningen/körsången med kantor Joacim igen. Vi ses i Vinslövs missionskyrka kl. 17.00–18.30 följande datum: 8/10\, 19/11 och 10/12. Du som har Parkinson och du som är anhörig är lika välkomna – det är både nyttigt och väldigt roligt. Ingen föranmälan behövs. Kom som du är och var med! \nPlats: Vinslövs missionskyrka\nTid: 17.00–18.30\nDatum: 8/10\, 19/11\, 10/12\nAnmälan: Ingen – droppa in! \n 
URL:https://parkinsonskane.se/evenemang/hassleholm-har-rosttraning-och-korsang-i-vinslov-2/2025-11-19/
LOCATION:Missionskyrkan Vinslöv\, Södra Järnvägsgatan 19\, Vinslöv\, 288 31
CATEGORIES:Sång
ATTACH;FMTTYPE=image/jpeg:https://parkinsonskane.se/wp-content/uploads/2025/09/tal-sang.jpg
END:VEVENT
BEGIN:VEVENT
DTSTART;TZID=Europe/Stockholm:20251008T170000
DTEND;TZID=Europe/Stockholm:20251008T183000
DTSTAMP:20260424T201958
CREATED:20250930T141024Z
LAST-MODIFIED:20250930T141024Z
UID:10012293-1759942800-1759948200@parkinsonskane.se
SUMMARY:Hässleholm har röstträning och körsång i Vinslöv
DESCRIPTION:Nu startar röstträningen/körsången med kantor Joacim igen. Vi ses i Vinslövs missionskyrka kl. 17.00–18.30 följande datum: 8/10\, 19/11 och 10/12. Du som har Parkinson och du som är anhörig är lika välkomna – det är både nyttigt och väldigt roligt. Ingen föranmälan behövs. Kom som du är och var med! \nPlats: Vinslövs missionskyrka\nTid: 17.00–18.30\nDatum: 8/10\, 19/11\, 10/12\nAnmälan: Ingen – droppa in! \n 
URL:https://parkinsonskane.se/evenemang/hassleholm-har-rosttraning-och-korsang-i-vinslov/
LOCATION:Missionskyrkan Vinslöv\, Södra Järnvägsgatan 19\, Vinslöv\, 288 31
CATEGORIES:Sång
ATTACH;FMTTYPE=image/jpeg:https://parkinsonskane.se/wp-content/uploads/2025/09/tal-sang.jpg
END:VEVENT
BEGIN:VEVENT
DTSTART;TZID=Europe/Stockholm:20250129T173000
DTEND;TZID=Europe/Stockholm:20250129T190000
DTSTAMP:20260424T201958
CREATED:20250113T123430Z
LAST-MODIFIED:20250213T143231Z
UID:10011295-1738171800-1738177200@parkinsonskane.se
SUMMARY:Hässleholm har röstträning. "Träna din röststyrka med hjälp av sång"
DESCRIPTION:Kantor och körledare Joachim Nilsson. \nPlats: Missionskyrkan Vinslöv \nStart: onsdagen 29 januari 17.30 – 19.00\nonsdagen 12 februari 17.30 – 19.00 \nFler tider kommer senare.
URL:https://parkinsonskane.se/evenemang/hassleholm-har-rosttraning/2025-01-29/
LOCATION:Missionskyrkan Vinslöv\, Södra Järnvägsgatan 19\, Vinslöv\, 288 31
CATEGORIES:Sång
ATTACH;FMTTYPE=image/jpeg:https://parkinsonskane.se/wp-content/uploads/2023/07/sjunga.jpg
END:VEVENT
BEGIN:VEVENT
DTSTART;TZID=Europe/Stockholm:20250212T173000
DTEND;TZID=Europe/Stockholm:20250212T190000
DTSTAMP:20260424T201958
CREATED:20250113T123430Z
LAST-MODIFIED:20250213T143231Z
UID:10011580-1739381400-1739386800@parkinsonskane.se
SUMMARY:Hässleholm har röstträning. "Träna din röststyrka med hjälp av sång"
DESCRIPTION:Kantor och körledare Joachim Nilsson. \nPlats: Missionskyrkan Vinslöv \nStart: onsdagen 29 januari 17.30 – 19.00\nonsdagen 12 februari 17.30 – 19.00 \nFler tider kommer senare.
URL:https://parkinsonskane.se/evenemang/hassleholm-har-rosttraning/2025-02-12/
LOCATION:Missionskyrkan Vinslöv\, Södra Järnvägsgatan 19\, Vinslöv\, 288 31
CATEGORIES:Sång
ATTACH;FMTTYPE=image/jpeg:https://parkinsonskane.se/wp-content/uploads/2023/07/sjunga.jpg
END:VEVENT
BEGIN:VEVENT
DTSTART;TZID=Europe/Stockholm:20241121T173000
DTEND;TZID=Europe/Stockholm:20241121T190000
DTSTAMP:20260424T201958
CREATED:20241118T161025Z
LAST-MODIFIED:20241118T161254Z
UID:10011116-1732210200-1732215600@parkinsonskane.se
SUMMARY:Hässleholm har sångövning
DESCRIPTION:Vi har röstträning/sångövning torsdagen den 21 november kl. 17.30–19.00 i Vinslövs Missionskyrka. \n  \n 
URL:https://parkinsonskane.se/evenemang/hassleholm-har-sangovning/
LOCATION:Missionskyrkan Vinslöv\, Södra Järnvägsgatan 19\, Vinslöv\, 288 31
CATEGORIES:Sång
ATTACH;FMTTYPE=image/jpeg:https://parkinsonskane.se/wp-content/uploads/2023/07/sjunga.jpg
END:VEVENT
BEGIN:VEVENT
DTSTART;TZID=Europe/Stockholm:20240515T170000
DTEND;TZID=Europe/Stockholm:20240515T190000
DTSTAMP:20260424T201958
CREATED:20240510T093336Z
LAST-MODIFIED:20240510T093336Z
UID:10010322-1715792400-1715799600@parkinsonskane.se
SUMMARY:Hässleholm har sångträning
DESCRIPTION:Hej medlem i Parkinson Hässleholm! \nNu är tiderna för aktiviteten ”Röststyrka med hjälp av sång” med kantor/körledare Joachim Nilsson bokade. \nOnsdagarna den 10 april\, 24 april\, 15 maj och 29 maj\, klockan 17-19 träffas vi i Missionskyrka i Vinslöv\, Södra Järnvägsgatan 19. \nVi värmer upp rösten\, tränar olika muskler i mun och svalg och sjunger några härliga sånger tillsammans. Det handlar alltså inte om skönsång och att sjunga vackert utan om att stärka muskulaturen runt svalget… \nAlla medlemmar är välkomna! \nFrågor och anmälan till: Eva Persson\, hej.evap@gmail.com eller telefon 0734 22 23 76
URL:https://parkinsonskane.se/evenemang/hassleholm-har-sangtraning-2/2024-05-15/
LOCATION:Missionskyrkan Vinslöv\, Södra Järnvägsgatan 19\, Vinslöv\, 288 31
CATEGORIES:Sång
ATTACH;FMTTYPE=image/jpeg:https://parkinsonskane.se/wp-content/uploads/2023/07/sjunga.jpg
END:VEVENT
BEGIN:VEVENT
DTSTART;TZID=Europe/Stockholm:20240529T170000
DTEND;TZID=Europe/Stockholm:20240529T190000
DTSTAMP:20260424T201958
CREATED:20240510T093336Z
LAST-MODIFIED:20240510T093336Z
UID:10010323-1717002000-1717009200@parkinsonskane.se
SUMMARY:Hässleholm har sångträning
DESCRIPTION:Hej medlem i Parkinson Hässleholm! \nNu är tiderna för aktiviteten ”Röststyrka med hjälp av sång” med kantor/körledare Joachim Nilsson bokade. \nOnsdagarna den 10 april\, 24 april\, 15 maj och 29 maj\, klockan 17-19 träffas vi i Missionskyrka i Vinslöv\, Södra Järnvägsgatan 19. \nVi värmer upp rösten\, tränar olika muskler i mun och svalg och sjunger några härliga sånger tillsammans. Det handlar alltså inte om skönsång och att sjunga vackert utan om att stärka muskulaturen runt svalget… \nAlla medlemmar är välkomna! \nFrågor och anmälan till: Eva Persson\, hej.evap@gmail.com eller telefon 0734 22 23 76
URL:https://parkinsonskane.se/evenemang/hassleholm-har-sangtraning-2/2024-05-29/
LOCATION:Missionskyrkan Vinslöv\, Södra Järnvägsgatan 19\, Vinslöv\, 288 31
CATEGORIES:Sång
ATTACH;FMTTYPE=image/jpeg:https://parkinsonskane.se/wp-content/uploads/2023/07/sjunga.jpg
END:VEVENT
BEGIN:VEVENT
DTSTART;TZID=Europe/Stockholm:20240410T170000
DTEND;TZID=Europe/Stockholm:20240410T190000
DTSTAMP:20260424T201958
CREATED:20240325T160247Z
LAST-MODIFIED:20240325T160247Z
UID:10010320-1712768400-1712775600@parkinsonskane.se
SUMMARY:Hässleholm har sångträning
DESCRIPTION:Hej medlem i Parkinson Hässleholm! \nNu är tiderna för aktiviteten ”Röststyrka med hjälp av sång” med kantor/körledare Joachim Nilsson bokade. \nOnsdagarna den 10 april\, 24 april\, 15 maj och 29 maj\, klockan 17-19 träffas vi i Missionskyrka i Vinslöv\, Södra Järnvägsgatan 19. \nVi värmer upp rösten\, tränar olika muskler i mun och svalg och sjunger några härliga sånger tillsammans. Det handlar alltså inte om skönsång och att sjunga vackert utan om att stärka muskulaturen runt svalget… \nAlla medlemmar är välkomna! \nFrågor och anmälan till: Eva Persson\, hej.evap@gmail.com eller telefon 0734 22 23 76
URL:https://parkinsonskane.se/evenemang/hassleholm-har-sangtraning/2024-04-10/
LOCATION:Missionskyrkan Vinslöv\, Södra Järnvägsgatan 19\, Vinslöv\, 288 31
CATEGORIES:Sång
ATTACH;FMTTYPE=image/jpeg:https://parkinsonskane.se/wp-content/uploads/2023/07/sjunga.jpg
END:VEVENT
BEGIN:VEVENT
DTSTART;TZID=Europe/Stockholm:20240424T170000
DTEND;TZID=Europe/Stockholm:20240424T190000
DTSTAMP:20260424T201958
CREATED:20240325T160247Z
LAST-MODIFIED:20240325T160247Z
UID:10010321-1713978000-1713985200@parkinsonskane.se
SUMMARY:Hässleholm har sångträning
DESCRIPTION:Hej medlem i Parkinson Hässleholm! \nNu är tiderna för aktiviteten ”Röststyrka med hjälp av sång” med kantor/körledare Joachim Nilsson bokade. \nOnsdagarna den 10 april\, 24 april\, 15 maj och 29 maj\, klockan 17-19 träffas vi i Missionskyrka i Vinslöv\, Södra Järnvägsgatan 19. \nVi värmer upp rösten\, tränar olika muskler i mun och svalg och sjunger några härliga sånger tillsammans. Det handlar alltså inte om skönsång och att sjunga vackert utan om att stärka muskulaturen runt svalget… \nAlla medlemmar är välkomna! \nFrågor och anmälan till: Eva Persson\, hej.evap@gmail.com eller telefon 0734 22 23 76
URL:https://parkinsonskane.se/evenemang/hassleholm-har-sangtraning/2024-04-24/
LOCATION:Missionskyrkan Vinslöv\, Södra Järnvägsgatan 19\, Vinslöv\, 288 31
CATEGORIES:Sång
ATTACH;FMTTYPE=image/jpeg:https://parkinsonskane.se/wp-content/uploads/2023/07/sjunga.jpg
END:VEVENT
END:VCALENDAR