BEGIN:VCALENDAR
VERSION:2.0
PRODID:-//Parkinson Skåne - ECPv6.15.20//NONSGML v1.0//EN
CALSCALE:GREGORIAN
METHOD:PUBLISH
X-ORIGINAL-URL:https://parkinsonskane.se
X-WR-CALDESC:Händelser för Parkinson Skåne
REFRESH-INTERVAL;VALUE=DURATION:PT1H
X-Robots-Tag:noindex
X-PUBLISHED-TTL:PT1H
BEGIN:VTIMEZONE
TZID:Europe/Stockholm
BEGIN:DAYLIGHT
TZOFFSETFROM:+0100
TZOFFSETTO:+0200
TZNAME:CEST
DTSTART:20250330T010000
END:DAYLIGHT
BEGIN:STANDARD
TZOFFSETFROM:+0200
TZOFFSETTO:+0100
TZNAME:CET
DTSTART:20251026T010000
END:STANDARD
BEGIN:DAYLIGHT
TZOFFSETFROM:+0100
TZOFFSETTO:+0200
TZNAME:CEST
DTSTART:20260329T010000
END:DAYLIGHT
BEGIN:STANDARD
TZOFFSETFROM:+0200
TZOFFSETTO:+0100
TZNAME:CET
DTSTART:20261025T010000
END:STANDARD
BEGIN:DAYLIGHT
TZOFFSETFROM:+0100
TZOFFSETTO:+0200
TZNAME:CEST
DTSTART:20270328T010000
END:DAYLIGHT
BEGIN:STANDARD
TZOFFSETFROM:+0200
TZOFFSETTO:+0100
TZNAME:CET
DTSTART:20271031T010000
END:STANDARD
END:VTIMEZONE
BEGIN:VEVENT
DTSTART;TZID=Europe/Stockholm:20260504T170000
DTEND;TZID=Europe/Stockholm:20260504T183000
DTSTAMP:20260424T185157
CREATED:20260421T160209Z
LAST-MODIFIED:20260421T160438Z
UID:10013021-1777914000-1777919400@parkinsonskane.se
SUMMARY:Hässleholm har röstträning
DESCRIPTION:Träna din röststyrka med hjälp av sång \nVi erbjuder röstträning där sång används som ett verktyg för att stärka röst\, andning och uttryck. Kursen leds av kantor och körledare Joachim Nilsson och passar alla\, inga förkunskaper krävs. \nRöstträningen 29 april är flyttad till måndag 4 maj\, samma tid och plats. Därefter onsdag 27 maj och måndag 8 juni. \nLedare: Kantor och körledare Joachim Nilsson\nPlats: Missionskyrkan i Vinslöv\nTid: kl. 17.00–18.30 \nDatum:\nMåndag 9/2\nMåndag 16/3\nOnsdag 29/4 Måndag 4/5\nOnsdag 27/5\nMåndag 8/6 \nAvgift:\n300 kr för hela kursen\nEnstaka tillfälle: 60 kr/gång \nBetalas med Swish (QR-kod finns på plats). Märk betalningen med ”sång”. \nAnmälan:\nIngen föranmälan krävs.
URL:https://parkinsonskane.se/evenemang/hassleholm-har-rosttraning-2-2/2026-05-04/
LOCATION:Missionskyrkan Vinslöv\, Södra Järnvägsgatan 19\, Vinslöv\, 288 31
CATEGORIES:Sång
ATTACH;FMTTYPE=image/jpeg:https://parkinsonskane.se/wp-content/uploads/2025/09/tal-sang.jpg
END:VEVENT
BEGIN:VEVENT
DTSTART;TZID=Europe/Stockholm:20260527T170000
DTEND;TZID=Europe/Stockholm:20260527T183000
DTSTAMP:20260424T185157
CREATED:20260421T160209Z
LAST-MODIFIED:20260421T160438Z
UID:10012857-1779901200-1779906600@parkinsonskane.se
SUMMARY:Hässleholm har röstträning
DESCRIPTION:Träna din röststyrka med hjälp av sång \nVi erbjuder röstträning där sång används som ett verktyg för att stärka röst\, andning och uttryck. Kursen leds av kantor och körledare Joachim Nilsson och passar alla\, inga förkunskaper krävs. \nRöstträningen 29 april är flyttad till måndag 4 maj\, samma tid och plats. Därefter onsdag 27 maj och måndag 8 juni. \nLedare: Kantor och körledare Joachim Nilsson\nPlats: Missionskyrkan i Vinslöv\nTid: kl. 17.00–18.30 \nDatum:\nMåndag 9/2\nMåndag 16/3\nOnsdag 29/4 Måndag 4/5\nOnsdag 27/5\nMåndag 8/6 \nAvgift:\n300 kr för hela kursen\nEnstaka tillfälle: 60 kr/gång \nBetalas med Swish (QR-kod finns på plats). Märk betalningen med ”sång”. \nAnmälan:\nIngen föranmälan krävs.
URL:https://parkinsonskane.se/evenemang/hassleholm-har-rosttraning-2-2/2026-05-27/
LOCATION:Missionskyrkan Vinslöv\, Södra Järnvägsgatan 19\, Vinslöv\, 288 31
CATEGORIES:Sång
ATTACH;FMTTYPE=image/jpeg:https://parkinsonskane.se/wp-content/uploads/2025/09/tal-sang.jpg
END:VEVENT
BEGIN:VEVENT
DTSTART;TZID=Europe/Stockholm:20260608T080000
DTEND;TZID=Europe/Stockholm:20260608T170000
DTSTAMP:20260424T185157
CREATED:20260421T160209Z
LAST-MODIFIED:20260421T160438Z
UID:10012858-1780905600-1780938000@parkinsonskane.se
SUMMARY:Hässleholm har röstträning
DESCRIPTION:Träna din röststyrka med hjälp av sång \nVi erbjuder röstträning där sång används som ett verktyg för att stärka röst\, andning och uttryck. Kursen leds av kantor och körledare Joachim Nilsson och passar alla\, inga förkunskaper krävs. \nRöstträningen 29 april är flyttad till måndag 4 maj\, samma tid och plats. Därefter onsdag 27 maj och måndag 8 juni. \nLedare: Kantor och körledare Joachim Nilsson\nPlats: Missionskyrkan i Vinslöv\nTid: kl. 17.00–18.30 \nDatum:\nMåndag 9/2\nMåndag 16/3\nOnsdag 29/4 Måndag 4/5\nOnsdag 27/5\nMåndag 8/6 \nAvgift:\n300 kr för hela kursen\nEnstaka tillfälle: 60 kr/gång \nBetalas med Swish (QR-kod finns på plats). Märk betalningen med ”sång”. \nAnmälan:\nIngen föranmälan krävs.
URL:https://parkinsonskane.se/evenemang/hassleholm-har-rosttraning-2-2/2026-06-08/
LOCATION:Missionskyrkan Vinslöv\, Södra Järnvägsgatan 19\, Vinslöv\, 288 31
CATEGORIES:Sång
ATTACH;FMTTYPE=image/jpeg:https://parkinsonskane.se/wp-content/uploads/2025/09/tal-sang.jpg
END:VEVENT
END:VCALENDAR