BEGIN:VCALENDAR
VERSION:2.0
PRODID:-//Parkinson Skåne - ECPv6.15.20//NONSGML v1.0//EN
CALSCALE:GREGORIAN
METHOD:PUBLISH
X-WR-CALNAME:Parkinson Skåne
X-ORIGINAL-URL:https://parkinsonskane.se
X-WR-CALDESC:Händelser för Parkinson Skåne
REFRESH-INTERVAL;VALUE=DURATION:PT1H
X-Robots-Tag:noindex
X-PUBLISHED-TTL:PT1H
BEGIN:VTIMEZONE
TZID:Europe/Stockholm
BEGIN:DAYLIGHT
TZOFFSETFROM:+0100
TZOFFSETTO:+0200
TZNAME:CEST
DTSTART:20240331T010000
END:DAYLIGHT
BEGIN:STANDARD
TZOFFSETFROM:+0200
TZOFFSETTO:+0100
TZNAME:CET
DTSTART:20241027T010000
END:STANDARD
BEGIN:DAYLIGHT
TZOFFSETFROM:+0100
TZOFFSETTO:+0200
TZNAME:CEST
DTSTART:20250330T010000
END:DAYLIGHT
BEGIN:STANDARD
TZOFFSETFROM:+0200
TZOFFSETTO:+0100
TZNAME:CET
DTSTART:20251026T010000
END:STANDARD
BEGIN:DAYLIGHT
TZOFFSETFROM:+0100
TZOFFSETTO:+0200
TZNAME:CEST
DTSTART:20260329T010000
END:DAYLIGHT
BEGIN:STANDARD
TZOFFSETFROM:+0200
TZOFFSETTO:+0100
TZNAME:CET
DTSTART:20261025T010000
END:STANDARD
END:VTIMEZONE
BEGIN:VEVENT
DTSTART;TZID=Europe/Stockholm:20250819T122000
DTEND;TZID=Europe/Stockholm:20250819T150000
DTSTAMP:20260424T230559
CREATED:20250808T134244Z
LAST-MODIFIED:20250808T134244Z
UID:10011992-1755606000-1755615600@parkinsonskane.se
SUMMARY:Helsingborg turar med Tycho Brahe
DESCRIPTION:Vi förstärker semesterkänslan med en tura över sundet ombord på Tycho Brahe-färjan. \nPlats: Samling vid Öresundslinjens terminal\, Knutpunkten i HelsingborgTid: Tisdagen den 19 augusti. Vi ses kl. 12.20. Båten avgår kl. 12.40. \nBuffé och dryckBuffén kostar 149 kr\, men föreningen sponsrar med 80 kr – du betalar alltså 69 kr.Dryckespaket (vin\, öl\, läsk\, vatten i önskad mängd) kostar 109 kr och måste beställas i förväg. \nKostnad69 kr – endast mat178 kr – mat och dryckespaket \nAnmälan senast 12 augustiAnmäl dig till gullvie@telia.com och swisha din betalning till Gullvie på 0705-424174.
URL:https://parkinsonskane.se/evenemang/helsingborg-turar-med-tycho-brahe/
LOCATION:Öresundslinjen\, Knutpunkten 43\, Helsingborg\, 252 78
CATEGORIES:Utflykt
ATTACH;FMTTYPE=image/jpeg:https://parkinsonskane.se/wp-content/uploads/2022/11/tura.jpg
END:VEVENT
END:VCALENDAR