BEGIN:VCALENDAR
VERSION:2.0
PRODID:-//Parkinson Skåne - ECPv6.15.20//NONSGML v1.0//EN
CALSCALE:GREGORIAN
METHOD:PUBLISH
X-ORIGINAL-URL:https://parkinsonskane.se
X-WR-CALDESC:Händelser för Parkinson Skåne
REFRESH-INTERVAL;VALUE=DURATION:PT1H
X-Robots-Tag:noindex
X-PUBLISHED-TTL:PT1H
BEGIN:VTIMEZONE
TZID:Europe/Stockholm
BEGIN:DAYLIGHT
TZOFFSETFROM:+0100
TZOFFSETTO:+0200
TZNAME:CEST
DTSTART:20230326T010000
END:DAYLIGHT
BEGIN:STANDARD
TZOFFSETFROM:+0200
TZOFFSETTO:+0100
TZNAME:CET
DTSTART:20231029T010000
END:STANDARD
BEGIN:DAYLIGHT
TZOFFSETFROM:+0100
TZOFFSETTO:+0200
TZNAME:CEST
DTSTART:20240331T010000
END:DAYLIGHT
BEGIN:STANDARD
TZOFFSETFROM:+0200
TZOFFSETTO:+0100
TZNAME:CET
DTSTART:20241027T010000
END:STANDARD
BEGIN:DAYLIGHT
TZOFFSETFROM:+0100
TZOFFSETTO:+0200
TZNAME:CEST
DTSTART:20250330T010000
END:DAYLIGHT
BEGIN:STANDARD
TZOFFSETFROM:+0200
TZOFFSETTO:+0100
TZNAME:CET
DTSTART:20251026T010000
END:STANDARD
BEGIN:DAYLIGHT
TZOFFSETFROM:+0100
TZOFFSETTO:+0200
TZNAME:CEST
DTSTART:20260329T010000
END:DAYLIGHT
BEGIN:STANDARD
TZOFFSETFROM:+0200
TZOFFSETTO:+0100
TZNAME:CET
DTSTART:20261025T010000
END:STANDARD
BEGIN:DAYLIGHT
TZOFFSETFROM:+0100
TZOFFSETTO:+0200
TZNAME:CEST
DTSTART:20270328T010000
END:DAYLIGHT
BEGIN:STANDARD
TZOFFSETFROM:+0200
TZOFFSETTO:+0100
TZNAME:CET
DTSTART:20271031T010000
END:STANDARD
END:VTIMEZONE
BEGIN:VEVENT
DTSTART;TZID=Europe/Stockholm:20260424T110000
DTEND;TZID=Europe/Stockholm:20260424T140000
DTSTAMP:20260424T214554
CREATED:20260109T174258Z
LAST-MODIFIED:20260109T174258Z
UID:10012525-1777028400-1777039200@parkinsonskane.se
SUMMARY:Eslöv har vårutflykt till Rövarekulan
DESCRIPTION:Eslöv har utflykt fredagen den 24 april kl. 11.00–14.00 till Rövarekulan. \nVi möter våren i naturreservatet och aktiverar oss innan korvgrillning. Ta med något att dricka och något att sitta på. \nSamling för samåkning sker kl. 11.00. \nPlats:\nRövarekulan\, samling Karlsrobadets parkering\, Eslöv \nKontakt och anmälan:\nFöranmälan till Karin Larsson\, 076-844 31 04\, senast tisdagen den 21 april
URL:https://parkinsonskane.se/evenemang/eslov-har-varutflykt-till-rovarekulan/
LOCATION:Rövarekulan\, Rolsberga\, Höör\, Skåne\, 243 95\, Sverige
CATEGORIES:Utflykt
ATTACH;FMTTYPE=image/jpeg:https://parkinsonskane.se/wp-content/uploads/2022/11/Rovarekulan.jpg
END:VEVENT
BEGIN:VEVENT
DTSTART;TZID=Europe/Stockholm:20250425T110000
DTEND;TZID=Europe/Stockholm:20250425T140000
DTSTAMP:20260424T214554
CREATED:20250108T131732Z
LAST-MODIFIED:20250108T131732Z
UID:10011291-1745578800-1745589600@parkinsonskane.se
SUMMARY:Eslöv har utflykt till Rövarekulan
DESCRIPTION:Utflykt fredagen den 25 april kl 11-14 till Rövarekulan. Förhoppningsvis blir det bättre väder den här gången.\nNaturligtvis grillar vi korv och det enda du behöver ta med dig är något att dricka och kanske något att sitta på. \nSamling för samåkning från Karlsrobadets parkering kl 11. \nFöranmälan till Karin Larsson\, 076-844 31 04 senast tisdagen den 22 april.
URL:https://parkinsonskane.se/evenemang/eslov-har-utflykt-till-rovarekulan-2/
LOCATION:Rövarekulan\, Rolsberga\, Höör\, Skåne\, 243 95\, Sverige
CATEGORIES:Utflykt
ATTACH;FMTTYPE=image/jpeg:https://parkinsonskane.se/wp-content/uploads/2022/11/Rovarekulan.jpg
END:VEVENT
BEGIN:VEVENT
DTSTART;TZID=Europe/Stockholm:20240419T110000
DTEND;TZID=Europe/Stockholm:20240419T140000
DTSTAMP:20260424T214554
CREATED:20240402T084258Z
LAST-MODIFIED:20240501T195114Z
UID:10010324-1713524400-1713535200@parkinsonskane.se
SUMMARY:Eslöv har utflykt till Rövarekulan
DESCRIPTION:Utflykt fredagen den 19 april kl 11-14. Då har nog våren kommit till Rövarekulan! \nSamling för samåkning från Karlsrobadets parkering kl 11. \nFöranmälan till Karin Larsson\, 076-844 31 04 senast måndagen den 15 april.  \nNaturligtvis grillar vi korv så det enda du behöver ta med dig är något att dricka.
URL:https://parkinsonskane.se/evenemang/eslov-har-utflykt-till-rovarekulan/
LOCATION:Rövarekulan\, Rolsberga\, Höör\, Skåne\, 243 95\, Sverige
CATEGORIES:Utflykt
ATTACH;FMTTYPE=image/jpeg:https://parkinsonskane.se/wp-content/uploads/2022/11/Rovarekulan.jpg
END:VEVENT
END:VCALENDAR