BEGIN:VCALENDAR
VERSION:2.0
PRODID:-//Parkinson Skåne - ECPv6.15.20//NONSGML v1.0//EN
CALSCALE:GREGORIAN
METHOD:PUBLISH
X-WR-CALNAME:Parkinson Skåne
X-ORIGINAL-URL:https://parkinsonskane.se
X-WR-CALDESC:Händelser för Parkinson Skåne
REFRESH-INTERVAL;VALUE=DURATION:PT1H
X-Robots-Tag:noindex
X-PUBLISHED-TTL:PT1H
BEGIN:VTIMEZONE
TZID:Europe/Stockholm
BEGIN:DAYLIGHT
TZOFFSETFROM:+0100
TZOFFSETTO:+0200
TZNAME:CEST
DTSTART:20230326T010000
END:DAYLIGHT
BEGIN:STANDARD
TZOFFSETFROM:+0200
TZOFFSETTO:+0100
TZNAME:CET
DTSTART:20231029T010000
END:STANDARD
BEGIN:DAYLIGHT
TZOFFSETFROM:+0100
TZOFFSETTO:+0200
TZNAME:CEST
DTSTART:20240331T010000
END:DAYLIGHT
BEGIN:STANDARD
TZOFFSETFROM:+0200
TZOFFSETTO:+0100
TZNAME:CET
DTSTART:20241027T010000
END:STANDARD
BEGIN:DAYLIGHT
TZOFFSETFROM:+0100
TZOFFSETTO:+0200
TZNAME:CEST
DTSTART:20250330T010000
END:DAYLIGHT
BEGIN:STANDARD
TZOFFSETFROM:+0200
TZOFFSETTO:+0100
TZNAME:CET
DTSTART:20251026T010000
END:STANDARD
BEGIN:DAYLIGHT
TZOFFSETFROM:+0100
TZOFFSETTO:+0200
TZNAME:CEST
DTSTART:20260329T010000
END:DAYLIGHT
BEGIN:STANDARD
TZOFFSETFROM:+0200
TZOFFSETTO:+0100
TZNAME:CET
DTSTART:20261025T010000
END:STANDARD
END:VTIMEZONE
BEGIN:VEVENT
DTSTART;TZID=Europe/Stockholm:20250912T110000
DTEND;TZID=Europe/Stockholm:20250912T140000
DTSTAMP:20260424T231154
CREATED:20250730T224257Z
LAST-MODIFIED:20250730T224257Z
UID:10011790-1757674800-1757685600@parkinsonskane.se
SUMMARY:Eslöv har utflykt till Skryllegården
DESCRIPTION:Följ med på en höstutflykt till Skryllegården i Södra Sandby! Vi tar en gemensam promenad på lättframkomliga stigar – även anpassade för rollator. \nTorsdag 12 september kl. 11.00–14.00 \nEfter promenaden äter vi lunch i restaurangen.\nVar och en betalar sin egen lunch. \nSamling för samåkning:\nKl. 11.00 på Karlsrobadets parkering i Eslöv.\nMeddela om du hellre kör direkt till Skrylle. \nFöranmälan senast fredag 5 september till:\nKarin Larsson\, 076-844 31 04 \nVälkommen!
URL:https://parkinsonskane.se/evenemang/eslov-har-utflykt-till-skryllegarden-2/
LOCATION:Skrylle naturreservat\, Hardeberga 161\, Södra Sandby\, Skåne\, 247 91\, Sverige
CATEGORIES:Utflykt
ATTACH;FMTTYPE=image/jpeg:https://parkinsonskane.se/wp-content/uploads/2022/11/Naturreservat_Skrylle.jpg
END:VEVENT
BEGIN:VEVENT
DTSTART;TZID=Europe/Stockholm:20240920T110000
DTEND;TZID=Europe/Stockholm:20240920T140000
DTSTAMP:20260424T231154
CREATED:20240711T124753Z
LAST-MODIFIED:20240711T124840Z
UID:10010590-1726830000-1726840800@parkinsonskane.se
SUMMARY:Eslöv har utflykt till Skryllegården
DESCRIPTION:Utflykt till Skryllegården i Södra Sandby den 20 september kl 11. \nVi tar en promenad på stigar anpassade för rollatorframfart. Därefter avnjuter vi gemensam lunch i restaurangen. \nFöranmälan till Karin Larsson\, 076-844 31 04 senast fredagen den 13 september. \nSamling för samåkning på Karlsrobadets parkering kl 11. Meddela om du kör direkt till Skrylle.
URL:https://parkinsonskane.se/evenemang/eslov-har-utflykt-till-skryllegarden/
LOCATION:Skrylle naturreservat\, Hardeberga 161\, Södra Sandby\, Skåne\, 247 91\, Sverige
CATEGORIES:Utflykt
ATTACH;FMTTYPE=image/jpeg:https://parkinsonskane.se/wp-content/uploads/2022/11/Naturreservat_Skrylle.jpg
END:VEVENT
BEGIN:VEVENT
DTSTART;TZID=Europe/Stockholm:20240516T124500
DTEND;TZID=Europe/Stockholm:20240516T150000
DTSTAMP:20260424T231154
CREATED:20240119T171509Z
LAST-MODIFIED:20240119T171748Z
UID:10009866-1715863500-1715871600@parkinsonskane.se
SUMMARY:Lund har guidad visning i Stadsparken
DESCRIPTION:Torsdagen den 16 maj träffas vi i Stadsparken för en guidad visning! \nStadsparken ligger idag som en grön oas mitt i staden. Den nuvarande Stadsparken anlades åren 1907-1911 och låg då i stadens utkant. Det var dåvarande stadsträdgårdsmästare Johannes Ekberg som fick i uppdrag att utforma och anlägga parken. \nParkens historia går dock mycket längre tillbaka i tiden. Dess äldsta del är stadsvallen\, Högevall (jfr Högevallsbadet)\, som än i dag löper genom hela parken. Den kom till på 1300-talet och fungerade då som som en befästningsvall. \nSamling vid Stadsparkscaféet kl. 12.45\, visningen börjar 13.00. OBS tiden! \nEfter visningen bjuder föreningen på fika på Stadsparkscaféet. \nAnmälan om deltagande senast den 8 maj till Lisa Engström: engstrom3741@gmail.com eller telefon: 070-699 69 72. \nVälkomna!
URL:https://parkinsonskane.se/evenemang/lund-har-guidad-visning-i-stadsparken/
LOCATION:Skrylle naturreservat\, Hardeberga 161\, Södra Sandby\, Skåne\, 247 91\, Sverige
CATEGORIES:Medlemsträff
ATTACH;FMTTYPE=image/jpeg:https://parkinsonskane.se/wp-content/uploads/2024/01/lund-stadsparken-var.jpg
END:VEVENT
BEGIN:VEVENT
DTSTART;TZID=Europe/Stockholm:20240613T130000
DTEND;TZID=Europe/Stockholm:20240613T150000
DTSTAMP:20260424T231154
CREATED:20240119T163752Z
LAST-MODIFIED:20240119T163752Z
UID:10009865-1718283600-1718290800@parkinsonskane.se
SUMMARY:Lund har utflykt till Skryllegården
DESCRIPTION:Torsdagen den 13 juni möter vi sommaren på Skryllegården! \nSkryllegården är södra Sveriges största friluftsområde. Här hittar du alltid något du kan göra. \nVi träffas vid restaurangen kl. 13.00 för att ta del av deras motionsspår (för de som önskar). Var och en väljer det spår man vill gå. Föreningen har valt 3 km och 1\,2 km-spåren. Det kommer finnas någon på varje spår som vet hur man går för att komma till utgångspunkten och kan även rycka in om något oväntat händer. \nEfter väl förrättat värv bjuder föreningen på grillad korv med dryck. \nTill Skryllegården tar man ta sig med egen bil\, samåkning\, färdtjänst etc. Tidigare har Skånetrafiken (mellan mars och juni) kört från Bangatan (utanför Malmborgs) i Lund med ”Naturbussen”\, linje nr 159 till Skryllegården. Gå in på Skånetrafikens hemsida för mer information om tider mm. \nAnmälan om deltagande senast den 7 juni till Lisa Engström: engstrom3741@gmail.com eller telefon: 070-699 69 72. \nVälkomna!
URL:https://parkinsonskane.se/evenemang/lund-har-utflykt-till-skryllegarden/
LOCATION:Skrylle naturreservat\, Hardeberga 161\, Södra Sandby\, Skåne\, 247 91\, Sverige
CATEGORIES:Medlemsträff
ATTACH;FMTTYPE=image/jpeg:https://parkinsonskane.se/wp-content/uploads/2024/01/skrylle1.jpg
END:VEVENT
END:VCALENDAR