BEGIN:VCALENDAR
VERSION:2.0
PRODID:-//Parkinson Skåne - ECPv6.15.20//NONSGML v1.0//EN
CALSCALE:GREGORIAN
METHOD:PUBLISH
X-ORIGINAL-URL:https://parkinsonskane.se
X-WR-CALDESC:Händelser för Parkinson Skåne
REFRESH-INTERVAL;VALUE=DURATION:PT1H
X-Robots-Tag:noindex
X-PUBLISHED-TTL:PT1H
BEGIN:VTIMEZONE
TZID:Europe/Stockholm
BEGIN:DAYLIGHT
TZOFFSETFROM:+0100
TZOFFSETTO:+0200
TZNAME:CEST
DTSTART:20250330T010000
END:DAYLIGHT
BEGIN:STANDARD
TZOFFSETFROM:+0200
TZOFFSETTO:+0100
TZNAME:CET
DTSTART:20251026T010000
END:STANDARD
BEGIN:DAYLIGHT
TZOFFSETFROM:+0100
TZOFFSETTO:+0200
TZNAME:CEST
DTSTART:20260329T010000
END:DAYLIGHT
BEGIN:STANDARD
TZOFFSETFROM:+0200
TZOFFSETTO:+0100
TZNAME:CET
DTSTART:20261025T010000
END:STANDARD
BEGIN:DAYLIGHT
TZOFFSETFROM:+0100
TZOFFSETTO:+0200
TZNAME:CEST
DTSTART:20270328T010000
END:DAYLIGHT
BEGIN:STANDARD
TZOFFSETFROM:+0200
TZOFFSETTO:+0100
TZNAME:CET
DTSTART:20271031T010000
END:STANDARD
END:VTIMEZONE
BEGIN:VEVENT
DTSTART;TZID=Europe/Stockholm:20260611T110000
DTEND;TZID=Europe/Stockholm:20260611T150000
DTSTAMP:20260424T231026
CREATED:20260313T134705Z
LAST-MODIFIED:20260313T134705Z
UID:10012988-1781175600-1781190000@parkinsonskane.se
SUMMARY:Lund har utflykt till Skrylle – Naturum och korvgrillning
DESCRIPTION:Följ med på en utflykt till Skrylle\, Lunds största natur- och friluftsområde med vacker skog\, vandringsstigar och rika naturupplevelser. \nVi börjar vid Naturum\, där personalen berättar om verksamheten och om utställningarna som handlar om områdets växter\, fåglar\, insekter\, djur\, kulturhistoria och geologi. Därefter går vi tillsammans till grillplats nr 11\, där grillen är tänd och vi äter korv med bröd. \nVägen till grillplatsen är tillgänglighetsanpassad. \nTid: Torsdag 11 juni kl. 11.00–15.00\nSamling: Kl. 10.45 utanför Naturum\nPlats: Skrylle\, Hardeberga 161\, Södra Sandby \nAnmälan: Senast 1 juni till Chonny Håkansson chonny@parkinsonlund.se \nSMS: 070-546 07 88 \nUppge namn och e-postadress eller telefonnummer för alla som anmäls.\nAnge också eventuella matallergier i samband med anmälan. \nKostnad: 50 kr per person.\nI priset ingår kaffe eller te samt korv med bröd. \nVarmt välkomna!
URL:https://parkinsonskane.se/evenemang/lund-har-utflykt-till-skrylle-naturum-och-korvgrillning/
LOCATION:Skrylle naturreservat\, Hardeberga 161\, Södra Sandby\, Skåne\, 247 91\, Sverige
CATEGORIES:Utflykt
ATTACH;FMTTYPE=image/jpeg:https://parkinsonskane.se/wp-content/uploads/2026/03/natur-r.jpg
END:VEVENT
END:VCALENDAR