BEGIN:VCALENDAR
VERSION:2.0
PRODID:-//Parkinson Skåne - ECPv6.15.20//NONSGML v1.0//EN
CALSCALE:GREGORIAN
METHOD:PUBLISH
X-ORIGINAL-URL:https://parkinsonskane.se
X-WR-CALDESC:Händelser för Parkinson Skåne
REFRESH-INTERVAL;VALUE=DURATION:PT1H
X-Robots-Tag:noindex
X-PUBLISHED-TTL:PT1H
BEGIN:VTIMEZONE
TZID:Europe/Stockholm
BEGIN:DAYLIGHT
TZOFFSETFROM:+0100
TZOFFSETTO:+0200
TZNAME:CEST
DTSTART:20220327T010000
END:DAYLIGHT
BEGIN:STANDARD
TZOFFSETFROM:+0200
TZOFFSETTO:+0100
TZNAME:CET
DTSTART:20221030T010000
END:STANDARD
BEGIN:DAYLIGHT
TZOFFSETFROM:+0100
TZOFFSETTO:+0200
TZNAME:CEST
DTSTART:20230326T010000
END:DAYLIGHT
BEGIN:STANDARD
TZOFFSETFROM:+0200
TZOFFSETTO:+0100
TZNAME:CET
DTSTART:20231029T010000
END:STANDARD
BEGIN:DAYLIGHT
TZOFFSETFROM:+0100
TZOFFSETTO:+0200
TZNAME:CEST
DTSTART:20240331T010000
END:DAYLIGHT
BEGIN:STANDARD
TZOFFSETFROM:+0200
TZOFFSETTO:+0100
TZNAME:CET
DTSTART:20241027T010000
END:STANDARD
BEGIN:DAYLIGHT
TZOFFSETFROM:+0100
TZOFFSETTO:+0200
TZNAME:CEST
DTSTART:20250330T010000
END:DAYLIGHT
BEGIN:STANDARD
TZOFFSETFROM:+0200
TZOFFSETTO:+0100
TZNAME:CET
DTSTART:20251026T010000
END:STANDARD
END:VTIMEZONE
BEGIN:VEVENT
DTSTART;TZID=Europe/Stockholm:20241203T170000
DTEND;TZID=Europe/Stockholm:20241203T190000
DTSTAMP:20260425T004730
CREATED:20241118T153924Z
LAST-MODIFIED:20241118T153924Z
UID:10011115-1733245200-1733252400@parkinsonskane.se
SUMMARY:Hässleholm har julfest
DESCRIPTION:TILL ALLA MEDLEMMAR!\nNu är det (snart) jul igen…\nMen innan dess är du välkommen på Julfest i Stoby bygdegård. \nTisdagen 3/12 kl 17.00\nVi bjuder alla medlemmar på jultallrik\, alkoholfri dryck\, kaffe och kaka.\nDu tar med en julklapp för 100:- och efter maten har vi utlottning. \nAnmäl dig senast 25/11\nE-post: Kadarp@hotmail.com eller\nMobil: 0734-436803 Lena Axelsson \nVÄLKOMNA\nStyrelsen Parkinson Hässleholm
URL:https://parkinsonskane.se/evenemang/hassleholm-har-julfest-3/
LOCATION:Stoby Bygdegård\, Stoby Bygdegården 4134\, Stoby\, Skåne\, 281 44\, Sverige
CATEGORIES:Medlemsträff
ATTACH;FMTTYPE=image/jpeg:https://parkinsonskane.se/wp-content/uploads/2024/11/jul-hassleholm.jpg
END:VEVENT
BEGIN:VEVENT
DTSTART;TZID=Europe/Stockholm:20231205T170000
DTEND;TZID=Europe/Stockholm:20231205T200000
DTSTAMP:20260425T004730
CREATED:20231123T211147Z
LAST-MODIFIED:20231124T071851Z
UID:10009412-1701795600-1701806400@parkinsonskane.se
SUMMARY:Hässleholm har julfest
DESCRIPTION:Hej medlem i Parkinson Hässleholm!\nNu är du välkommen till vår gemensamma julfest. \nVi träffas den 5 december på Stoby Bygdegård klockan 17-20. Där serveras en jultallrik + dryck för 100 kr (föreningen subventionerar resten…) Alla tar med sej en julklapp till ett värde av 80 kr\, som vi sedan lottar ut under kvällen. \nAnmäl dig senast den 27/11 till vår sekreterare Tommy Borg kadarp@hotmail.com
URL:https://parkinsonskane.se/evenemang/hassleholm-har-julfest-2/
LOCATION:Stoby Bygdegård\, Stoby Bygdegården 4134\, Stoby\, Skåne\, 281 44\, Sverige
CATEGORIES:Medlemsträff
ATTACH;FMTTYPE=image/jpeg:https://parkinsonskane.se/wp-content/uploads/2023/11/christmas-2984210_1280.jpg
END:VEVENT
END:VCALENDAR