BEGIN:VCALENDAR
VERSION:2.0
PRODID:-//Parkinson Skåne - ECPv6.15.20//NONSGML v1.0//EN
CALSCALE:GREGORIAN
METHOD:PUBLISH
X-ORIGINAL-URL:https://parkinsonskane.se
X-WR-CALDESC:Händelser för Parkinson Skåne
REFRESH-INTERVAL;VALUE=DURATION:PT1H
X-Robots-Tag:noindex
X-PUBLISHED-TTL:PT1H
BEGIN:VTIMEZONE
TZID:Europe/Stockholm
BEGIN:DAYLIGHT
TZOFFSETFROM:+0100
TZOFFSETTO:+0200
TZNAME:CEST
DTSTART:20240331T010000
END:DAYLIGHT
BEGIN:STANDARD
TZOFFSETFROM:+0200
TZOFFSETTO:+0100
TZNAME:CET
DTSTART:20241027T010000
END:STANDARD
BEGIN:DAYLIGHT
TZOFFSETFROM:+0100
TZOFFSETTO:+0200
TZNAME:CEST
DTSTART:20250330T010000
END:DAYLIGHT
BEGIN:STANDARD
TZOFFSETFROM:+0200
TZOFFSETTO:+0100
TZNAME:CET
DTSTART:20251026T010000
END:STANDARD
BEGIN:DAYLIGHT
TZOFFSETFROM:+0100
TZOFFSETTO:+0200
TZNAME:CEST
DTSTART:20260329T010000
END:DAYLIGHT
BEGIN:STANDARD
TZOFFSETFROM:+0200
TZOFFSETTO:+0100
TZNAME:CET
DTSTART:20261025T010000
END:STANDARD
END:VTIMEZONE
BEGIN:VEVENT
DTSTART;TZID=Europe/Stockholm:20250924T130000
DTEND;TZID=Europe/Stockholm:20250924T143000
DTSTAMP:20260425T124226
CREATED:20250905T111935Z
LAST-MODIFIED:20250905T111935Z
UID:10012240-1758718800-1758724200@parkinsonskane.se
SUMMARY:Sydöst har social samvaro – lunchträff
DESCRIPTION:Välkomna att ses för en lunch på Trelleborgs Golfklubb\, onsdagen den 24 september! \nDatum & tid: Onsdag 24 september 2025\, kl. 13.00\nPlats: Trelleborgs Golfklubb\, Kämpingevägen 19\, 231 93 Trelleborg\nMat: Vi äter pannbiff (vatten ingår) och avslutar med kaffe. (Annan dryck ingår ej.) \nKostnad: 25 kr/person – föreningen bjuder på mellanskillnaden\nBetalning: Swish 123 062 4403 eller bankgiro 281-1909\nAnmälan: Senast 17 september till Birthe\, birtes1@hotmail.com eller 076-314 52 75\n(Mejlar du och inte får bekräftelse inom 3 dagar – ring.) \nAllergier: Meddela vid anmälan\nMålgrupp: Endast medlemmar i Parkinson \nVarmt välkomna\,\nStyrelsen för Parkinson Sydöst
URL:https://parkinsonskane.se/evenemang/sydost-har-social-samvaro-lunchtraff-2/
LOCATION:Trelleborgs Golfklubb\, Kämpingevägen 19\, Trelleborg\, 231 93
CATEGORIES:Medlemsträff
ATTACH;FMTTYPE=image/jpeg:https://parkinsonskane.se/wp-content/uploads/2025/03/sydost-restaurang.jpg
END:VEVENT
BEGIN:VEVENT
DTSTART;TZID=Europe/Stockholm:20250416T123000
DTEND;TZID=Europe/Stockholm:20250416T140000
DTSTAMP:20260425T124226
CREATED:20250325T124514Z
LAST-MODIFIED:20250325T124514Z
UID:10011652-1744806600-1744812000@parkinsonskane.se
SUMMARY:Sydöst har social samvaro – lunchträff
DESCRIPTION:Välkomna att ses för en lunch på Trelleborgs Golfklubb\, onsdagen den 16 april! \nPlats: Trelleborgs Golfklubb\nKämpingevägen 19\n231 93 Trelleborg \nDatum: 16 april 2025\nTid: 12.30\nMat: Wallenbergare\nVatten ingår\nKaffe och liten kaka\nKostnad: 25 kronor/person – föreningen bjuder på mellanskillnaden\nDeltagare betalar egen dryck\, annan dryck ingår ej. \nBetala med Swish: 123 062 4403 eller bankgiro: 281-1909\nAnmäl er till Birthe på birtes1@hotmail.com eller 076-314 52 75. OBS! mejlar ni och inte får bekräftelse inom 3 dagar\, vänligen ring Birthe. \nSista anmälningsdag är den 9 april. \nOBS! Glöm ej anmäla eventuella allergier \nStyrelsen för Parkinson Sydöst \n 
URL:https://parkinsonskane.se/evenemang/sydost-har-social-samvaro-lunchtraff/
LOCATION:Trelleborgs Golfklubb\, Kämpingevägen 19\, Trelleborg\, 231 93
CATEGORIES:Medlemsträff
ATTACH;FMTTYPE=image/jpeg:https://parkinsonskane.se/wp-content/uploads/2025/03/sydost-restaurang.jpg
END:VEVENT
END:VCALENDAR