BEGIN:VCALENDAR
VERSION:2.0
PRODID:-//Parkinson Skåne - ECPv6.15.20//NONSGML v1.0//EN
CALSCALE:GREGORIAN
METHOD:PUBLISH
X-ORIGINAL-URL:https://parkinsonskane.se
X-WR-CALDESC:Händelser för Parkinson Skåne
REFRESH-INTERVAL;VALUE=DURATION:PT1H
X-Robots-Tag:noindex
X-PUBLISHED-TTL:PT1H
BEGIN:VTIMEZONE
TZID:Europe/Stockholm
BEGIN:DAYLIGHT
TZOFFSETFROM:+0100
TZOFFSETTO:+0200
TZNAME:CEST
DTSTART:20220327T010000
END:DAYLIGHT
BEGIN:STANDARD
TZOFFSETFROM:+0200
TZOFFSETTO:+0100
TZNAME:CET
DTSTART:20221030T010000
END:STANDARD
BEGIN:DAYLIGHT
TZOFFSETFROM:+0100
TZOFFSETTO:+0200
TZNAME:CEST
DTSTART:20230326T010000
END:DAYLIGHT
BEGIN:STANDARD
TZOFFSETFROM:+0200
TZOFFSETTO:+0100
TZNAME:CET
DTSTART:20231029T010000
END:STANDARD
BEGIN:DAYLIGHT
TZOFFSETFROM:+0100
TZOFFSETTO:+0200
TZNAME:CEST
DTSTART:20240331T010000
END:DAYLIGHT
BEGIN:STANDARD
TZOFFSETFROM:+0200
TZOFFSETTO:+0100
TZNAME:CET
DTSTART:20241027T010000
END:STANDARD
END:VTIMEZONE
BEGIN:VEVENT
DTSTART;TZID=Europe/Stockholm:20231127T100000
DTEND;TZID=Europe/Stockholm:20231127T110000
DTSTAMP:20260425T161943
CREATED:20230816T101105Z
LAST-MODIFIED:20230816T101105Z
UID:10009074-1701079200-1701082800@parkinsonskane.se
SUMMARY:Sydöst har boxning för Parkinson
DESCRIPTION:Höstens träningstider mellan den 21 augusti till den 20 december: \nMåndag 10.00-11.00\nOnsdag 15.00-16.00\nFredag 10.00-11.00 \nYstad  Boxningsklubb\, Regementet i Ystad \nInfo: Ulf Klausson 072-2139293
URL:https://parkinsonskane.se/evenemang/sydost-har-boxning-for-parkinson/2023-11-27/
LOCATION:Ystads Sportklubb\, Björnstjernegatan 11\, Ystad\, Skåne\, 271 39\, Sverige
CATEGORIES:Boxträning
ATTACH;FMTTYPE=image/jpeg:https://parkinsonskane.se/wp-content/uploads/2023/08/boxn-sydost.jpg
END:VEVENT
BEGIN:VEVENT
DTSTART;TZID=Europe/Stockholm:20230915T100000
DTEND;TZID=Europe/Stockholm:20230915T110000
DTSTAMP:20260425T161943
CREATED:20230816T101105Z
LAST-MODIFIED:20230816T101105Z
UID:10009053-1694772000-1694775600@parkinsonskane.se
SUMMARY:Sydöst har boxning för Parkinson
DESCRIPTION:Höstens träningstider mellan den 21 augusti till den 20 december: \nMåndag 10.00-11.00\nOnsdag 15.00-16.00\nFredag 10.00-11.00 \nYstad  Boxningsklubb\, Regementet i Ystad \nInfo: Ulf Klausson 072-2139293
URL:https://parkinsonskane.se/evenemang/sydost-har-boxning-for-parkinson/2023-09-15/
LOCATION:Ystads Sportklubb\, Björnstjernegatan 11\, Ystad\, Skåne\, 271 39\, Sverige
CATEGORIES:Boxträning
ATTACH;FMTTYPE=image/jpeg:https://parkinsonskane.se/wp-content/uploads/2023/08/boxn-sydost.jpg
END:VEVENT
BEGIN:VEVENT
DTSTART;TZID=Europe/Stockholm:20231023T100000
DTEND;TZID=Europe/Stockholm:20231023T110000
DTSTAMP:20260425T161943
CREATED:20230816T101105Z
LAST-MODIFIED:20230816T101105Z
UID:10009064-1698055200-1698058800@parkinsonskane.se
SUMMARY:Sydöst har boxning för Parkinson
DESCRIPTION:Höstens träningstider mellan den 21 augusti till den 20 december: \nMåndag 10.00-11.00\nOnsdag 15.00-16.00\nFredag 10.00-11.00 \nYstad  Boxningsklubb\, Regementet i Ystad \nInfo: Ulf Klausson 072-2139293
URL:https://parkinsonskane.se/evenemang/sydost-har-boxning-for-parkinson/2023-10-23/
LOCATION:Ystads Sportklubb\, Björnstjernegatan 11\, Ystad\, Skåne\, 271 39\, Sverige
CATEGORIES:Boxträning
ATTACH;FMTTYPE=image/jpeg:https://parkinsonskane.se/wp-content/uploads/2023/08/boxn-sydost.jpg
END:VEVENT
BEGIN:VEVENT
DTSTART;TZID=Europe/Stockholm:20231201T100000
DTEND;TZID=Europe/Stockholm:20231201T110000
DTSTAMP:20260425T161943
CREATED:20230816T101105Z
LAST-MODIFIED:20230816T101105Z
UID:10009075-1701424800-1701428400@parkinsonskane.se
SUMMARY:Sydöst har boxning för Parkinson
DESCRIPTION:Höstens träningstider mellan den 21 augusti till den 20 december: \nMåndag 10.00-11.00\nOnsdag 15.00-16.00\nFredag 10.00-11.00 \nYstad  Boxningsklubb\, Regementet i Ystad \nInfo: Ulf Klausson 072-2139293
URL:https://parkinsonskane.se/evenemang/sydost-har-boxning-for-parkinson/2023-12-01/
LOCATION:Ystads Sportklubb\, Björnstjernegatan 11\, Ystad\, Skåne\, 271 39\, Sverige
CATEGORIES:Boxträning
ATTACH;FMTTYPE=image/jpeg:https://parkinsonskane.se/wp-content/uploads/2023/08/boxn-sydost.jpg
END:VEVENT
BEGIN:VEVENT
DTSTART;TZID=Europe/Stockholm:20230918T100000
DTEND;TZID=Europe/Stockholm:20230918T110000
DTSTAMP:20260425T161943
CREATED:20230816T101105Z
LAST-MODIFIED:20230816T101105Z
UID:10009054-1695031200-1695034800@parkinsonskane.se
SUMMARY:Sydöst har boxning för Parkinson
DESCRIPTION:Höstens träningstider mellan den 21 augusti till den 20 december: \nMåndag 10.00-11.00\nOnsdag 15.00-16.00\nFredag 10.00-11.00 \nYstad  Boxningsklubb\, Regementet i Ystad \nInfo: Ulf Klausson 072-2139293
URL:https://parkinsonskane.se/evenemang/sydost-har-boxning-for-parkinson/2023-09-18/
LOCATION:Ystads Sportklubb\, Björnstjernegatan 11\, Ystad\, Skåne\, 271 39\, Sverige
CATEGORIES:Boxträning
ATTACH;FMTTYPE=image/jpeg:https://parkinsonskane.se/wp-content/uploads/2023/08/boxn-sydost.jpg
END:VEVENT
BEGIN:VEVENT
DTSTART;TZID=Europe/Stockholm:20231027T100000
DTEND;TZID=Europe/Stockholm:20231027T110000
DTSTAMP:20260425T161943
CREATED:20230816T101105Z
LAST-MODIFIED:20230816T101105Z
UID:10009065-1698400800-1698404400@parkinsonskane.se
SUMMARY:Sydöst har boxning för Parkinson
DESCRIPTION:Höstens träningstider mellan den 21 augusti till den 20 december: \nMåndag 10.00-11.00\nOnsdag 15.00-16.00\nFredag 10.00-11.00 \nYstad  Boxningsklubb\, Regementet i Ystad \nInfo: Ulf Klausson 072-2139293
URL:https://parkinsonskane.se/evenemang/sydost-har-boxning-for-parkinson/2023-10-27/
LOCATION:Ystads Sportklubb\, Björnstjernegatan 11\, Ystad\, Skåne\, 271 39\, Sverige
CATEGORIES:Boxträning
ATTACH;FMTTYPE=image/jpeg:https://parkinsonskane.se/wp-content/uploads/2023/08/boxn-sydost.jpg
END:VEVENT
BEGIN:VEVENT
DTSTART;TZID=Europe/Stockholm:20231204T100000
DTEND;TZID=Europe/Stockholm:20231204T110000
DTSTAMP:20260425T161943
CREATED:20230816T101105Z
LAST-MODIFIED:20230816T101105Z
UID:10009076-1701684000-1701687600@parkinsonskane.se
SUMMARY:Sydöst har boxning för Parkinson
DESCRIPTION:Höstens träningstider mellan den 21 augusti till den 20 december: \nMåndag 10.00-11.00\nOnsdag 15.00-16.00\nFredag 10.00-11.00 \nYstad  Boxningsklubb\, Regementet i Ystad \nInfo: Ulf Klausson 072-2139293
URL:https://parkinsonskane.se/evenemang/sydost-har-boxning-for-parkinson/2023-12-04/
LOCATION:Ystads Sportklubb\, Björnstjernegatan 11\, Ystad\, Skåne\, 271 39\, Sverige
CATEGORIES:Boxträning
ATTACH;FMTTYPE=image/jpeg:https://parkinsonskane.se/wp-content/uploads/2023/08/boxn-sydost.jpg
END:VEVENT
BEGIN:VEVENT
DTSTART;TZID=Europe/Stockholm:20230922T100000
DTEND;TZID=Europe/Stockholm:20230922T110000
DTSTAMP:20260425T161943
CREATED:20230816T101105Z
LAST-MODIFIED:20230816T101105Z
UID:10009055-1695376800-1695380400@parkinsonskane.se
SUMMARY:Sydöst har boxning för Parkinson
DESCRIPTION:Höstens träningstider mellan den 21 augusti till den 20 december: \nMåndag 10.00-11.00\nOnsdag 15.00-16.00\nFredag 10.00-11.00 \nYstad  Boxningsklubb\, Regementet i Ystad \nInfo: Ulf Klausson 072-2139293
URL:https://parkinsonskane.se/evenemang/sydost-har-boxning-for-parkinson/2023-09-22/
LOCATION:Ystads Sportklubb\, Björnstjernegatan 11\, Ystad\, Skåne\, 271 39\, Sverige
CATEGORIES:Boxträning
ATTACH;FMTTYPE=image/jpeg:https://parkinsonskane.se/wp-content/uploads/2023/08/boxn-sydost.jpg
END:VEVENT
BEGIN:VEVENT
DTSTART;TZID=Europe/Stockholm:20231030T100000
DTEND;TZID=Europe/Stockholm:20231030T110000
DTSTAMP:20260425T161943
CREATED:20230816T101105Z
LAST-MODIFIED:20230816T101105Z
UID:10009066-1698660000-1698663600@parkinsonskane.se
SUMMARY:Sydöst har boxning för Parkinson
DESCRIPTION:Höstens träningstider mellan den 21 augusti till den 20 december: \nMåndag 10.00-11.00\nOnsdag 15.00-16.00\nFredag 10.00-11.00 \nYstad  Boxningsklubb\, Regementet i Ystad \nInfo: Ulf Klausson 072-2139293
URL:https://parkinsonskane.se/evenemang/sydost-har-boxning-for-parkinson/2023-10-30/
LOCATION:Ystads Sportklubb\, Björnstjernegatan 11\, Ystad\, Skåne\, 271 39\, Sverige
CATEGORIES:Boxträning
ATTACH;FMTTYPE=image/jpeg:https://parkinsonskane.se/wp-content/uploads/2023/08/boxn-sydost.jpg
END:VEVENT
BEGIN:VEVENT
DTSTART;TZID=Europe/Stockholm:20231208T100000
DTEND;TZID=Europe/Stockholm:20231208T110000
DTSTAMP:20260425T161943
CREATED:20230816T101105Z
LAST-MODIFIED:20230816T101105Z
UID:10009077-1702029600-1702033200@parkinsonskane.se
SUMMARY:Sydöst har boxning för Parkinson
DESCRIPTION:Höstens träningstider mellan den 21 augusti till den 20 december: \nMåndag 10.00-11.00\nOnsdag 15.00-16.00\nFredag 10.00-11.00 \nYstad  Boxningsklubb\, Regementet i Ystad \nInfo: Ulf Klausson 072-2139293
URL:https://parkinsonskane.se/evenemang/sydost-har-boxning-for-parkinson/2023-12-08/
LOCATION:Ystads Sportklubb\, Björnstjernegatan 11\, Ystad\, Skåne\, 271 39\, Sverige
CATEGORIES:Boxträning
ATTACH;FMTTYPE=image/jpeg:https://parkinsonskane.se/wp-content/uploads/2023/08/boxn-sydost.jpg
END:VEVENT
BEGIN:VEVENT
DTSTART;TZID=Europe/Stockholm:20230925T100000
DTEND;TZID=Europe/Stockholm:20230925T110000
DTSTAMP:20260425T161943
CREATED:20230816T101105Z
LAST-MODIFIED:20230816T101105Z
UID:10009056-1695636000-1695639600@parkinsonskane.se
SUMMARY:Sydöst har boxning för Parkinson
DESCRIPTION:Höstens träningstider mellan den 21 augusti till den 20 december: \nMåndag 10.00-11.00\nOnsdag 15.00-16.00\nFredag 10.00-11.00 \nYstad  Boxningsklubb\, Regementet i Ystad \nInfo: Ulf Klausson 072-2139293
URL:https://parkinsonskane.se/evenemang/sydost-har-boxning-for-parkinson/2023-09-25/
LOCATION:Ystads Sportklubb\, Björnstjernegatan 11\, Ystad\, Skåne\, 271 39\, Sverige
CATEGORIES:Boxträning
ATTACH;FMTTYPE=image/jpeg:https://parkinsonskane.se/wp-content/uploads/2023/08/boxn-sydost.jpg
END:VEVENT
BEGIN:VEVENT
DTSTART;TZID=Europe/Stockholm:20231103T100000
DTEND;TZID=Europe/Stockholm:20231103T110000
DTSTAMP:20260425T161943
CREATED:20230816T101105Z
LAST-MODIFIED:20230816T101105Z
UID:10009067-1699005600-1699009200@parkinsonskane.se
SUMMARY:Sydöst har boxning för Parkinson
DESCRIPTION:Höstens träningstider mellan den 21 augusti till den 20 december: \nMåndag 10.00-11.00\nOnsdag 15.00-16.00\nFredag 10.00-11.00 \nYstad  Boxningsklubb\, Regementet i Ystad \nInfo: Ulf Klausson 072-2139293
URL:https://parkinsonskane.se/evenemang/sydost-har-boxning-for-parkinson/2023-11-03/
LOCATION:Ystads Sportklubb\, Björnstjernegatan 11\, Ystad\, Skåne\, 271 39\, Sverige
CATEGORIES:Boxträning
ATTACH;FMTTYPE=image/jpeg:https://parkinsonskane.se/wp-content/uploads/2023/08/boxn-sydost.jpg
END:VEVENT
BEGIN:VEVENT
DTSTART;TZID=Europe/Stockholm:20230821T100000
DTEND;TZID=Europe/Stockholm:20230821T110000
DTSTAMP:20260425T161943
CREATED:20230816T101105Z
LAST-MODIFIED:20230816T101105Z
UID:10009046-1692612000-1692615600@parkinsonskane.se
SUMMARY:Sydöst har boxning för Parkinson
DESCRIPTION:Höstens träningstider mellan den 21 augusti till den 20 december: \nMåndag 10.00-11.00\nOnsdag 15.00-16.00\nFredag 10.00-11.00 \nYstad  Boxningsklubb\, Regementet i Ystad \nInfo: Ulf Klausson 072-2139293
URL:https://parkinsonskane.se/evenemang/sydost-har-boxning-for-parkinson/2023-08-21/
LOCATION:Ystads Sportklubb\, Björnstjernegatan 11\, Ystad\, Skåne\, 271 39\, Sverige
CATEGORIES:Boxträning
ATTACH;FMTTYPE=image/jpeg:https://parkinsonskane.se/wp-content/uploads/2023/08/boxn-sydost.jpg
END:VEVENT
BEGIN:VEVENT
DTSTART;TZID=Europe/Stockholm:20231211T100000
DTEND;TZID=Europe/Stockholm:20231211T110000
DTSTAMP:20260425T161943
CREATED:20230816T101105Z
LAST-MODIFIED:20230816T101105Z
UID:10009078-1702288800-1702292400@parkinsonskane.se
SUMMARY:Sydöst har boxning för Parkinson
DESCRIPTION:Höstens träningstider mellan den 21 augusti till den 20 december: \nMåndag 10.00-11.00\nOnsdag 15.00-16.00\nFredag 10.00-11.00 \nYstad  Boxningsklubb\, Regementet i Ystad \nInfo: Ulf Klausson 072-2139293
URL:https://parkinsonskane.se/evenemang/sydost-har-boxning-for-parkinson/2023-12-11/
LOCATION:Ystads Sportklubb\, Björnstjernegatan 11\, Ystad\, Skåne\, 271 39\, Sverige
CATEGORIES:Boxträning
ATTACH;FMTTYPE=image/jpeg:https://parkinsonskane.se/wp-content/uploads/2023/08/boxn-sydost.jpg
END:VEVENT
BEGIN:VEVENT
DTSTART;TZID=Europe/Stockholm:20230929T100000
DTEND;TZID=Europe/Stockholm:20230929T110000
DTSTAMP:20260425T161943
CREATED:20230816T101105Z
LAST-MODIFIED:20230816T101105Z
UID:10009057-1695981600-1695985200@parkinsonskane.se
SUMMARY:Sydöst har boxning för Parkinson
DESCRIPTION:Höstens träningstider mellan den 21 augusti till den 20 december: \nMåndag 10.00-11.00\nOnsdag 15.00-16.00\nFredag 10.00-11.00 \nYstad  Boxningsklubb\, Regementet i Ystad \nInfo: Ulf Klausson 072-2139293
URL:https://parkinsonskane.se/evenemang/sydost-har-boxning-for-parkinson/2023-09-29/
LOCATION:Ystads Sportklubb\, Björnstjernegatan 11\, Ystad\, Skåne\, 271 39\, Sverige
CATEGORIES:Boxträning
ATTACH;FMTTYPE=image/jpeg:https://parkinsonskane.se/wp-content/uploads/2023/08/boxn-sydost.jpg
END:VEVENT
BEGIN:VEVENT
DTSTART;TZID=Europe/Stockholm:20231106T100000
DTEND;TZID=Europe/Stockholm:20231106T110000
DTSTAMP:20260425T161943
CREATED:20230816T101105Z
LAST-MODIFIED:20230816T101105Z
UID:10009068-1699264800-1699268400@parkinsonskane.se
SUMMARY:Sydöst har boxning för Parkinson
DESCRIPTION:Höstens träningstider mellan den 21 augusti till den 20 december: \nMåndag 10.00-11.00\nOnsdag 15.00-16.00\nFredag 10.00-11.00 \nYstad  Boxningsklubb\, Regementet i Ystad \nInfo: Ulf Klausson 072-2139293
URL:https://parkinsonskane.se/evenemang/sydost-har-boxning-for-parkinson/2023-11-06/
LOCATION:Ystads Sportklubb\, Björnstjernegatan 11\, Ystad\, Skåne\, 271 39\, Sverige
CATEGORIES:Boxträning
ATTACH;FMTTYPE=image/jpeg:https://parkinsonskane.se/wp-content/uploads/2023/08/boxn-sydost.jpg
END:VEVENT
BEGIN:VEVENT
DTSTART;TZID=Europe/Stockholm:20230825T100000
DTEND;TZID=Europe/Stockholm:20230825T110000
DTSTAMP:20260425T161943
CREATED:20230816T101105Z
LAST-MODIFIED:20230816T101105Z
UID:10009047-1692957600-1692961200@parkinsonskane.se
SUMMARY:Sydöst har boxning för Parkinson
DESCRIPTION:Höstens träningstider mellan den 21 augusti till den 20 december: \nMåndag 10.00-11.00\nOnsdag 15.00-16.00\nFredag 10.00-11.00 \nYstad  Boxningsklubb\, Regementet i Ystad \nInfo: Ulf Klausson 072-2139293
URL:https://parkinsonskane.se/evenemang/sydost-har-boxning-for-parkinson/2023-08-25/
LOCATION:Ystads Sportklubb\, Björnstjernegatan 11\, Ystad\, Skåne\, 271 39\, Sverige
CATEGORIES:Boxträning
ATTACH;FMTTYPE=image/jpeg:https://parkinsonskane.se/wp-content/uploads/2023/08/boxn-sydost.jpg
END:VEVENT
BEGIN:VEVENT
DTSTART;TZID=Europe/Stockholm:20231215T100000
DTEND;TZID=Europe/Stockholm:20231215T110000
DTSTAMP:20260425T161943
CREATED:20230816T101105Z
LAST-MODIFIED:20230816T101105Z
UID:10009079-1702634400-1702638000@parkinsonskane.se
SUMMARY:Sydöst har boxning för Parkinson
DESCRIPTION:Höstens träningstider mellan den 21 augusti till den 20 december: \nMåndag 10.00-11.00\nOnsdag 15.00-16.00\nFredag 10.00-11.00 \nYstad  Boxningsklubb\, Regementet i Ystad \nInfo: Ulf Klausson 072-2139293
URL:https://parkinsonskane.se/evenemang/sydost-har-boxning-for-parkinson/2023-12-15/
LOCATION:Ystads Sportklubb\, Björnstjernegatan 11\, Ystad\, Skåne\, 271 39\, Sverige
CATEGORIES:Boxträning
ATTACH;FMTTYPE=image/jpeg:https://parkinsonskane.se/wp-content/uploads/2023/08/boxn-sydost.jpg
END:VEVENT
BEGIN:VEVENT
DTSTART;TZID=Europe/Stockholm:20231002T100000
DTEND;TZID=Europe/Stockholm:20231002T110000
DTSTAMP:20260425T161943
CREATED:20230816T101105Z
LAST-MODIFIED:20230816T101105Z
UID:10009058-1696240800-1696244400@parkinsonskane.se
SUMMARY:Sydöst har boxning för Parkinson
DESCRIPTION:Höstens träningstider mellan den 21 augusti till den 20 december: \nMåndag 10.00-11.00\nOnsdag 15.00-16.00\nFredag 10.00-11.00 \nYstad  Boxningsklubb\, Regementet i Ystad \nInfo: Ulf Klausson 072-2139293
URL:https://parkinsonskane.se/evenemang/sydost-har-boxning-for-parkinson/2023-10-02/
LOCATION:Ystads Sportklubb\, Björnstjernegatan 11\, Ystad\, Skåne\, 271 39\, Sverige
CATEGORIES:Boxträning
ATTACH;FMTTYPE=image/jpeg:https://parkinsonskane.se/wp-content/uploads/2023/08/boxn-sydost.jpg
END:VEVENT
BEGIN:VEVENT
DTSTART;TZID=Europe/Stockholm:20231110T100000
DTEND;TZID=Europe/Stockholm:20231110T110000
DTSTAMP:20260425T161943
CREATED:20230816T101105Z
LAST-MODIFIED:20230816T101105Z
UID:10009069-1699610400-1699614000@parkinsonskane.se
SUMMARY:Sydöst har boxning för Parkinson
DESCRIPTION:Höstens träningstider mellan den 21 augusti till den 20 december: \nMåndag 10.00-11.00\nOnsdag 15.00-16.00\nFredag 10.00-11.00 \nYstad  Boxningsklubb\, Regementet i Ystad \nInfo: Ulf Klausson 072-2139293
URL:https://parkinsonskane.se/evenemang/sydost-har-boxning-for-parkinson/2023-11-10/
LOCATION:Ystads Sportklubb\, Björnstjernegatan 11\, Ystad\, Skåne\, 271 39\, Sverige
CATEGORIES:Boxträning
ATTACH;FMTTYPE=image/jpeg:https://parkinsonskane.se/wp-content/uploads/2023/08/boxn-sydost.jpg
END:VEVENT
BEGIN:VEVENT
DTSTART;TZID=Europe/Stockholm:20230828T100000
DTEND;TZID=Europe/Stockholm:20230828T110000
DTSTAMP:20260425T161943
CREATED:20230816T101105Z
LAST-MODIFIED:20230816T101105Z
UID:10009048-1693216800-1693220400@parkinsonskane.se
SUMMARY:Sydöst har boxning för Parkinson
DESCRIPTION:Höstens träningstider mellan den 21 augusti till den 20 december: \nMåndag 10.00-11.00\nOnsdag 15.00-16.00\nFredag 10.00-11.00 \nYstad  Boxningsklubb\, Regementet i Ystad \nInfo: Ulf Klausson 072-2139293
URL:https://parkinsonskane.se/evenemang/sydost-har-boxning-for-parkinson/2023-08-28/
LOCATION:Ystads Sportklubb\, Björnstjernegatan 11\, Ystad\, Skåne\, 271 39\, Sverige
CATEGORIES:Boxträning
ATTACH;FMTTYPE=image/jpeg:https://parkinsonskane.se/wp-content/uploads/2023/08/boxn-sydost.jpg
END:VEVENT
BEGIN:VEVENT
DTSTART;TZID=Europe/Stockholm:20231218T100000
DTEND;TZID=Europe/Stockholm:20231218T110000
DTSTAMP:20260425T161943
CREATED:20230816T101105Z
LAST-MODIFIED:20230816T101105Z
UID:10009080-1702893600-1702897200@parkinsonskane.se
SUMMARY:Sydöst har boxning för Parkinson
DESCRIPTION:Höstens träningstider mellan den 21 augusti till den 20 december: \nMåndag 10.00-11.00\nOnsdag 15.00-16.00\nFredag 10.00-11.00 \nYstad  Boxningsklubb\, Regementet i Ystad \nInfo: Ulf Klausson 072-2139293
URL:https://parkinsonskane.se/evenemang/sydost-har-boxning-for-parkinson/2023-12-18/
LOCATION:Ystads Sportklubb\, Björnstjernegatan 11\, Ystad\, Skåne\, 271 39\, Sverige
CATEGORIES:Boxträning
ATTACH;FMTTYPE=image/jpeg:https://parkinsonskane.se/wp-content/uploads/2023/08/boxn-sydost.jpg
END:VEVENT
BEGIN:VEVENT
DTSTART;TZID=Europe/Stockholm:20231006T100000
DTEND;TZID=Europe/Stockholm:20231006T110000
DTSTAMP:20260425T161943
CREATED:20230816T101105Z
LAST-MODIFIED:20230816T101105Z
UID:10009059-1696586400-1696590000@parkinsonskane.se
SUMMARY:Sydöst har boxning för Parkinson
DESCRIPTION:Höstens träningstider mellan den 21 augusti till den 20 december: \nMåndag 10.00-11.00\nOnsdag 15.00-16.00\nFredag 10.00-11.00 \nYstad  Boxningsklubb\, Regementet i Ystad \nInfo: Ulf Klausson 072-2139293
URL:https://parkinsonskane.se/evenemang/sydost-har-boxning-for-parkinson/2023-10-06/
LOCATION:Ystads Sportklubb\, Björnstjernegatan 11\, Ystad\, Skåne\, 271 39\, Sverige
CATEGORIES:Boxträning
ATTACH;FMTTYPE=image/jpeg:https://parkinsonskane.se/wp-content/uploads/2023/08/boxn-sydost.jpg
END:VEVENT
BEGIN:VEVENT
DTSTART;TZID=Europe/Stockholm:20230428T100000
DTEND;TZID=Europe/Stockholm:20230428T110000
DTSTAMP:20260425T161943
CREATED:20230213T140957Z
LAST-MODIFIED:20230213T141201Z
UID:10008348-1682676000-1682679600@parkinsonskane.se
SUMMARY:Sydöst har boxning på fredagar
DESCRIPTION:Måndagar och fredagar kl 10–11\, samt onsdagar kl 15–16 mellan 11/1-17/6 \nPlats: Ystads Sportklubb\, Björnstjernegatan 11\, 271 39 Ystad\nKostnad: Parkinsonträning 500 kr per termin (medlemsavgift inkluderad)\nInfo: Ulf Klausson\, tel: 072-2139293
URL:https://parkinsonskane.se/evenemang/sydost-har-boxning-pa-onsdagar-2/2023-04-28/
LOCATION:Ystads Sportklubb\, Björnstjernegatan 11\, Ystad\, Skåne\, 271 39\, Sverige
CATEGORIES:Boxträning
ATTACH;FMTTYPE=image/jpeg:https://parkinsonskane.se/wp-content/uploads/2022/12/boxn-sydo.jpg
END:VEVENT
BEGIN:VEVENT
DTSTART;TZID=Europe/Stockholm:20230217T100000
DTEND;TZID=Europe/Stockholm:20230217T110000
DTSTAMP:20260425T161943
CREATED:20230213T140957Z
LAST-MODIFIED:20230213T141201Z
UID:10008338-1676628000-1676631600@parkinsonskane.se
SUMMARY:Sydöst har boxning på fredagar
DESCRIPTION:Måndagar och fredagar kl 10–11\, samt onsdagar kl 15–16 mellan 11/1-17/6 \nPlats: Ystads Sportklubb\, Björnstjernegatan 11\, 271 39 Ystad\nKostnad: Parkinsonträning 500 kr per termin (medlemsavgift inkluderad)\nInfo: Ulf Klausson\, tel: 072-2139293
URL:https://parkinsonskane.se/evenemang/sydost-har-boxning-pa-onsdagar-2/2023-02-17/
LOCATION:Ystads Sportklubb\, Björnstjernegatan 11\, Ystad\, Skåne\, 271 39\, Sverige
CATEGORIES:Boxträning
ATTACH;FMTTYPE=image/jpeg:https://parkinsonskane.se/wp-content/uploads/2022/12/boxn-sydo.jpg
END:VEVENT
BEGIN:VEVENT
DTSTART;TZID=Europe/Stockholm:20230505T100000
DTEND;TZID=Europe/Stockholm:20230505T110000
DTSTAMP:20260425T161943
CREATED:20230213T140957Z
LAST-MODIFIED:20230213T141201Z
UID:10008349-1683280800-1683284400@parkinsonskane.se
SUMMARY:Sydöst har boxning på fredagar
DESCRIPTION:Måndagar och fredagar kl 10–11\, samt onsdagar kl 15–16 mellan 11/1-17/6 \nPlats: Ystads Sportklubb\, Björnstjernegatan 11\, 271 39 Ystad\nKostnad: Parkinsonträning 500 kr per termin (medlemsavgift inkluderad)\nInfo: Ulf Klausson\, tel: 072-2139293
URL:https://parkinsonskane.se/evenemang/sydost-har-boxning-pa-onsdagar-2/2023-05-05/
LOCATION:Ystads Sportklubb\, Björnstjernegatan 11\, Ystad\, Skåne\, 271 39\, Sverige
CATEGORIES:Boxträning
ATTACH;FMTTYPE=image/jpeg:https://parkinsonskane.se/wp-content/uploads/2022/12/boxn-sydo.jpg
END:VEVENT
BEGIN:VEVENT
DTSTART;TZID=Europe/Stockholm:20230224T100000
DTEND;TZID=Europe/Stockholm:20230224T110000
DTSTAMP:20260425T161943
CREATED:20230213T140957Z
LAST-MODIFIED:20230213T141201Z
UID:10008339-1677232800-1677236400@parkinsonskane.se
SUMMARY:Sydöst har boxning på fredagar
DESCRIPTION:Måndagar och fredagar kl 10–11\, samt onsdagar kl 15–16 mellan 11/1-17/6 \nPlats: Ystads Sportklubb\, Björnstjernegatan 11\, 271 39 Ystad\nKostnad: Parkinsonträning 500 kr per termin (medlemsavgift inkluderad)\nInfo: Ulf Klausson\, tel: 072-2139293
URL:https://parkinsonskane.se/evenemang/sydost-har-boxning-pa-onsdagar-2/2023-02-24/
LOCATION:Ystads Sportklubb\, Björnstjernegatan 11\, Ystad\, Skåne\, 271 39\, Sverige
CATEGORIES:Boxträning
ATTACH;FMTTYPE=image/jpeg:https://parkinsonskane.se/wp-content/uploads/2022/12/boxn-sydo.jpg
END:VEVENT
BEGIN:VEVENT
DTSTART;TZID=Europe/Stockholm:20230512T100000
DTEND;TZID=Europe/Stockholm:20230512T110000
DTSTAMP:20260425T161943
CREATED:20230213T140957Z
LAST-MODIFIED:20230213T141201Z
UID:10008350-1683885600-1683889200@parkinsonskane.se
SUMMARY:Sydöst har boxning på fredagar
DESCRIPTION:Måndagar och fredagar kl 10–11\, samt onsdagar kl 15–16 mellan 11/1-17/6 \nPlats: Ystads Sportklubb\, Björnstjernegatan 11\, 271 39 Ystad\nKostnad: Parkinsonträning 500 kr per termin (medlemsavgift inkluderad)\nInfo: Ulf Klausson\, tel: 072-2139293
URL:https://parkinsonskane.se/evenemang/sydost-har-boxning-pa-onsdagar-2/2023-05-12/
LOCATION:Ystads Sportklubb\, Björnstjernegatan 11\, Ystad\, Skåne\, 271 39\, Sverige
CATEGORIES:Boxträning
ATTACH;FMTTYPE=image/jpeg:https://parkinsonskane.se/wp-content/uploads/2022/12/boxn-sydo.jpg
END:VEVENT
BEGIN:VEVENT
DTSTART;TZID=Europe/Stockholm:20230303T100000
DTEND;TZID=Europe/Stockholm:20230303T110000
DTSTAMP:20260425T161943
CREATED:20230213T140957Z
LAST-MODIFIED:20230213T141201Z
UID:10008340-1677837600-1677841200@parkinsonskane.se
SUMMARY:Sydöst har boxning på fredagar
DESCRIPTION:Måndagar och fredagar kl 10–11\, samt onsdagar kl 15–16 mellan 11/1-17/6 \nPlats: Ystads Sportklubb\, Björnstjernegatan 11\, 271 39 Ystad\nKostnad: Parkinsonträning 500 kr per termin (medlemsavgift inkluderad)\nInfo: Ulf Klausson\, tel: 072-2139293
URL:https://parkinsonskane.se/evenemang/sydost-har-boxning-pa-onsdagar-2/2023-03-03/
LOCATION:Ystads Sportklubb\, Björnstjernegatan 11\, Ystad\, Skåne\, 271 39\, Sverige
CATEGORIES:Boxträning
ATTACH;FMTTYPE=image/jpeg:https://parkinsonskane.se/wp-content/uploads/2022/12/boxn-sydo.jpg
END:VEVENT
BEGIN:VEVENT
DTSTART;TZID=Europe/Stockholm:20230519T100000
DTEND;TZID=Europe/Stockholm:20230519T110000
DTSTAMP:20260425T161943
CREATED:20230213T140957Z
LAST-MODIFIED:20230213T141201Z
UID:10008351-1684490400-1684494000@parkinsonskane.se
SUMMARY:Sydöst har boxning på fredagar
DESCRIPTION:Måndagar och fredagar kl 10–11\, samt onsdagar kl 15–16 mellan 11/1-17/6 \nPlats: Ystads Sportklubb\, Björnstjernegatan 11\, 271 39 Ystad\nKostnad: Parkinsonträning 500 kr per termin (medlemsavgift inkluderad)\nInfo: Ulf Klausson\, tel: 072-2139293
URL:https://parkinsonskane.se/evenemang/sydost-har-boxning-pa-onsdagar-2/2023-05-19/
LOCATION:Ystads Sportklubb\, Björnstjernegatan 11\, Ystad\, Skåne\, 271 39\, Sverige
CATEGORIES:Boxträning
ATTACH;FMTTYPE=image/jpeg:https://parkinsonskane.se/wp-content/uploads/2022/12/boxn-sydo.jpg
END:VEVENT
END:VCALENDAR