BEGIN:VCALENDAR
VERSION:2.0
PRODID:-//Parkinson Skåne - ECPv6.15.20//NONSGML v1.0//EN
CALSCALE:GREGORIAN
METHOD:PUBLISH
X-ORIGINAL-URL:https://parkinsonskane.se
X-WR-CALDESC:Händelser för Parkinson Skåne
REFRESH-INTERVAL;VALUE=DURATION:PT1H
X-Robots-Tag:noindex
X-PUBLISHED-TTL:PT1H
BEGIN:VTIMEZONE
TZID:Europe/Stockholm
BEGIN:DAYLIGHT
TZOFFSETFROM:+0100
TZOFFSETTO:+0200
TZNAME:CEST
DTSTART:20220327T010000
END:DAYLIGHT
BEGIN:STANDARD
TZOFFSETFROM:+0200
TZOFFSETTO:+0100
TZNAME:CET
DTSTART:20221030T010000
END:STANDARD
BEGIN:DAYLIGHT
TZOFFSETFROM:+0100
TZOFFSETTO:+0200
TZNAME:CEST
DTSTART:20230326T010000
END:DAYLIGHT
BEGIN:STANDARD
TZOFFSETFROM:+0200
TZOFFSETTO:+0100
TZNAME:CET
DTSTART:20231029T010000
END:STANDARD
BEGIN:DAYLIGHT
TZOFFSETFROM:+0100
TZOFFSETTO:+0200
TZNAME:CEST
DTSTART:20240331T010000
END:DAYLIGHT
BEGIN:STANDARD
TZOFFSETFROM:+0200
TZOFFSETTO:+0100
TZNAME:CET
DTSTART:20241027T010000
END:STANDARD
END:VTIMEZONE
BEGIN:VEVENT
DTSTART;TZID=Europe/Stockholm:20230510T150000
DTEND;TZID=Europe/Stockholm:20230510T160000
DTSTAMP:20260426T001111
CREATED:20230213T133926Z
LAST-MODIFIED:20230213T140605Z
UID:10008314-1683730800-1683734400@parkinsonskane.se
SUMMARY:Sydöst har boxning på onsdagar
DESCRIPTION:Måndagar och fredagar kl 10–11\, samt onsdagar kl 15–16 mellan 11/1-17/6 \nPlats: Ystads Sportklubb\, Björnstjernegatan 11\, 271 39 Ystad\nKostnad: Parkinsonträning 500 kr per termin (medlemsavgift inkluderad)\nInfo: Ulf Klausson\, tel: 072-2139293
URL:https://parkinsonskane.se/evenemang/sydost-har-boxning-pa-onsdagar/2023-05-10/
LOCATION:Ystads Sportklubb\, Björnstjernegatan 11\, Ystad\, Skåne\, 271 39\, Sverige
CATEGORIES:Boxträning
ATTACH;FMTTYPE=image/jpeg:https://parkinsonskane.se/wp-content/uploads/2022/12/boxn-sydo.jpg
END:VEVENT
BEGIN:VEVENT
DTSTART;TZID=Europe/Stockholm:20230301T150000
DTEND;TZID=Europe/Stockholm:20230301T160000
DTSTAMP:20260426T001111
CREATED:20230213T133926Z
LAST-MODIFIED:20230213T140605Z
UID:10008304-1677682800-1677686400@parkinsonskane.se
SUMMARY:Sydöst har boxning på onsdagar
DESCRIPTION:Måndagar och fredagar kl 10–11\, samt onsdagar kl 15–16 mellan 11/1-17/6 \nPlats: Ystads Sportklubb\, Björnstjernegatan 11\, 271 39 Ystad\nKostnad: Parkinsonträning 500 kr per termin (medlemsavgift inkluderad)\nInfo: Ulf Klausson\, tel: 072-2139293
URL:https://parkinsonskane.se/evenemang/sydost-har-boxning-pa-onsdagar/2023-03-01/
LOCATION:Ystads Sportklubb\, Björnstjernegatan 11\, Ystad\, Skåne\, 271 39\, Sverige
CATEGORIES:Boxträning
ATTACH;FMTTYPE=image/jpeg:https://parkinsonskane.se/wp-content/uploads/2022/12/boxn-sydo.jpg
END:VEVENT
BEGIN:VEVENT
DTSTART;TZID=Europe/Stockholm:20230517T150000
DTEND;TZID=Europe/Stockholm:20230517T160000
DTSTAMP:20260426T001111
CREATED:20230213T133926Z
LAST-MODIFIED:20230213T140605Z
UID:10008315-1684335600-1684339200@parkinsonskane.se
SUMMARY:Sydöst har boxning på onsdagar
DESCRIPTION:Måndagar och fredagar kl 10–11\, samt onsdagar kl 15–16 mellan 11/1-17/6 \nPlats: Ystads Sportklubb\, Björnstjernegatan 11\, 271 39 Ystad\nKostnad: Parkinsonträning 500 kr per termin (medlemsavgift inkluderad)\nInfo: Ulf Klausson\, tel: 072-2139293
URL:https://parkinsonskane.se/evenemang/sydost-har-boxning-pa-onsdagar/2023-05-17/
LOCATION:Ystads Sportklubb\, Björnstjernegatan 11\, Ystad\, Skåne\, 271 39\, Sverige
CATEGORIES:Boxträning
ATTACH;FMTTYPE=image/jpeg:https://parkinsonskane.se/wp-content/uploads/2022/12/boxn-sydo.jpg
END:VEVENT
BEGIN:VEVENT
DTSTART;TZID=Europe/Stockholm:20230308T150000
DTEND;TZID=Europe/Stockholm:20230308T160000
DTSTAMP:20260426T001111
CREATED:20230213T133926Z
LAST-MODIFIED:20230213T140605Z
UID:10008305-1678287600-1678291200@parkinsonskane.se
SUMMARY:Sydöst har boxning på onsdagar
DESCRIPTION:Måndagar och fredagar kl 10–11\, samt onsdagar kl 15–16 mellan 11/1-17/6 \nPlats: Ystads Sportklubb\, Björnstjernegatan 11\, 271 39 Ystad\nKostnad: Parkinsonträning 500 kr per termin (medlemsavgift inkluderad)\nInfo: Ulf Klausson\, tel: 072-2139293
URL:https://parkinsonskane.se/evenemang/sydost-har-boxning-pa-onsdagar/2023-03-08/
LOCATION:Ystads Sportklubb\, Björnstjernegatan 11\, Ystad\, Skåne\, 271 39\, Sverige
CATEGORIES:Boxträning
ATTACH;FMTTYPE=image/jpeg:https://parkinsonskane.se/wp-content/uploads/2022/12/boxn-sydo.jpg
END:VEVENT
BEGIN:VEVENT
DTSTART;TZID=Europe/Stockholm:20230524T150000
DTEND;TZID=Europe/Stockholm:20230524T160000
DTSTAMP:20260426T001111
CREATED:20230213T133926Z
LAST-MODIFIED:20230213T140605Z
UID:10008316-1684940400-1684944000@parkinsonskane.se
SUMMARY:Sydöst har boxning på onsdagar
DESCRIPTION:Måndagar och fredagar kl 10–11\, samt onsdagar kl 15–16 mellan 11/1-17/6 \nPlats: Ystads Sportklubb\, Björnstjernegatan 11\, 271 39 Ystad\nKostnad: Parkinsonträning 500 kr per termin (medlemsavgift inkluderad)\nInfo: Ulf Klausson\, tel: 072-2139293
URL:https://parkinsonskane.se/evenemang/sydost-har-boxning-pa-onsdagar/2023-05-24/
LOCATION:Ystads Sportklubb\, Björnstjernegatan 11\, Ystad\, Skåne\, 271 39\, Sverige
CATEGORIES:Boxträning
ATTACH;FMTTYPE=image/jpeg:https://parkinsonskane.se/wp-content/uploads/2022/12/boxn-sydo.jpg
END:VEVENT
BEGIN:VEVENT
DTSTART;TZID=Europe/Stockholm:20230315T150000
DTEND;TZID=Europe/Stockholm:20230315T160000
DTSTAMP:20260426T001111
CREATED:20230213T133926Z
LAST-MODIFIED:20230213T140605Z
UID:10008306-1678892400-1678896000@parkinsonskane.se
SUMMARY:Sydöst har boxning på onsdagar
DESCRIPTION:Måndagar och fredagar kl 10–11\, samt onsdagar kl 15–16 mellan 11/1-17/6 \nPlats: Ystads Sportklubb\, Björnstjernegatan 11\, 271 39 Ystad\nKostnad: Parkinsonträning 500 kr per termin (medlemsavgift inkluderad)\nInfo: Ulf Klausson\, tel: 072-2139293
URL:https://parkinsonskane.se/evenemang/sydost-har-boxning-pa-onsdagar/2023-03-15/
LOCATION:Ystads Sportklubb\, Björnstjernegatan 11\, Ystad\, Skåne\, 271 39\, Sverige
CATEGORIES:Boxträning
ATTACH;FMTTYPE=image/jpeg:https://parkinsonskane.se/wp-content/uploads/2022/12/boxn-sydo.jpg
END:VEVENT
BEGIN:VEVENT
DTSTART;TZID=Europe/Stockholm:20230531T150000
DTEND;TZID=Europe/Stockholm:20230531T160000
DTSTAMP:20260426T001111
CREATED:20230213T133926Z
LAST-MODIFIED:20230213T140605Z
UID:10008317-1685545200-1685548800@parkinsonskane.se
SUMMARY:Sydöst har boxning på onsdagar
DESCRIPTION:Måndagar och fredagar kl 10–11\, samt onsdagar kl 15–16 mellan 11/1-17/6 \nPlats: Ystads Sportklubb\, Björnstjernegatan 11\, 271 39 Ystad\nKostnad: Parkinsonträning 500 kr per termin (medlemsavgift inkluderad)\nInfo: Ulf Klausson\, tel: 072-2139293
URL:https://parkinsonskane.se/evenemang/sydost-har-boxning-pa-onsdagar/2023-05-31/
LOCATION:Ystads Sportklubb\, Björnstjernegatan 11\, Ystad\, Skåne\, 271 39\, Sverige
CATEGORIES:Boxträning
ATTACH;FMTTYPE=image/jpeg:https://parkinsonskane.se/wp-content/uploads/2022/12/boxn-sydo.jpg
END:VEVENT
BEGIN:VEVENT
DTSTART;TZID=Europe/Stockholm:20230322T150000
DTEND;TZID=Europe/Stockholm:20230322T160000
DTSTAMP:20260426T001111
CREATED:20230213T133926Z
LAST-MODIFIED:20230213T140605Z
UID:10008307-1679497200-1679500800@parkinsonskane.se
SUMMARY:Sydöst har boxning på onsdagar
DESCRIPTION:Måndagar och fredagar kl 10–11\, samt onsdagar kl 15–16 mellan 11/1-17/6 \nPlats: Ystads Sportklubb\, Björnstjernegatan 11\, 271 39 Ystad\nKostnad: Parkinsonträning 500 kr per termin (medlemsavgift inkluderad)\nInfo: Ulf Klausson\, tel: 072-2139293
URL:https://parkinsonskane.se/evenemang/sydost-har-boxning-pa-onsdagar/2023-03-22/
LOCATION:Ystads Sportklubb\, Björnstjernegatan 11\, Ystad\, Skåne\, 271 39\, Sverige
CATEGORIES:Boxträning
ATTACH;FMTTYPE=image/jpeg:https://parkinsonskane.se/wp-content/uploads/2022/12/boxn-sydo.jpg
END:VEVENT
BEGIN:VEVENT
DTSTART;TZID=Europe/Stockholm:20230607T150000
DTEND;TZID=Europe/Stockholm:20230607T160000
DTSTAMP:20260426T001111
CREATED:20230213T133926Z
LAST-MODIFIED:20230213T140605Z
UID:10008318-1686150000-1686153600@parkinsonskane.se
SUMMARY:Sydöst har boxning på onsdagar
DESCRIPTION:Måndagar och fredagar kl 10–11\, samt onsdagar kl 15–16 mellan 11/1-17/6 \nPlats: Ystads Sportklubb\, Björnstjernegatan 11\, 271 39 Ystad\nKostnad: Parkinsonträning 500 kr per termin (medlemsavgift inkluderad)\nInfo: Ulf Klausson\, tel: 072-2139293
URL:https://parkinsonskane.se/evenemang/sydost-har-boxning-pa-onsdagar/2023-06-07/
LOCATION:Ystads Sportklubb\, Björnstjernegatan 11\, Ystad\, Skåne\, 271 39\, Sverige
CATEGORIES:Boxträning
ATTACH;FMTTYPE=image/jpeg:https://parkinsonskane.se/wp-content/uploads/2022/12/boxn-sydo.jpg
END:VEVENT
BEGIN:VEVENT
DTSTART;TZID=Europe/Stockholm:20230329T150000
DTEND;TZID=Europe/Stockholm:20230329T160000
DTSTAMP:20260426T001111
CREATED:20230213T133926Z
LAST-MODIFIED:20230213T140605Z
UID:10008308-1680102000-1680105600@parkinsonskane.se
SUMMARY:Sydöst har boxning på onsdagar
DESCRIPTION:Måndagar och fredagar kl 10–11\, samt onsdagar kl 15–16 mellan 11/1-17/6 \nPlats: Ystads Sportklubb\, Björnstjernegatan 11\, 271 39 Ystad\nKostnad: Parkinsonträning 500 kr per termin (medlemsavgift inkluderad)\nInfo: Ulf Klausson\, tel: 072-2139293
URL:https://parkinsonskane.se/evenemang/sydost-har-boxning-pa-onsdagar/2023-03-29/
LOCATION:Ystads Sportklubb\, Björnstjernegatan 11\, Ystad\, Skåne\, 271 39\, Sverige
CATEGORIES:Boxträning
ATTACH;FMTTYPE=image/jpeg:https://parkinsonskane.se/wp-content/uploads/2022/12/boxn-sydo.jpg
END:VEVENT
BEGIN:VEVENT
DTSTART;TZID=Europe/Stockholm:20230614T150000
DTEND;TZID=Europe/Stockholm:20230614T160000
DTSTAMP:20260426T001111
CREATED:20230213T133926Z
LAST-MODIFIED:20230213T140605Z
UID:10008319-1686754800-1686758400@parkinsonskane.se
SUMMARY:Sydöst har boxning på onsdagar
DESCRIPTION:Måndagar och fredagar kl 10–11\, samt onsdagar kl 15–16 mellan 11/1-17/6 \nPlats: Ystads Sportklubb\, Björnstjernegatan 11\, 271 39 Ystad\nKostnad: Parkinsonträning 500 kr per termin (medlemsavgift inkluderad)\nInfo: Ulf Klausson\, tel: 072-2139293
URL:https://parkinsonskane.se/evenemang/sydost-har-boxning-pa-onsdagar/2023-06-14/
LOCATION:Ystads Sportklubb\, Björnstjernegatan 11\, Ystad\, Skåne\, 271 39\, Sverige
CATEGORIES:Boxträning
ATTACH;FMTTYPE=image/jpeg:https://parkinsonskane.se/wp-content/uploads/2022/12/boxn-sydo.jpg
END:VEVENT
BEGIN:VEVENT
DTSTART;TZID=Europe/Stockholm:20230405T150000
DTEND;TZID=Europe/Stockholm:20230405T160000
DTSTAMP:20260426T001111
CREATED:20230213T133926Z
LAST-MODIFIED:20230213T140605Z
UID:10008309-1680706800-1680710400@parkinsonskane.se
SUMMARY:Sydöst har boxning på onsdagar
DESCRIPTION:Måndagar och fredagar kl 10–11\, samt onsdagar kl 15–16 mellan 11/1-17/6 \nPlats: Ystads Sportklubb\, Björnstjernegatan 11\, 271 39 Ystad\nKostnad: Parkinsonträning 500 kr per termin (medlemsavgift inkluderad)\nInfo: Ulf Klausson\, tel: 072-2139293
URL:https://parkinsonskane.se/evenemang/sydost-har-boxning-pa-onsdagar/2023-04-05/
LOCATION:Ystads Sportklubb\, Björnstjernegatan 11\, Ystad\, Skåne\, 271 39\, Sverige
CATEGORIES:Boxträning
ATTACH;FMTTYPE=image/jpeg:https://parkinsonskane.se/wp-content/uploads/2022/12/boxn-sydo.jpg
END:VEVENT
BEGIN:VEVENT
DTSTART;TZID=Europe/Stockholm:20230412T150000
DTEND;TZID=Europe/Stockholm:20230412T160000
DTSTAMP:20260426T001111
CREATED:20230213T133926Z
LAST-MODIFIED:20230213T140605Z
UID:10008310-1681311600-1681315200@parkinsonskane.se
SUMMARY:Sydöst har boxning på onsdagar
DESCRIPTION:Måndagar och fredagar kl 10–11\, samt onsdagar kl 15–16 mellan 11/1-17/6 \nPlats: Ystads Sportklubb\, Björnstjernegatan 11\, 271 39 Ystad\nKostnad: Parkinsonträning 500 kr per termin (medlemsavgift inkluderad)\nInfo: Ulf Klausson\, tel: 072-2139293
URL:https://parkinsonskane.se/evenemang/sydost-har-boxning-pa-onsdagar/2023-04-12/
LOCATION:Ystads Sportklubb\, Björnstjernegatan 11\, Ystad\, Skåne\, 271 39\, Sverige
CATEGORIES:Boxträning
ATTACH;FMTTYPE=image/jpeg:https://parkinsonskane.se/wp-content/uploads/2022/12/boxn-sydo.jpg
END:VEVENT
BEGIN:VEVENT
DTSTART;TZID=Europe/Stockholm:20230419T150000
DTEND;TZID=Europe/Stockholm:20230419T160000
DTSTAMP:20260426T001111
CREATED:20230213T133926Z
LAST-MODIFIED:20230213T140605Z
UID:10008311-1681916400-1681920000@parkinsonskane.se
SUMMARY:Sydöst har boxning på onsdagar
DESCRIPTION:Måndagar och fredagar kl 10–11\, samt onsdagar kl 15–16 mellan 11/1-17/6 \nPlats: Ystads Sportklubb\, Björnstjernegatan 11\, 271 39 Ystad\nKostnad: Parkinsonträning 500 kr per termin (medlemsavgift inkluderad)\nInfo: Ulf Klausson\, tel: 072-2139293
URL:https://parkinsonskane.se/evenemang/sydost-har-boxning-pa-onsdagar/2023-04-19/
LOCATION:Ystads Sportklubb\, Björnstjernegatan 11\, Ystad\, Skåne\, 271 39\, Sverige
CATEGORIES:Boxträning
ATTACH;FMTTYPE=image/jpeg:https://parkinsonskane.se/wp-content/uploads/2022/12/boxn-sydo.jpg
END:VEVENT
BEGIN:VEVENT
DTSTART;TZID=Europe/Stockholm:20230426T150000
DTEND;TZID=Europe/Stockholm:20230426T160000
DTSTAMP:20260426T001111
CREATED:20230213T133926Z
LAST-MODIFIED:20230213T140605Z
UID:10008312-1682521200-1682524800@parkinsonskane.se
SUMMARY:Sydöst har boxning på onsdagar
DESCRIPTION:Måndagar och fredagar kl 10–11\, samt onsdagar kl 15–16 mellan 11/1-17/6 \nPlats: Ystads Sportklubb\, Björnstjernegatan 11\, 271 39 Ystad\nKostnad: Parkinsonträning 500 kr per termin (medlemsavgift inkluderad)\nInfo: Ulf Klausson\, tel: 072-2139293
URL:https://parkinsonskane.se/evenemang/sydost-har-boxning-pa-onsdagar/2023-04-26/
LOCATION:Ystads Sportklubb\, Björnstjernegatan 11\, Ystad\, Skåne\, 271 39\, Sverige
CATEGORIES:Boxträning
ATTACH;FMTTYPE=image/jpeg:https://parkinsonskane.se/wp-content/uploads/2022/12/boxn-sydo.jpg
END:VEVENT
BEGIN:VEVENT
DTSTART;TZID=Europe/Stockholm:20230403T100000
DTEND;TZID=Europe/Stockholm:20230403T110000
DTSTAMP:20260426T001111
CREATED:20230208T104506Z
LAST-MODIFIED:20230208T104506Z
UID:10008227-1680516000-1680519600@parkinsonskane.se
SUMMARY:Sydöst har boxning på måndagar
DESCRIPTION:Måndagar och fredagar kl 10–11\, samt onsdagar kl 15–16 mellan 11/1-17/6 \nPlats: Ystads Sportklubb\, Björnstjernegatan 11\, 271 39 Ystad\nKostnad: Parkinsonträning 500 kr per termin (medlemsavgift inkluderad)\nInfo: Ulf Klausson\, tel: 072-2139293
URL:https://parkinsonskane.se/evenemang/sydost-har-boxning-pa-mandagar-2/2023-04-03/
LOCATION:Ystads Sportklubb\, Björnstjernegatan 11\, Ystad\, Skåne\, 271 39\, Sverige
CATEGORIES:Boxträning
ATTACH;FMTTYPE=image/jpeg:https://parkinsonskane.se/wp-content/uploads/2022/12/boxn-sydo.jpg
END:VEVENT
BEGIN:VEVENT
DTSTART;TZID=Europe/Stockholm:20230410T100000
DTEND;TZID=Europe/Stockholm:20230410T110000
DTSTAMP:20260426T001111
CREATED:20230208T104506Z
LAST-MODIFIED:20230208T104506Z
UID:10008228-1681120800-1681124400@parkinsonskane.se
SUMMARY:Sydöst har boxning på måndagar
DESCRIPTION:Måndagar och fredagar kl 10–11\, samt onsdagar kl 15–16 mellan 11/1-17/6 \nPlats: Ystads Sportklubb\, Björnstjernegatan 11\, 271 39 Ystad\nKostnad: Parkinsonträning 500 kr per termin (medlemsavgift inkluderad)\nInfo: Ulf Klausson\, tel: 072-2139293
URL:https://parkinsonskane.se/evenemang/sydost-har-boxning-pa-mandagar-2/2023-04-10/
LOCATION:Ystads Sportklubb\, Björnstjernegatan 11\, Ystad\, Skåne\, 271 39\, Sverige
CATEGORIES:Boxträning
ATTACH;FMTTYPE=image/jpeg:https://parkinsonskane.se/wp-content/uploads/2022/12/boxn-sydo.jpg
END:VEVENT
BEGIN:VEVENT
DTSTART;TZID=Europe/Stockholm:20230417T100000
DTEND;TZID=Europe/Stockholm:20230417T110000
DTSTAMP:20260426T001111
CREATED:20230208T104506Z
LAST-MODIFIED:20230208T104506Z
UID:10008229-1681725600-1681729200@parkinsonskane.se
SUMMARY:Sydöst har boxning på måndagar
DESCRIPTION:Måndagar och fredagar kl 10–11\, samt onsdagar kl 15–16 mellan 11/1-17/6 \nPlats: Ystads Sportklubb\, Björnstjernegatan 11\, 271 39 Ystad\nKostnad: Parkinsonträning 500 kr per termin (medlemsavgift inkluderad)\nInfo: Ulf Klausson\, tel: 072-2139293
URL:https://parkinsonskane.se/evenemang/sydost-har-boxning-pa-mandagar-2/2023-04-17/
LOCATION:Ystads Sportklubb\, Björnstjernegatan 11\, Ystad\, Skåne\, 271 39\, Sverige
CATEGORIES:Boxträning
ATTACH;FMTTYPE=image/jpeg:https://parkinsonskane.se/wp-content/uploads/2022/12/boxn-sydo.jpg
END:VEVENT
BEGIN:VEVENT
DTSTART;TZID=Europe/Stockholm:20230424T100000
DTEND;TZID=Europe/Stockholm:20230424T110000
DTSTAMP:20260426T001111
CREATED:20230208T104506Z
LAST-MODIFIED:20230208T104506Z
UID:10008230-1682330400-1682334000@parkinsonskane.se
SUMMARY:Sydöst har boxning på måndagar
DESCRIPTION:Måndagar och fredagar kl 10–11\, samt onsdagar kl 15–16 mellan 11/1-17/6 \nPlats: Ystads Sportklubb\, Björnstjernegatan 11\, 271 39 Ystad\nKostnad: Parkinsonträning 500 kr per termin (medlemsavgift inkluderad)\nInfo: Ulf Klausson\, tel: 072-2139293
URL:https://parkinsonskane.se/evenemang/sydost-har-boxning-pa-mandagar-2/2023-04-24/
LOCATION:Ystads Sportklubb\, Björnstjernegatan 11\, Ystad\, Skåne\, 271 39\, Sverige
CATEGORIES:Boxträning
ATTACH;FMTTYPE=image/jpeg:https://parkinsonskane.se/wp-content/uploads/2022/12/boxn-sydo.jpg
END:VEVENT
BEGIN:VEVENT
DTSTART;TZID=Europe/Stockholm:20230213T100000
DTEND;TZID=Europe/Stockholm:20230213T110000
DTSTAMP:20260426T001111
CREATED:20230208T104506Z
LAST-MODIFIED:20230208T104506Z
UID:10008220-1676282400-1676286000@parkinsonskane.se
SUMMARY:Sydöst har boxning på måndagar
DESCRIPTION:Måndagar och fredagar kl 10–11\, samt onsdagar kl 15–16 mellan 11/1-17/6 \nPlats: Ystads Sportklubb\, Björnstjernegatan 11\, 271 39 Ystad\nKostnad: Parkinsonträning 500 kr per termin (medlemsavgift inkluderad)\nInfo: Ulf Klausson\, tel: 072-2139293
URL:https://parkinsonskane.se/evenemang/sydost-har-boxning-pa-mandagar-2/2023-02-13/
LOCATION:Ystads Sportklubb\, Björnstjernegatan 11\, Ystad\, Skåne\, 271 39\, Sverige
CATEGORIES:Boxträning
ATTACH;FMTTYPE=image/jpeg:https://parkinsonskane.se/wp-content/uploads/2022/12/boxn-sydo.jpg
END:VEVENT
BEGIN:VEVENT
DTSTART;TZID=Europe/Stockholm:20230501T100000
DTEND;TZID=Europe/Stockholm:20230501T110000
DTSTAMP:20260426T001111
CREATED:20230208T104506Z
LAST-MODIFIED:20230208T104506Z
UID:10008231-1682935200-1682938800@parkinsonskane.se
SUMMARY:Sydöst har boxning på måndagar
DESCRIPTION:Måndagar och fredagar kl 10–11\, samt onsdagar kl 15–16 mellan 11/1-17/6 \nPlats: Ystads Sportklubb\, Björnstjernegatan 11\, 271 39 Ystad\nKostnad: Parkinsonträning 500 kr per termin (medlemsavgift inkluderad)\nInfo: Ulf Klausson\, tel: 072-2139293
URL:https://parkinsonskane.se/evenemang/sydost-har-boxning-pa-mandagar-2/2023-05-01/
LOCATION:Ystads Sportklubb\, Björnstjernegatan 11\, Ystad\, Skåne\, 271 39\, Sverige
CATEGORIES:Boxträning
ATTACH;FMTTYPE=image/jpeg:https://parkinsonskane.se/wp-content/uploads/2022/12/boxn-sydo.jpg
END:VEVENT
BEGIN:VEVENT
DTSTART;TZID=Europe/Stockholm:20230220T100000
DTEND;TZID=Europe/Stockholm:20230220T110000
DTSTAMP:20260426T001111
CREATED:20230208T104506Z
LAST-MODIFIED:20230208T104506Z
UID:10008221-1676887200-1676890800@parkinsonskane.se
SUMMARY:Sydöst har boxning på måndagar
DESCRIPTION:Måndagar och fredagar kl 10–11\, samt onsdagar kl 15–16 mellan 11/1-17/6 \nPlats: Ystads Sportklubb\, Björnstjernegatan 11\, 271 39 Ystad\nKostnad: Parkinsonträning 500 kr per termin (medlemsavgift inkluderad)\nInfo: Ulf Klausson\, tel: 072-2139293
URL:https://parkinsonskane.se/evenemang/sydost-har-boxning-pa-mandagar-2/2023-02-20/
LOCATION:Ystads Sportklubb\, Björnstjernegatan 11\, Ystad\, Skåne\, 271 39\, Sverige
CATEGORIES:Boxträning
ATTACH;FMTTYPE=image/jpeg:https://parkinsonskane.se/wp-content/uploads/2022/12/boxn-sydo.jpg
END:VEVENT
BEGIN:VEVENT
DTSTART;TZID=Europe/Stockholm:20230508T100000
DTEND;TZID=Europe/Stockholm:20230508T110000
DTSTAMP:20260426T001111
CREATED:20230208T104506Z
LAST-MODIFIED:20230208T104506Z
UID:10008232-1683540000-1683543600@parkinsonskane.se
SUMMARY:Sydöst har boxning på måndagar
DESCRIPTION:Måndagar och fredagar kl 10–11\, samt onsdagar kl 15–16 mellan 11/1-17/6 \nPlats: Ystads Sportklubb\, Björnstjernegatan 11\, 271 39 Ystad\nKostnad: Parkinsonträning 500 kr per termin (medlemsavgift inkluderad)\nInfo: Ulf Klausson\, tel: 072-2139293
URL:https://parkinsonskane.se/evenemang/sydost-har-boxning-pa-mandagar-2/2023-05-08/
LOCATION:Ystads Sportklubb\, Björnstjernegatan 11\, Ystad\, Skåne\, 271 39\, Sverige
CATEGORIES:Boxträning
ATTACH;FMTTYPE=image/jpeg:https://parkinsonskane.se/wp-content/uploads/2022/12/boxn-sydo.jpg
END:VEVENT
BEGIN:VEVENT
DTSTART;TZID=Europe/Stockholm:20230227T100000
DTEND;TZID=Europe/Stockholm:20230227T110000
DTSTAMP:20260426T001111
CREATED:20230208T104506Z
LAST-MODIFIED:20230208T104506Z
UID:10008222-1677492000-1677495600@parkinsonskane.se
SUMMARY:Sydöst har boxning på måndagar
DESCRIPTION:Måndagar och fredagar kl 10–11\, samt onsdagar kl 15–16 mellan 11/1-17/6 \nPlats: Ystads Sportklubb\, Björnstjernegatan 11\, 271 39 Ystad\nKostnad: Parkinsonträning 500 kr per termin (medlemsavgift inkluderad)\nInfo: Ulf Klausson\, tel: 072-2139293
URL:https://parkinsonskane.se/evenemang/sydost-har-boxning-pa-mandagar-2/2023-02-27/
LOCATION:Ystads Sportklubb\, Björnstjernegatan 11\, Ystad\, Skåne\, 271 39\, Sverige
CATEGORIES:Boxträning
ATTACH;FMTTYPE=image/jpeg:https://parkinsonskane.se/wp-content/uploads/2022/12/boxn-sydo.jpg
END:VEVENT
BEGIN:VEVENT
DTSTART;TZID=Europe/Stockholm:20230515T100000
DTEND;TZID=Europe/Stockholm:20230515T110000
DTSTAMP:20260426T001111
CREATED:20230208T104506Z
LAST-MODIFIED:20230208T104506Z
UID:10008233-1684144800-1684148400@parkinsonskane.se
SUMMARY:Sydöst har boxning på måndagar
DESCRIPTION:Måndagar och fredagar kl 10–11\, samt onsdagar kl 15–16 mellan 11/1-17/6 \nPlats: Ystads Sportklubb\, Björnstjernegatan 11\, 271 39 Ystad\nKostnad: Parkinsonträning 500 kr per termin (medlemsavgift inkluderad)\nInfo: Ulf Klausson\, tel: 072-2139293
URL:https://parkinsonskane.se/evenemang/sydost-har-boxning-pa-mandagar-2/2023-05-15/
LOCATION:Ystads Sportklubb\, Björnstjernegatan 11\, Ystad\, Skåne\, 271 39\, Sverige
CATEGORIES:Boxträning
ATTACH;FMTTYPE=image/jpeg:https://parkinsonskane.se/wp-content/uploads/2022/12/boxn-sydo.jpg
END:VEVENT
BEGIN:VEVENT
DTSTART;TZID=Europe/Stockholm:20230306T100000
DTEND;TZID=Europe/Stockholm:20230306T110000
DTSTAMP:20260426T001111
CREATED:20230208T104506Z
LAST-MODIFIED:20230208T104506Z
UID:10008223-1678096800-1678100400@parkinsonskane.se
SUMMARY:Sydöst har boxning på måndagar
DESCRIPTION:Måndagar och fredagar kl 10–11\, samt onsdagar kl 15–16 mellan 11/1-17/6 \nPlats: Ystads Sportklubb\, Björnstjernegatan 11\, 271 39 Ystad\nKostnad: Parkinsonträning 500 kr per termin (medlemsavgift inkluderad)\nInfo: Ulf Klausson\, tel: 072-2139293
URL:https://parkinsonskane.se/evenemang/sydost-har-boxning-pa-mandagar-2/2023-03-06/
LOCATION:Ystads Sportklubb\, Björnstjernegatan 11\, Ystad\, Skåne\, 271 39\, Sverige
CATEGORIES:Boxträning
ATTACH;FMTTYPE=image/jpeg:https://parkinsonskane.se/wp-content/uploads/2022/12/boxn-sydo.jpg
END:VEVENT
BEGIN:VEVENT
DTSTART;TZID=Europe/Stockholm:20230522T100000
DTEND;TZID=Europe/Stockholm:20230522T110000
DTSTAMP:20260426T001111
CREATED:20230208T104506Z
LAST-MODIFIED:20230208T104506Z
UID:10008234-1684749600-1684753200@parkinsonskane.se
SUMMARY:Sydöst har boxning på måndagar
DESCRIPTION:Måndagar och fredagar kl 10–11\, samt onsdagar kl 15–16 mellan 11/1-17/6 \nPlats: Ystads Sportklubb\, Björnstjernegatan 11\, 271 39 Ystad\nKostnad: Parkinsonträning 500 kr per termin (medlemsavgift inkluderad)\nInfo: Ulf Klausson\, tel: 072-2139293
URL:https://parkinsonskane.se/evenemang/sydost-har-boxning-pa-mandagar-2/2023-05-22/
LOCATION:Ystads Sportklubb\, Björnstjernegatan 11\, Ystad\, Skåne\, 271 39\, Sverige
CATEGORIES:Boxträning
ATTACH;FMTTYPE=image/jpeg:https://parkinsonskane.se/wp-content/uploads/2022/12/boxn-sydo.jpg
END:VEVENT
BEGIN:VEVENT
DTSTART;TZID=Europe/Stockholm:20230313T100000
DTEND;TZID=Europe/Stockholm:20230313T110000
DTSTAMP:20260426T001111
CREATED:20230208T104506Z
LAST-MODIFIED:20230208T104506Z
UID:10008224-1678701600-1678705200@parkinsonskane.se
SUMMARY:Sydöst har boxning på måndagar
DESCRIPTION:Måndagar och fredagar kl 10–11\, samt onsdagar kl 15–16 mellan 11/1-17/6 \nPlats: Ystads Sportklubb\, Björnstjernegatan 11\, 271 39 Ystad\nKostnad: Parkinsonträning 500 kr per termin (medlemsavgift inkluderad)\nInfo: Ulf Klausson\, tel: 072-2139293
URL:https://parkinsonskane.se/evenemang/sydost-har-boxning-pa-mandagar-2/2023-03-13/
LOCATION:Ystads Sportklubb\, Björnstjernegatan 11\, Ystad\, Skåne\, 271 39\, Sverige
CATEGORIES:Boxträning
ATTACH;FMTTYPE=image/jpeg:https://parkinsonskane.se/wp-content/uploads/2022/12/boxn-sydo.jpg
END:VEVENT
BEGIN:VEVENT
DTSTART;TZID=Europe/Stockholm:20230529T100000
DTEND;TZID=Europe/Stockholm:20230529T110000
DTSTAMP:20260426T001111
CREATED:20230208T104506Z
LAST-MODIFIED:20230208T104506Z
UID:10008235-1685354400-1685358000@parkinsonskane.se
SUMMARY:Sydöst har boxning på måndagar
DESCRIPTION:Måndagar och fredagar kl 10–11\, samt onsdagar kl 15–16 mellan 11/1-17/6 \nPlats: Ystads Sportklubb\, Björnstjernegatan 11\, 271 39 Ystad\nKostnad: Parkinsonträning 500 kr per termin (medlemsavgift inkluderad)\nInfo: Ulf Klausson\, tel: 072-2139293
URL:https://parkinsonskane.se/evenemang/sydost-har-boxning-pa-mandagar-2/2023-05-29/
LOCATION:Ystads Sportklubb\, Björnstjernegatan 11\, Ystad\, Skåne\, 271 39\, Sverige
CATEGORIES:Boxträning
ATTACH;FMTTYPE=image/jpeg:https://parkinsonskane.se/wp-content/uploads/2022/12/boxn-sydo.jpg
END:VEVENT
BEGIN:VEVENT
DTSTART;TZID=Europe/Stockholm:20230320T100000
DTEND;TZID=Europe/Stockholm:20230320T110000
DTSTAMP:20260426T001111
CREATED:20230208T104506Z
LAST-MODIFIED:20230208T104506Z
UID:10008225-1679306400-1679310000@parkinsonskane.se
SUMMARY:Sydöst har boxning på måndagar
DESCRIPTION:Måndagar och fredagar kl 10–11\, samt onsdagar kl 15–16 mellan 11/1-17/6 \nPlats: Ystads Sportklubb\, Björnstjernegatan 11\, 271 39 Ystad\nKostnad: Parkinsonträning 500 kr per termin (medlemsavgift inkluderad)\nInfo: Ulf Klausson\, tel: 072-2139293
URL:https://parkinsonskane.se/evenemang/sydost-har-boxning-pa-mandagar-2/2023-03-20/
LOCATION:Ystads Sportklubb\, Björnstjernegatan 11\, Ystad\, Skåne\, 271 39\, Sverige
CATEGORIES:Boxträning
ATTACH;FMTTYPE=image/jpeg:https://parkinsonskane.se/wp-content/uploads/2022/12/boxn-sydo.jpg
END:VEVENT
END:VCALENDAR